BEGIN:VCALENDAR
VERSION:2.0
PRODID:-//Crosstown Arts - ECPv6.15.17.1//NONSGML v1.0//EN
CALSCALE:GREGORIAN
METHOD:PUBLISH
X-ORIGINAL-URL:https://crosstownarts.org
X-WR-CALDESC:Events for Crosstown Arts
REFRESH-INTERVAL;VALUE=DURATION:PT1H
X-Robots-Tag:noindex
X-PUBLISHED-TTL:PT1H
BEGIN:VTIMEZONE
TZID:America/Chicago
BEGIN:DAYLIGHT
TZOFFSETFROM:-0600
TZOFFSETTO:-0500
TZNAME:CDT
DTSTART:20150308T080000
END:DAYLIGHT
BEGIN:STANDARD
TZOFFSETFROM:-0500
TZOFFSETTO:-0600
TZNAME:CST
DTSTART:20151101T070000
END:STANDARD
BEGIN:DAYLIGHT
TZOFFSETFROM:-0600
TZOFFSETTO:-0500
TZNAME:CDT
DTSTART:20160313T080000
END:DAYLIGHT
BEGIN:STANDARD
TZOFFSETFROM:-0500
TZOFFSETTO:-0600
TZNAME:CST
DTSTART:20161106T070000
END:STANDARD
BEGIN:DAYLIGHT
TZOFFSETFROM:-0600
TZOFFSETTO:-0500
TZNAME:CDT
DTSTART:20170312T080000
END:DAYLIGHT
BEGIN:STANDARD
TZOFFSETFROM:-0500
TZOFFSETTO:-0600
TZNAME:CST
DTSTART:20171105T070000
END:STANDARD
END:VTIMEZONE
BEGIN:VEVENT
DTSTART;TZID=America/Chicago:20161210T040000
DTEND;TZID=America/Chicago:20161210T100000
DTSTAMP:20260423T122208
CREATED:20161118T220023Z
LAST-MODIFIED:20161202T191652Z
UID:10002889-1481342400-1481364000@crosstownarts.org
SUMMARY:Crosstown Concourse Job Fair
DESCRIPTION:Companies to be located in Crosstown Concourse will be on-hand to discuss more than 100 available employment opportunities. The fair will be set up in the parking lot behind the Cleveland Street Flea Market. On-street parking is available on Garland and McNeil. \n\nEmployers will include:\nChurch Health\nCommercial Advisors\nCrosstown Arts\nCurb Market\nMethodist Healthcare\nLEDIC\nNexAir\nISS Facility Services\nALSAC/St. Jude\nMama Gaia\nG4S \nOther participants:\nA Step Ahead Foundation\nTech 901\nMemPops\nCity Leadership\nFrench Truck Coffee
URL:https://crosstownarts.org/calendar/crosstown-concourse-job-fair/
LOCATION:Parking lot behind Cleveland Street Flea Market\, 438 N. Cleveland\, Memphis\, TN\, 38104\, United States
CATEGORIES:Programs
ATTACH;FMTTYPE=image/png:https://crosstownarts.org/wp-content/uploads/2016/11/Screen-Shot-2016-11-18-at-7.40.41-PM.png
GEO:35.1505926;-90.0135933
X-APPLE-STRUCTURED-LOCATION;VALUE=URI;X-ADDRESS=Parking lot behind Cleveland Street Flea Market 438 N. Cleveland Memphis TN 38104 United States;X-APPLE-RADIUS=500;X-TITLE=438 N. Cleveland:geo:-90.0135933,35.1505926
END:VEVENT
END:VCALENDAR