BEGIN:VCALENDAR
VERSION:2.0
PRODID:-//Crosstown Arts - ECPv6.15.17.1//NONSGML v1.0//EN
CALSCALE:GREGORIAN
METHOD:PUBLISH
X-WR-CALNAME:Crosstown Arts
X-ORIGINAL-URL:https://crosstownarts.org
X-WR-CALDESC:Events for Crosstown Arts
REFRESH-INTERVAL;VALUE=DURATION:PT1H
X-Robots-Tag:noindex
X-PUBLISHED-TTL:PT1H
BEGIN:VTIMEZONE
TZID:America/Chicago
BEGIN:DAYLIGHT
TZOFFSETFROM:-0600
TZOFFSETTO:-0500
TZNAME:CDT
DTSTART:20150308T080000
END:DAYLIGHT
BEGIN:STANDARD
TZOFFSETFROM:-0500
TZOFFSETTO:-0600
TZNAME:CST
DTSTART:20151101T070000
END:STANDARD
BEGIN:DAYLIGHT
TZOFFSETFROM:-0600
TZOFFSETTO:-0500
TZNAME:CDT
DTSTART:20160313T080000
END:DAYLIGHT
BEGIN:STANDARD
TZOFFSETFROM:-0500
TZOFFSETTO:-0600
TZNAME:CST
DTSTART:20161106T070000
END:STANDARD
BEGIN:DAYLIGHT
TZOFFSETFROM:-0600
TZOFFSETTO:-0500
TZNAME:CDT
DTSTART:20170312T080000
END:DAYLIGHT
BEGIN:STANDARD
TZOFFSETFROM:-0500
TZOFFSETTO:-0600
TZNAME:CST
DTSTART:20171105T070000
END:STANDARD
END:VTIMEZONE
BEGIN:VEVENT
DTSTART;TZID=America/Chicago:20160922T123000
DTEND;TZID=America/Chicago:20160922T153000
DTSTAMP:20260424T093524
CREATED:20160902T162429Z
LAST-MODIFIED:20160902T173856Z
UID:10002837-1474547400-1474558200@crosstownarts.org
SUMMARY:Exhibit: Hope
DESCRIPTION:On view at Arts on the Grounds at New Hope Christian Academy\nOrganized by Crosstown Arts and Elliot Perry in collaboration with New Hope\n\n\n\nElliot Perry and Crosstown Arts are collaborating with New Hope Christian Academy (NHCA)\, an urban elementary school in the Frayser community of Memphis\, to curate Exhibit: Hope. The show is a component of a larger arts-focused fundraising event\, Arts on the Grounds\, that will celebrate and benefit NHCA and its Arts Academy program. \n\nLester Merriweather\nGreely Myatt\nTerry Lynn\nKong Wee Pang\nCathy Lancaster\nNancy Dorman\nEmily Ozier\nCathy Graham\nCarl Moore\nMelody Weintraub\nMary Jo Karimnia\nHamlett Dobbins\nRachael Grant\nLawrence Matthews\nPinkney Herbert\nYancy Villa Calvo\nDanny Broadway\nChloe York\nSusan Maakestad\n\n\n  \nNew Hope currently enrolls over 420 students from grades PK3 – 6th and is now in its 20th year. The school offers a challenging intellectual and Christ-centered learning environment with a wide range of academic and extracurricular opportunities for its students. The unique school grounds consist of a working “urban” farm\, an adjacent “urban” forest of several acres (for experimental outdoor learning)\, as well as a STEAM-inspired maker space. Through these upcoming events\, we look forward to raising awareness of the future needs (and current highlights) of NHCA’s growing Arts Academy program. \n\nFor more information\, please contact Gray Byrd\, Development Coordinator at New Hope Christian Academy at gbyrd@newhopememphis.org.
URL:https://crosstownarts.org/calendar/exhibit-hope/
LOCATION:New Hope Christian Academy\, 3000 University St\, Memphis\, TN\, 38127\, United States
CATEGORIES:Gallery
ATTACH;FMTTYPE=image/jpeg:https://crosstownarts.org/wp-content/uploads/2016/09/C_Moore.jpg
GEO:35.2077197;-89.989726
X-APPLE-STRUCTURED-LOCATION;VALUE=URI;X-ADDRESS=New Hope Christian Academy 3000 University St Memphis TN 38127 United States;X-APPLE-RADIUS=500;X-TITLE=3000 University St:geo:-89.989726,35.2077197
END:VEVENT
END:VCALENDAR