BEGIN:VCALENDAR
VERSION:2.0
PRODID:-//Crosstown Arts - ECPv6.15.17.1//NONSGML v1.0//EN
CALSCALE:GREGORIAN
METHOD:PUBLISH
X-WR-CALNAME:Crosstown Arts
X-ORIGINAL-URL:https://crosstownarts.org
X-WR-CALDESC:Events for Crosstown Arts
REFRESH-INTERVAL;VALUE=DURATION:PT1H
X-Robots-Tag:noindex
X-PUBLISHED-TTL:PT1H
BEGIN:VTIMEZONE
TZID:America/Chicago
BEGIN:DAYLIGHT
TZOFFSETFROM:-0600
TZOFFSETTO:-0500
TZNAME:CDT
DTSTART:20160313T080000
END:DAYLIGHT
BEGIN:STANDARD
TZOFFSETFROM:-0500
TZOFFSETTO:-0600
TZNAME:CST
DTSTART:20161106T070000
END:STANDARD
BEGIN:DAYLIGHT
TZOFFSETFROM:-0600
TZOFFSETTO:-0500
TZNAME:CDT
DTSTART:20170312T080000
END:DAYLIGHT
BEGIN:STANDARD
TZOFFSETFROM:-0500
TZOFFSETTO:-0600
TZNAME:CST
DTSTART:20171105T070000
END:STANDARD
BEGIN:DAYLIGHT
TZOFFSETFROM:-0600
TZOFFSETTO:-0500
TZNAME:CDT
DTSTART:20180311T080000
END:DAYLIGHT
BEGIN:STANDARD
TZOFFSETFROM:-0500
TZOFFSETTO:-0600
TZNAME:CST
DTSTART:20181104T070000
END:STANDARD
END:VTIMEZONE
BEGIN:VEVENT
DTSTART;TZID=America/Chicago:20170619T120000
DTEND;TZID=America/Chicago:20170619T130000
DTSTAMP:20260425T162851
CREATED:20170613T180224Z
LAST-MODIFIED:20170613T214439Z
UID:10003077-1497873600-1497877200@crosstownarts.org
SUMMARY:Connecting Crosstown: Curb Market Tour
DESCRIPTION:We invite residents and business owners in Crosstown to join us and meet your neighbors as we take a peek at Curb Market’s new space inside Crosstown Concourse. \nCurb Market specializes in locally grown produce\, dairy\, meats\, craft beers\, and more. \nThe tour will be begin at 5 p.m. Light refreshments will be served. \nConnecting Crosstown is a monthly event series organized by Crosstown Arts. \nFacebook invite
URL:https://crosstownarts.org/calendar/connecting-crosstown-curb-market-tour/
LOCATION:Curb Market\, 495 N. Watkins\, Suite #163\, Memphis\, TN\, United States
CATEGORIES:Programs
ATTACH;FMTTYPE=image/jpeg:https://crosstownarts.org/wp-content/uploads/2017/06/Curb-Market-peek.jpg
END:VEVENT
END:VCALENDAR