BEGIN:VCALENDAR
VERSION:2.0
PRODID:-//Crosstown Arts - ECPv6.15.17.1//NONSGML v1.0//EN
CALSCALE:GREGORIAN
METHOD:PUBLISH
X-ORIGINAL-URL:https://crosstownarts.org
X-WR-CALDESC:Events for Crosstown Arts
REFRESH-INTERVAL;VALUE=DURATION:PT1H
X-Robots-Tag:noindex
X-PUBLISHED-TTL:PT1H
BEGIN:VTIMEZONE
TZID:America/Chicago
BEGIN:DAYLIGHT
TZOFFSETFROM:-0600
TZOFFSETTO:-0500
TZNAME:CDT
DTSTART:20120311T080000
END:DAYLIGHT
BEGIN:STANDARD
TZOFFSETFROM:-0500
TZOFFSETTO:-0600
TZNAME:CST
DTSTART:20121104T070000
END:STANDARD
BEGIN:DAYLIGHT
TZOFFSETFROM:-0600
TZOFFSETTO:-0500
TZNAME:CDT
DTSTART:20130310T080000
END:DAYLIGHT
BEGIN:STANDARD
TZOFFSETFROM:-0500
TZOFFSETTO:-0600
TZNAME:CST
DTSTART:20131103T070000
END:STANDARD
BEGIN:DAYLIGHT
TZOFFSETFROM:-0600
TZOFFSETTO:-0500
TZNAME:CDT
DTSTART:20140309T080000
END:DAYLIGHT
BEGIN:STANDARD
TZOFFSETFROM:-0500
TZOFFSETTO:-0600
TZNAME:CST
DTSTART:20141102T070000
END:STANDARD
BEGIN:DAYLIGHT
TZOFFSETFROM:-0600
TZOFFSETTO:-0500
TZNAME:CDT
DTSTART:20150308T080000
END:DAYLIGHT
BEGIN:STANDARD
TZOFFSETFROM:-0500
TZOFFSETTO:-0600
TZNAME:CST
DTSTART:20151101T070000
END:STANDARD
BEGIN:DAYLIGHT
TZOFFSETFROM:-0600
TZOFFSETTO:-0500
TZNAME:CDT
DTSTART:20160313T080000
END:DAYLIGHT
BEGIN:STANDARD
TZOFFSETFROM:-0500
TZOFFSETTO:-0600
TZNAME:CST
DTSTART:20161106T070000
END:STANDARD
END:VTIMEZONE
BEGIN:VEVENT
DTSTART;TZID=America/Chicago:20150904T120000
DTEND;TZID=America/Chicago:20150904T170000
DTSTAMP:20260423T073046
CREATED:20150729T231123Z
LAST-MODIFIED:20150903T233649Z
UID:10002526-1441368000-1441386000@crosstownarts.org
SUMMARY:Rock For Love 9: Crosstown Block Party!
DESCRIPTION:Come to Crosstown for a block party with live performances to support the Church Health Center with food trucks and fun activities for all. Stay tuned for more details\, and please visit the show’s website to learn about the history of Rock For Love. \nAmurica >> Mary Owens\, Faith Evans Ruch\, Couple Skate\, Stephen Chopek\, Mark Edgar Stuart\nCrosstown Arts >> Don Lifted & >mancontrol<\nCo-Motion Studio >> DJ WITNESSE & Zac Ives\nMidtown Crossing Grill/University of Memphis Music Industry Division Stage >> Lauren Moscato (Singer/Songwriter)\, Drew Erwin\, Kyndle McMahan (of Mason Jar Fireflies)\, Jeffery Jordan\nVisible Community Music School >> VCMS Student Ensemble\, Redzone Kings\, Tooken\, PRIZM Ensemble\, Rebecca Davis\, ELDER\nHi Tone >> Hanna Star\, J.D. Reager & The Cold-Blooded Three\, Sleepwlkrs\, Pezz\, James and The Ultrasounds\, NOTS\, Jack Oblivian \n 
URL:https://crosstownarts.org/calendar/rock-for-love-9/
LOCATION:Crosstown Neighborhood\, Cleveland & Overton Park\, 38104
CATEGORIES:430
ATTACH;FMTTYPE=image/png:https://crosstownarts.org/wp-content/uploads/2015/07/R4L-9-Low-Res.png
GEO:35.1493518;-90.0143685
X-APPLE-STRUCTURED-LOCATION;VALUE=URI;X-ADDRESS=Crosstown Neighborhood Cleveland & Overton Park 38104;X-APPLE-RADIUS=500;X-TITLE=Cleveland & Overton Park:geo:-90.0143685,35.1493518
END:VEVENT
BEGIN:VEVENT
DTSTART;TZID=America/Chicago:20131018T120000
DTEND;TZID=America/Chicago:20131018T170000
DTSTAMP:20260423T073046
CREATED:20150818T015034Z
LAST-MODIFIED:20150818T021110Z
UID:10002559-1382097600-1382115600@crosstownarts.org
SUMMARY:Crosstown Block Party
DESCRIPTION:Join us for a night out in Crosstown! \n\n			\n				\n			\n			\n				\n			\n			\n				\n			\n			\n				\n			\n			\n				\n			\n			\n				\n			\n			\n				\n			\n			\n				\n			\n			\n				\n			\n			\n				\n			\n			\n				\n			\n			\n				\n			\n			\n				\n			\n			\n				\n			\n		\n\nJoin the Hi-Tone\, Visible Community Music School\, Cleveland Street Flea Market\, Amurica Photo\, Yvonne Bobo Studio\, Crosstown Arts\, the Church Health Center and other neighbors for a night out in Crosstown. Come see the new storefront spaces and experience all that’s happening in the area. \nMUSIC/PERFORMANCES-\nOutdoor Stage:\n5-7 pm: DJ Siphne Aaye\n7 pm: Visible Community Music School Students\n7:30: Banyan Days\n8 pm: Amelia Warren\n8:30: Laramie\n9 pm: Marco Pave\n9:30: Dance PerformanceFlea Market:\nDJ Witnesse430 N. Cleveland:\n7-10 pm: The Happening by Artistik Approach\nHi Tone:\n9 pm: Wild Belle w/ Snowmine\n\nART EXHIBITIONS-\nVisible Community Music School: Show Me the Details\, an erf Retrospective\, organized by Lauren Kennedy\nCrosstown Arts 430 N. Cleveland: The Happening by Artistik Approach\nCrosstown Arts 422 N. Cleveland: Valerie Piraino: Reconstruction\nCleveland Street Flea Market: Installation by Adam FarmerPlus\, the Cleveland Street Flea Market’s 15th year anniversary celebration with special pop-up shops featuring vintage clothing and furniture\, DJ Witnesse and birthday cake! \nFOOD & DRINK-\nRevival Southern Food Truck\, The Tamale Trolley and the Dog & Slaw\, and refreshments \nSpecial thanks to Memphis Sound Lab! \ncrosstownarts.org\nLocation: 410-438 N. Cleveland\, between Overton Park and Autumn Avenues\nParking available at the Sears Crosstown parking lot. \n\ncrosstownarts.org \nJoin and share on Facebook
URL:https://crosstownarts.org/calendar/crosstown-block-party/
LOCATION:Crosstown Neighborhood\, Cleveland & Overton Park\, 38104
ATTACH;FMTTYPE=image/png:https://crosstownarts.org/wp-content/uploads/2015/08/de73fc9db7847832-CrosstownBlockPartyOctober18.png
GEO:35.1493518;-90.0143685
X-APPLE-STRUCTURED-LOCATION;VALUE=URI;X-ADDRESS=Crosstown Neighborhood Cleveland & Overton Park 38104;X-APPLE-RADIUS=500;X-TITLE=Cleveland & Overton Park:geo:-90.0143685,35.1493518
END:VEVENT
END:VCALENDAR