BEGIN:VCALENDAR
VERSION:2.0
PRODID:-//Crosstown Arts - ECPv6.15.17.1//NONSGML v1.0//EN
CALSCALE:GREGORIAN
METHOD:PUBLISH
X-WR-CALNAME:Crosstown Arts
X-ORIGINAL-URL:https://crosstownarts.org
X-WR-CALDESC:Events for Crosstown Arts
REFRESH-INTERVAL;VALUE=DURATION:PT1H
X-Robots-Tag:noindex
X-PUBLISHED-TTL:PT1H
BEGIN:VTIMEZONE
TZID:America/Chicago
BEGIN:DAYLIGHT
TZOFFSETFROM:-0600
TZOFFSETTO:-0500
TZNAME:CDT
DTSTART:20160313T080000
END:DAYLIGHT
BEGIN:STANDARD
TZOFFSETFROM:-0500
TZOFFSETTO:-0600
TZNAME:CST
DTSTART:20161106T070000
END:STANDARD
BEGIN:DAYLIGHT
TZOFFSETFROM:-0600
TZOFFSETTO:-0500
TZNAME:CDT
DTSTART:20170312T080000
END:DAYLIGHT
BEGIN:STANDARD
TZOFFSETFROM:-0500
TZOFFSETTO:-0600
TZNAME:CST
DTSTART:20171105T070000
END:STANDARD
BEGIN:DAYLIGHT
TZOFFSETFROM:-0600
TZOFFSETTO:-0500
TZNAME:CDT
DTSTART:20180311T080000
END:DAYLIGHT
BEGIN:STANDARD
TZOFFSETFROM:-0500
TZOFFSETTO:-0600
TZNAME:CST
DTSTART:20181104T070000
END:STANDARD
BEGIN:DAYLIGHT
TZOFFSETFROM:-0600
TZOFFSETTO:-0500
TZNAME:CDT
DTSTART:20190310T080000
END:DAYLIGHT
BEGIN:STANDARD
TZOFFSETFROM:-0500
TZOFFSETTO:-0600
TZNAME:CST
DTSTART:20191103T070000
END:STANDARD
BEGIN:DAYLIGHT
TZOFFSETFROM:-0600
TZOFFSETTO:-0500
TZNAME:CDT
DTSTART:20200308T080000
END:DAYLIGHT
BEGIN:STANDARD
TZOFFSETFROM:-0500
TZOFFSETTO:-0600
TZNAME:CST
DTSTART:20201101T070000
END:STANDARD
END:VTIMEZONE
BEGIN:VEVENT
DTSTART;TZID=America/Chicago:20191031T110000
DTEND;TZID=America/Chicago:20191031T130000
DTSTAMP:20260424T163913
CREATED:20190926T213154Z
LAST-MODIFIED:20191028T210414Z
UID:10003823-1572519600-1572526800@crosstownarts.org
SUMMARY:Crosstown Creep Sweep Trunk or Treat
DESCRIPTION:Bring your little ghouls and goblins to Crosstown Concourse this Halloween for trick-or-treating in the Central Atrium. Live music by Almost Elton John\, the Snowden Middle School orchestra\, and a Thriller dance flash mob.\n\n\n \n\n\nFree and open to the public
URL:https://crosstownarts.org/calendar/crosstown-creep-sweep-trunk-or-treat/
LOCATION:Crosstown Concourse Plaza\, 1350 Concourse Ave.\, Memphis\, TN\, 38104\, United States
CATEGORIES:Central Atrium
ATTACH;FMTTYPE=image/jpeg:https://crosstownarts.org/wp-content/uploads/2019/09/TrunkOrTreat_2019.jpg
GEO:35.1521433;-90.0155942
X-APPLE-STRUCTURED-LOCATION;VALUE=URI;X-ADDRESS=Crosstown Concourse Plaza 1350 Concourse Ave. Memphis TN 38104 United States;X-APPLE-RADIUS=500;X-TITLE=1350 Concourse Ave.:geo:-90.0155942,35.1521433
END:VEVENT
BEGIN:VEVENT
DTSTART;TZID=America/Chicago:20181031T110000
DTEND;TZID=America/Chicago:20181031T130000
DTSTAMP:20260424T163913
CREATED:20181004T165309Z
LAST-MODIFIED:20181004T165309Z
UID:10002866-1540983600-1540990800@crosstownarts.org
SUMMARY:Creep Sweep Trunk or Treat
DESCRIPTION:Bring your little ghouls and goblins to Crosstown Concourse this Halloween for trick-or-treating on the plaza. Volunteers will park their cars on the plaza and fill their trunks with candy. \nCrosstown Arts is currently looking for volunteers to park their vehicles on the plaza. Participants must provide their own candy. Please confirm your participation in this neighborhood collaboration with Crosstown Memphis CDC and Crosstown Arts by emailing porsche@crosstownarts.org. \nBefore the Halloween event on the plaza\, the Crosstown Memphis CDC will host a neighborhood clean-up on Saturday\, Oct. 27 from 9-11 am. Anyone is welcome to help out. No sign-up required. Meet at Crosstown Brewing Co. at 9 pm.
URL:https://crosstownarts.org/calendar/creep-sweep-trunk-or-treat/
LOCATION:Crosstown Concourse Plaza\, 1350 Concourse Ave.\, Memphis\, TN\, 38104\, United States
ATTACH;FMTTYPE=image/png:https://crosstownarts.org/wp-content/uploads/2018/10/Screen-Shot-2018-10-04-at-11.51.55-AM.png
GEO:35.1521433;-90.0155942
X-APPLE-STRUCTURED-LOCATION;VALUE=URI;X-ADDRESS=Crosstown Concourse Plaza 1350 Concourse Ave. Memphis TN 38104 United States;X-APPLE-RADIUS=500;X-TITLE=1350 Concourse Ave.:geo:-90.0155942,35.1521433
END:VEVENT
BEGIN:VEVENT
DTSTART;TZID=America/Chicago:20171111T040000
DTEND;TZID=America/Chicago:20171111T100000
DTSTAMP:20260424T163913
CREATED:20171024T160638Z
LAST-MODIFIED:20171024T160718Z
UID:10003149-1510372800-1510394400@crosstownarts.org
SUMMARY:Memphis Flyer Crafts & Drafts
DESCRIPTION:The third annual Memphis Flyer Crafts & Drafts festival will be held on the Crosstown Concourse plaza this year. This unique\, free shopping opportunity showcases a curated group of 60+ local artists\, crafters\, and makers with a variety of food trucks\, kids activities\, and craft beers on tap. \nThe Crafts & Drafts Beer Garden will be serving Miller Lite\, Meddlesome Brewing Company\, Terrapin Beer Co.\, Southern Prohibition\, and Green Flash Brewing Co. A portion of beer sales will benefit Crosstown Arts. \nKnock out your holiday shopping in one fell swoop with 60+ local vendors\, and enjoy a beautiful day at Crosstown with draft beer\, food trucks\, kids activities\, and DJ Jordan Rogers spinning tunes. Special thanks to our sponsor FocalPoint at Crosstown Concourse\, the future of eyecare in Memphis!
URL:https://crosstownarts.org/calendar/memphis-flyer-crafts-drafts/
LOCATION:Crosstown Concourse Plaza\, 1350 Concourse Ave.\, Memphis\, TN\, 38104\, United States
ATTACH;FMTTYPE=image/png:https://crosstownarts.org/wp-content/uploads/2017/10/Screen-Shot-2017-10-24-at-11.06.44-AM.png
GEO:35.1521433;-90.0155942
X-APPLE-STRUCTURED-LOCATION;VALUE=URI;X-ADDRESS=Crosstown Concourse Plaza 1350 Concourse Ave. Memphis TN 38104 United States;X-APPLE-RADIUS=500;X-TITLE=1350 Concourse Ave.:geo:-90.0155942,35.1521433
END:VEVENT
END:VCALENDAR