BEGIN:VCALENDAR
VERSION:2.0
PRODID:-//Crosstown Arts - ECPv6.15.17.1//NONSGML v1.0//EN
CALSCALE:GREGORIAN
METHOD:PUBLISH
X-WR-CALNAME:Crosstown Arts
X-ORIGINAL-URL:https://crosstownarts.org
X-WR-CALDESC:Events for Crosstown Arts
REFRESH-INTERVAL;VALUE=DURATION:PT1H
X-Robots-Tag:noindex
X-PUBLISHED-TTL:PT1H
BEGIN:VTIMEZONE
TZID:America/Chicago
BEGIN:DAYLIGHT
TZOFFSETFROM:-0600
TZOFFSETTO:-0500
TZNAME:CDT
DTSTART:20170312T080000
END:DAYLIGHT
BEGIN:STANDARD
TZOFFSETFROM:-0500
TZOFFSETTO:-0600
TZNAME:CST
DTSTART:20171105T070000
END:STANDARD
BEGIN:DAYLIGHT
TZOFFSETFROM:-0600
TZOFFSETTO:-0500
TZNAME:CDT
DTSTART:20180311T080000
END:DAYLIGHT
BEGIN:STANDARD
TZOFFSETFROM:-0500
TZOFFSETTO:-0600
TZNAME:CST
DTSTART:20181104T070000
END:STANDARD
BEGIN:DAYLIGHT
TZOFFSETFROM:-0600
TZOFFSETTO:-0500
TZNAME:CDT
DTSTART:20190310T080000
END:DAYLIGHT
BEGIN:STANDARD
TZOFFSETFROM:-0500
TZOFFSETTO:-0600
TZNAME:CST
DTSTART:20191103T070000
END:STANDARD
BEGIN:DAYLIGHT
TZOFFSETFROM:-0600
TZOFFSETTO:-0500
TZNAME:CDT
DTSTART:20200308T080000
END:DAYLIGHT
BEGIN:STANDARD
TZOFFSETFROM:-0500
TZOFFSETTO:-0600
TZNAME:CST
DTSTART:20201101T070000
END:STANDARD
BEGIN:DAYLIGHT
TZOFFSETFROM:-0600
TZOFFSETTO:-0500
TZNAME:CDT
DTSTART:20210314T080000
END:DAYLIGHT
BEGIN:STANDARD
TZOFFSETFROM:-0500
TZOFFSETTO:-0600
TZNAME:CST
DTSTART:20211107T070000
END:STANDARD
BEGIN:DAYLIGHT
TZOFFSETFROM:-0600
TZOFFSETTO:-0500
TZNAME:CDT
DTSTART:20220313T080000
END:DAYLIGHT
BEGIN:STANDARD
TZOFFSETFROM:-0500
TZOFFSETTO:-0600
TZNAME:CST
DTSTART:20221106T070000
END:STANDARD
BEGIN:DAYLIGHT
TZOFFSETFROM:-0600
TZOFFSETTO:-0500
TZNAME:CDT
DTSTART:20230312T080000
END:DAYLIGHT
BEGIN:STANDARD
TZOFFSETFROM:-0500
TZOFFSETTO:-0600
TZNAME:CST
DTSTART:20231105T070000
END:STANDARD
BEGIN:DAYLIGHT
TZOFFSETFROM:-0600
TZOFFSETTO:-0500
TZNAME:CDT
DTSTART:20240310T080000
END:DAYLIGHT
BEGIN:STANDARD
TZOFFSETFROM:-0500
TZOFFSETTO:-0600
TZNAME:CST
DTSTART:20241103T070000
END:STANDARD
BEGIN:DAYLIGHT
TZOFFSETFROM:-0600
TZOFFSETTO:-0500
TZNAME:CDT
DTSTART:20250309T080000
END:DAYLIGHT
BEGIN:STANDARD
TZOFFSETFROM:-0500
TZOFFSETTO:-0600
TZNAME:CST
DTSTART:20251102T070000
END:STANDARD
END:VTIMEZONE
BEGIN:VEVENT
DTSTART;TZID=America/Chicago:20240615T050000
DTEND;TZID=America/Chicago:20240615T120000
DTSTAMP:20260424T025041
CREATED:20240604T205433Z
LAST-MODIFIED:20240604T221044Z
UID:10003752-1718427600-1718452800@crosstownarts.org
SUMMARY:Crafts & Drafts 2024
DESCRIPTION:The Memphis Flyer and Crosstown Arts present Crafts & Drafts at Crosstown Concourse. \nThe Plaza and the Central Atrium\nSaturday\, June 15 \, 2024\n10 am – 5 pm \nJoin us for a beautiful day and enjoy delicious local craft beers at this family-friendly weekend event — featuring 160+ of the best curated local and regional crafters\, makers and artists!
URL:https://crosstownarts.org/calendar/crafts-drafts-2024/
LOCATION:Crosstown Concourse\, Plaza\, 1350 Concourse Ave.\, Suite 280\, Memphis\, TN\, 38104\, United States
CATEGORIES:Central Atrium,Plaza
ATTACH;FMTTYPE=image/jpeg:https://crosstownarts.org/wp-content/uploads/2024/06/CraftsAndDrafts.jpeg
END:VEVENT
BEGIN:VEVENT
DTSTART;TZID=America/Chicago:20240413T070000
DTEND;TZID=America/Chicago:20240413T100000
DTSTAMP:20260424T025041
CREATED:20240319T173317Z
LAST-MODIFIED:20240319T173317Z
UID:10003731-1712991600-1713002400@crosstownarts.org
SUMMARY:Puppy Palooza 2024
DESCRIPTION:Crosstown Concourse and Crosstown Arts present Puppy Palooza 2024. \nSouth Plaza\nSaturday\, April 13\, 2024\nTime: 12-3 pm\nTickets: Free + open to the public \nMark your calendars for Saturday\, April 13th. Puppy Palooza is back and better than ever!\nJoin us with your furry friends at Puppy Palooza on Crosstown Concourse’s South Plaza from 12-3 pm. The event is free and open to the public. \n\nHere’s a preview of what you can expect:\n• DJ and various vendors\n• Yard games designed just for dogs\n• Dog costume contest with exciting prizes up for grabs\n• Custom caricature portraits of your dog\n• Free dog nail-clipping services\n• Adopt a fur-ever friend from local rescue organizations\n• and so much more!
URL:https://crosstownarts.org/calendar/puppy-palooza-2024/
LOCATION:Crosstown Concourse\, Plaza\, 1350 Concourse Ave.\, Suite 280\, Memphis\, TN\, 38104\, United States
CATEGORIES:Plaza
ATTACH;FMTTYPE=image/jpeg:https://crosstownarts.org/wp-content/uploads/2024/03/Puppypalooza_2024_Socials2.jpg
END:VEVENT
BEGIN:VEVENT
DTSTART;TZID=America/Chicago:20231112T040000
DTEND;TZID=America/Chicago:20231112T100000
DTSTAMP:20260424T025041
CREATED:20231031T203943Z
LAST-MODIFIED:20231031T204108Z
UID:10003676-1699761600-1699783200@crosstownarts.org
SUMMARY:Crafts & Drafts
DESCRIPTION:The Memphis Flyer and Crosstown Arts present Crafts & Drafts at Crosstown Concourse. \nThe Plaza and the Central Atrium \nSaturday\, November 11\, and Sunday\, November 12\, 2023\n10 am – 4 pm \n  \nJoin us for a beautiful day at Crosstown Concourse and enjoy delicious local craft beers at this family-friendly weekend event — featuring 160+ of the best curated local and regional crafters\, makers and artists! 
URL:https://crosstownarts.org/calendar/crafts-drafts-4/
LOCATION:Crosstown Concourse\, Plaza\, 1350 Concourse Ave.\, Suite 280\, Memphis\, TN\, 38104\, United States
CATEGORIES:Central Atrium,Plaza
ATTACH;FMTTYPE=image/jpeg:https://crosstownarts.org/wp-content/uploads/2023/10/CraftsAndDrafts.jpeg
END:VEVENT
BEGIN:VEVENT
DTSTART;TZID=America/Chicago:20231111T040000
DTEND;TZID=America/Chicago:20231111T100000
DTSTAMP:20260424T025041
CREATED:20231031T203801Z
LAST-MODIFIED:20231031T203801Z
UID:10003675-1699675200-1699696800@crosstownarts.org
SUMMARY:Crafts & Drafts
DESCRIPTION:The Memphis Flyer and Crosstown Arts present Crafts & Drafts at Crosstown Concourse. \nThe Plaza and the Central Atrium \nSaturday\, November 11\, and Sunday\, November 12\, 2023\n10 am – 4 pm \n \nJoin us for a beautiful day at Crosstown Concourse and enjoy delicious local craft beers at this family-friendly weekend event — featuring 160+ of the best curated local and regional crafters\, makers and artists! 
URL:https://crosstownarts.org/calendar/crafts-drafts-3/
LOCATION:Crosstown Concourse\, Plaza\, 1350 Concourse Ave.\, Suite 280\, Memphis\, TN\, 38104\, United States
CATEGORIES:Central Atrium,Plaza
ATTACH;FMTTYPE=image/jpeg:https://crosstownarts.org/wp-content/uploads/2023/10/CraftsAndDrafts.jpeg
END:VEVENT
BEGIN:VEVENT
DTSTART;TZID=America/Chicago:20230422T070000
DTEND;TZID=America/Chicago:20230422T100000
DTSTAMP:20260424T025041
CREATED:20230405T163328Z
LAST-MODIFIED:20230405T163328Z
UID:10004313-1682146800-1682157600@crosstownarts.org
SUMMARY:Puppy Palooza 2023
DESCRIPTION:Crosstown Concourse presents Puppy Palooza on the South Plaza. \nSouth Plaza\nSaturday\, April 22\, 2023\nTime: 12 – 3 pm\nTickets: Free and open to the public \nPuppy Palooza brings as many puppy-themed activities as paws-sible to the South Plaza at Crosstown Concourse. Before the dog days of summer begin\, it’s a chance to celebrate our furry friends. We’re fur real — it’s going to be paw-some! \nDogs (and their human companions) are invited to Puppy Palooza at the South Plaza. The event is free and open to the public. Come celebrate our canine companions with the community at Crosstown Concourse! \nAttractions Include: \n• a dog costume contest\n• yard games\n• dog nail clipping service by Dawg Team Apparel\n• dog adoptions by local rescue organizations\n• a magic show by Mr. Nick with Cranberry\, the chihuahua\n• Wonder Dog Training\n• Blessing of the Animals by Church Health\n• dog portraits\n• balloon pups\n• bacon bubbles\n• and more!
URL:https://crosstownarts.org/calendar/puppy-palooza-2023/
LOCATION:Crosstown Concourse\, Plaza\, 1350 Concourse Ave.\, Suite 280\, Memphis\, TN\, 38104\, United States
CATEGORIES:Plaza
ATTACH;FMTTYPE=image/jpeg:https://crosstownarts.org/wp-content/uploads/2023/04/Puppypalooza_2023_Socials3.jpg
END:VEVENT
BEGIN:VEVENT
DTSTART;VALUE=DATE:20181014
DTEND;VALUE=DATE:20181027
DTSTAMP:20260424T025041
CREATED:20181015T180042Z
LAST-MODIFIED:20181019T182350Z
UID:10002869-1539543600-1540580399@crosstownarts.org
SUMMARY:The Moonpie Project presents Taj Francis
DESCRIPTION:A new mural by Taj Francis \nLocation: Crosstown Concourse Plaza \nWatch artist Taj Francis paint on the Concourse plaza through Oct. 20. After the mural is complete\, it will be displayed in a location to be determined within the Concourse. \nThe Moonpie Project is an ongoing\, rotating mural series curated by Michael Roy in memory of muralist Brad Wells \nOrganized in collaboration with Crosstown Arts \n\n\nAbout Taj Francis:\n\nJamaican born visual artist Taj Francis\, has a diverse interest of expression\, mainly focused through illustration. Being a multifaceted artist\, his work is produced in several forms\, such as: paintings\, digital art\, murals and video art or animation. Through this\, his pieces explore the subtle nuances of human behavior and identity\, specifically relating to African ancestry.
URL:https://crosstownarts.org/calendar/the-moonpie-project-presents-taj-francis/
LOCATION:Crosstown Concourse\, Plaza\, 1350 Concourse Ave.\, Suite 280\, Memphis\, TN\, 38104\, United States
ATTACH;FMTTYPE=image/png:https://crosstownarts.org/wp-content/uploads/2018/10/Screen-Shot-2018-10-15-at-12.59.17-PM.png
END:VEVENT
END:VCALENDAR