BEGIN:VCALENDAR
VERSION:2.0
PRODID:-//Crosstown Arts - ECPv6.15.17.1//NONSGML v1.0//EN
CALSCALE:GREGORIAN
METHOD:PUBLISH
X-WR-CALNAME:Crosstown Arts
X-ORIGINAL-URL:https://crosstownarts.org
X-WR-CALDESC:Events for Crosstown Arts
REFRESH-INTERVAL;VALUE=DURATION:PT1H
X-Robots-Tag:noindex
X-PUBLISHED-TTL:PT1H
BEGIN:VTIMEZONE
TZID:America/Chicago
BEGIN:DAYLIGHT
TZOFFSETFROM:-0600
TZOFFSETTO:-0500
TZNAME:CDT
DTSTART:20170312T080000
END:DAYLIGHT
BEGIN:STANDARD
TZOFFSETFROM:-0500
TZOFFSETTO:-0600
TZNAME:CST
DTSTART:20171105T070000
END:STANDARD
BEGIN:DAYLIGHT
TZOFFSETFROM:-0600
TZOFFSETTO:-0500
TZNAME:CDT
DTSTART:20180311T080000
END:DAYLIGHT
BEGIN:STANDARD
TZOFFSETFROM:-0500
TZOFFSETTO:-0600
TZNAME:CST
DTSTART:20181104T070000
END:STANDARD
BEGIN:DAYLIGHT
TZOFFSETFROM:-0600
TZOFFSETTO:-0500
TZNAME:CDT
DTSTART:20190310T080000
END:DAYLIGHT
BEGIN:STANDARD
TZOFFSETFROM:-0500
TZOFFSETTO:-0600
TZNAME:CST
DTSTART:20191103T070000
END:STANDARD
END:VTIMEZONE
BEGIN:VEVENT
DTSTART;TZID=America/Chicago:20180714T080000
DTEND;TZID=America/Chicago:20180714T110000
DTSTAMP:20260425T213432
CREATED:20180614T192814Z
LAST-MODIFIED:20180702T212029Z
UID:10003326-1531555200-1531566000@crosstownarts.org
SUMMARY:All-Ages Community Zine-Making Workshop
DESCRIPTION:Learn about the origin of zines and how to make your very own. We will provide all of the basic supplies you’ll need to get started. Just bring your ideas! \nThis workshop is free and open to the public. \nTaught by Memphis artist Erica Qualy \n\nIf you wish\, you can sell your zines at Memphis Zine Fest IV on Friday\, July 20 from 4-7 pm on the Concourse Theater Stair. To request booth space\, please fill out this form.
URL:https://crosstownarts.org/calendar/all-ages-community-zine-making-workshop/
LOCATION:Crosstown Concourse\, Central Atrium\, 1350 Concourse Ave.\, Memphis\, TN
ATTACH;FMTTYPE=image/jpeg:https://crosstownarts.org/wp-content/uploads/2018/06/IMG_8459.jpg
END:VEVENT
BEGIN:VEVENT
DTSTART;TZID=America/Chicago:20180614T140000
DTEND;TZID=America/Chicago:20180614T160000
DTSTAMP:20260425T213432
CREATED:20180531T165715Z
LAST-MODIFIED:20180531T165916Z
UID:10002827-1528984800-1528992000@crosstownarts.org
SUMMARY:Blueshift Ensemble with ICEBERG New Music
DESCRIPTION:Blueshift Ensemble is collaborating with ICEBERG New Music to present a free concert in the Crosstown Concourse Central Atrium. \nICEBERG New Music is a New York City-based collective of composers who will be spending a week in Memphis working with Blueshift musicians to put on a performance of their compositions. Sponsored in part by Amro Music. \nFree (donations accepted) \nProgram: \nString Quartet No. 4 “Aftermath” by Harry Stafylakis\nImogen for flute and piano by Stephanie Ann Boyd\nThe Impossible Object for violin and piano by Alex Burtzos\nString Quartet No. 1 “Earth Tones” by Jonathan Russ\nKill James for bassoon\, cello\, and piano by Derek Cooper \n\n\n\n\nAbout ICEBERG New Music:\nFounded by composer Alex Burtzos in 2016\, ICEBERG new music is a collective of ten young composers based in New York City. The mission of the organization is to promote the idea that substance – not surface – is the heart of music creation and perception. We live in an era where dogma is out of place; composers can\, and should\, draw from an unprecedentedly broad array of influences in their work – including popular music\, avant-garde techniques\, and everything in between. The ten ICEBERG composers hail from different schools and cultivate radically different sounds\, but their contrasting musical languages belie shared emphasis on structure and depth of meaning. When these artists compose for the same ensemble and present their works during a joint concert\, the result is a glimpse into the ever-widening possibilities of art music in the twenty-first century. ICEBERG is committed to radical stylistic inclusiveness\, excellence of craft\, dialogue with the audience\, and a modernization of the concert-going experience.\n\n\n\n\n\n\nAbout Blueshift Ensemble:\nBlueshift is a Memphis-based contemporary chamber music ensemble dedicated to bringing artists and audiences together through artistic collaboration. By programming both new and existing classical repertoire alongside multi-genre collaborations\, Blueshift aims to connect a wider audience to today’s classical music. The ensemble draws upon Memphis’s uniquely diverse musical heritage by combining classical music with popular music genres such as rock\, blues\, and soul and featuring local musicians\, visual artists\, and composers.
URL:https://crosstownarts.org/calendar/blueshift-ensemble-with-iceberg-new-music/
LOCATION:Crosstown Concourse\, Central Atrium\, 1350 Concourse Ave.\, Memphis\, TN
ATTACH;FMTTYPE=image/png:https://crosstownarts.org/wp-content/uploads/2018/05/ICEBERG-Banner.png
END:VEVENT
END:VCALENDAR