BEGIN:VCALENDAR
VERSION:2.0
PRODID:-//Crosstown Arts - ECPv6.15.17.1//NONSGML v1.0//EN
CALSCALE:GREGORIAN
METHOD:PUBLISH
X-ORIGINAL-URL:https://crosstownarts.org
X-WR-CALDESC:Events for Crosstown Arts
REFRESH-INTERVAL;VALUE=DURATION:PT1H
X-Robots-Tag:noindex
X-PUBLISHED-TTL:PT1H
BEGIN:VTIMEZONE
TZID:America/Chicago
BEGIN:DAYLIGHT
TZOFFSETFROM:-0600
TZOFFSETTO:-0500
TZNAME:CDT
DTSTART:20170312T080000
END:DAYLIGHT
BEGIN:STANDARD
TZOFFSETFROM:-0500
TZOFFSETTO:-0600
TZNAME:CST
DTSTART:20171105T070000
END:STANDARD
BEGIN:DAYLIGHT
TZOFFSETFROM:-0600
TZOFFSETTO:-0500
TZNAME:CDT
DTSTART:20180311T080000
END:DAYLIGHT
BEGIN:STANDARD
TZOFFSETFROM:-0500
TZOFFSETTO:-0600
TZNAME:CST
DTSTART:20181104T070000
END:STANDARD
BEGIN:DAYLIGHT
TZOFFSETFROM:-0600
TZOFFSETTO:-0500
TZNAME:CDT
DTSTART:20190310T080000
END:DAYLIGHT
BEGIN:STANDARD
TZOFFSETFROM:-0500
TZOFFSETTO:-0600
TZNAME:CST
DTSTART:20191103T070000
END:STANDARD
END:VTIMEZONE
BEGIN:VEVENT
DTSTART;VALUE=DATE:20180125
DTEND;VALUE=DATE:20180309
DTSTAMP:20260423T165543
CREATED:20171212T180035Z
LAST-MODIFIED:20180216T211753Z
UID:10002751-1516903200-1520531999@crosstownarts.org
SUMMARY:Emily C. Thomas: Imprismed
DESCRIPTION:An exhibition of paintings\, sculpture\, and digital objects that constructs a dialectic between the repression and cultivation of psycho-sexual energies through the ages. \nOn view: January 26-March 11\nOpening reception: Friday\, January 26\, 6-8 pm \nGallery hours:\nTuesday-Friday\, 10 am-8 pm\nSaturday\, 10 am-6 pm\nSunday\, noon-6 pm \n\n“The most perfect medium would be an invisible one.” — Terence McKenna \nImagine walking into a gallery space and telepathically downloading a mirage of visions\, ideas\, and living information. IMPRISMED proposes to explore the unconscious infrastructures that inform our perceptions within the lineage of visionary thinkers and cultural commentators such as Marshall McLuhan. \nDuring the 1960s\, McLuhan became a leading intellectual\, initiating the emerging field of Media studies. He coined revolutionary maxims such as “the medium is the message\,” and even predicted the internet nearly 30 years before its invention. This show contains paintings\, sounds\, sculpture and digital objects made of light — a full range of materials dating back through humanity’s most historic to most recent artistic innovations — all  of which attempt to nurture an awareness of how the medium defines their meaning. \nHuman history contains many examples of the use of torture devices on individuals in order to extract information or force confessions\, such as their use during the Salem Witch Trials and Spanish Inquisition. Back in the 1800s\, Native American peoples were wary of their souls being captured if they allowed themselves to be the subject of a photographs\, as if the spirit might become locked into the material density of film. McLuhan also warned against such phenomena when he said\, “The more data banks record about us\, the less we exist.” \nIn our time\, we willingly use internet search engines and other digital platforms such as Facebook that extract our personal information and archive it within a massive database. One use for this pooling of data is for the creation of A.I. or artificial intelligence. Coincidentally\, the National Security Agency’s (NSA) surveillance operation which collects data through major internet platforms\, such as Yahoo\, Google\, Facebook\, Microsoft\, YouTube\, Skype\, and Apple\, is referred to under the code name PRISM. If mediums themselves are the crystalized remains of our communicative processes\, does the accumulation of data put the human spirit at risk for eternal imprisonment within the material realm? \nThe crystalline mineral structure is capable of producing electricity and sending signals. Digital and nanotechnologies depend upon crystals to control the operations of their systems. Quartz watches\, computers\, cell phones\, solar panels\, and liquid crystal displays (LCD) contain a matrix of crystalline technology. Within a spiritual context\, many New Age syncretic religions also utilize the energetic qualities of crystals and mineral formations within the ritual setting. In this context\, crystals and minerals act as catalysts for the transformation of psycho-sexual energies \nPart visual boot camp\, part torture dungeon and New Age sanctuary\, IMPRISMED constructs a dialectic between the repression and cultivation of psycho-sexual energies through the ages. \n\nAbout the Artist:\nBorn and raised in Memphis\, Tennessee\, Emily C. Thomas is an interdisciplinary\, project-based artist who has lived and worked in New York\, Los Angeles\, Santa Barbara\, Memphis\, and Amsterdam\, The Netherlands. She received a BFA from NYU in 2009 and a MFA from UC Santa Barbara in 2015. \nThomas’ practice is a holistic response to the fragmentation of consciousness\, resulting from institutionalized segregation of knowledge and the classification of individuals into cultural\, social\, gender\, and human vs. nonhuman roles. Acting as a medium\, she conjures visions of trans-rational and transpersonal realms that dissolve divisions within consciousness. \nShe materializes these visionary states through installation\, animation\, film\, sculpture\, painting\, and sound to fabricate self-reflecting worlds of initiatory experience. As cognizant of the digital as she is of the archaic (a time when the disciplines of philosophy\, science\, religion\, magic\, and art were one unified field of exploration)\, her work often juxtaposes the concepts of Enlightenment within Eastern and New Age spiritual practices and The Scientific Revolution’s Age of Enlightenment that developed within 18th-century Europe. \nHer imagery frequently alludes to the practice of observing color\, light\, and darkness as a way to gain insight into the spiritual and scientific nature of reality. Her work is created by equal parts research\, imagination\, and hands-on experimentation with materials and technology. The result is an aesthetic that embraces elements of the handmade alongside digital and obsolete technologies.
URL:https://crosstownarts.org/calendar/emily-c-thomas-imprismed/
LOCATION:Crosstown Arts\, West Gallery\, Crosstown Concourse\, 1350 Concourse Ave.\, Memphis\, TN\, 38104\, United States
CATEGORIES:Gallery
ATTACH;FMTTYPE=image/png:https://crosstownarts.org/wp-content/uploads/2017/12/Screen-Shot-2017-12-12-at-12.00.01-PM.png
GEO:35.1521433;-90.0155942
X-APPLE-STRUCTURED-LOCATION;VALUE=URI;X-ADDRESS=Crosstown Arts West Gallery Crosstown Concourse 1350 Concourse Ave. Memphis TN 38104 United States;X-APPLE-RADIUS=500;X-TITLE=1350 Concourse Ave.:geo:-90.0155942,35.1521433
END:VEVENT
END:VCALENDAR