BEGIN:VCALENDAR
VERSION:2.0
PRODID:-//Crosstown Arts - ECPv6.15.17.1//NONSGML v1.0//EN
CALSCALE:GREGORIAN
METHOD:PUBLISH
X-WR-CALNAME:Crosstown Arts
X-ORIGINAL-URL:https://crosstownarts.org
X-WR-CALDESC:Events for Crosstown Arts
REFRESH-INTERVAL;VALUE=DURATION:PT1H
X-Robots-Tag:noindex
X-PUBLISHED-TTL:PT1H
BEGIN:VTIMEZONE
TZID:America/Chicago
BEGIN:DAYLIGHT
TZOFFSETFROM:-0600
TZOFFSETTO:-0500
TZNAME:CDT
DTSTART:20250309T080000
END:DAYLIGHT
BEGIN:STANDARD
TZOFFSETFROM:-0500
TZOFFSETTO:-0600
TZNAME:CST
DTSTART:20251102T070000
END:STANDARD
BEGIN:DAYLIGHT
TZOFFSETFROM:-0600
TZOFFSETTO:-0500
TZNAME:CDT
DTSTART:20260308T080000
END:DAYLIGHT
BEGIN:STANDARD
TZOFFSETFROM:-0500
TZOFFSETTO:-0600
TZNAME:CST
DTSTART:20261101T070000
END:STANDARD
BEGIN:DAYLIGHT
TZOFFSETFROM:-0600
TZOFFSETTO:-0500
TZNAME:CDT
DTSTART:20270314T080000
END:DAYLIGHT
BEGIN:STANDARD
TZOFFSETFROM:-0500
TZOFFSETTO:-0600
TZNAME:CST
DTSTART:20271107T070000
END:STANDARD
END:VTIMEZONE
BEGIN:VEVENT
DTSTART;TZID=America/Chicago:20260512T193000
DTEND;TZID=America/Chicago:20260512T220000
DTSTAMP:20260424T160729
CREATED:20250724T200039Z
LAST-MODIFIED:20260211T185046Z
UID:10004809-1778614200-1778623200@crosstownarts.org
SUMMARY:Jazz Jam Session: Hosted by Henry Conerway III
DESCRIPTION:Jazz Jam Session: Hosted by Henry Conerway III \nThe Green Room @ Crosstown Arts  \nTuesday\, May 12th\, 2026 \nDoors open at 7 pm | Show begins at 7:30 pm \nTickets $7 (plus fees) | Free for participants  \nPURCHASE TICKETS HERE \nThe Green Room Jazz Jam is a monthly\, interactive music event hosted by Crosstown Arts. Young up-and-coming musicians and local jazz veterans alike join together for spontaneous music making\, sharing the stage as they tackle the expansive body of repertoire found within the jazz idiom. The Green Room Jazz Jam strives to provide an inclusive and collaborative environment where jazz musicians of all ages and backgrounds may perform\, network\, and interact together in the interest of further fostering Memphis’ diverse music scene. \nHenry Conerway III has become a leading presence on the modern jazz scene since moving to New York in 2015\, as evidenced by his ongoing work with such global touring artists as; the iconic Freddy Cole; the stalwart Jazz at Lincoln Center trumpeter\, Marcus Printup; 2015 Thelonious Monk International Jazz Vocal Competition Winner\, Jazzmeia Horn; Grammy nominated trumpeter\, Russell Gunn; and several residencies with Jazz at Lincoln Center in Doha\, Qatar. \nListed below are the jam tunes for the month of May. Participants are encouraged to learn several of the included tunes ahead of time in preparation for the jam. A limited number of blank slots for tune suggestions will be available at the sign-in desk. \n\nCOMING SOON !
URL:https://crosstownarts.org/calendar/jazz-jam-session-hosted-by-henry-conerway-iii-2/
LOCATION:Crosstown Arts The Green Room
ATTACH;FMTTYPE=image/jpeg:https://crosstownarts.org/wp-content/uploads/2025/07/dolo-iglesias-z9z6u1rn7sY-unsplash-1450x967-1.jpg
END:VEVENT
BEGIN:VEVENT
DTSTART;TZID=America/Chicago:20260626T193000
DTEND;TZID=America/Chicago:20260626T220000
DTSTAMP:20260424T160729
CREATED:20251125T160019Z
LAST-MODIFIED:20260129T175109Z
UID:10004728-1782502200-1782511200@crosstownarts.org
SUMMARY:Romain Collin: "Solo" + opener Aaron James
DESCRIPTION:Romain Collin: “Solo” + opener Aaron James  \nThe Green Room @ Crosstown Arts \nFriday\, June 26\, 2025 \nDoors open at 7 PM | Show starts at 7:30 PM \n$20 in advance (plus fees) | $25 at the door  \nPURCHASE TICKETS HERE \nStep into a mystical evening with Grammy®-nominated pianist and composer Romain Collin\, who’ll present music from his latest solo piano record\, DUST (Edition Records/ E2). Collin will perform original compositions\, as well as\, curated pop covers on a Steinway Grand piano and a gorgeous pump organ\, layered with ethereal textures from ambient modular synths. The French-born\, New York-based pianist brings his nuanced approach to solo piano\, crafting a work that’s equal parts intimate and expansive. Join us in this low-lit\, easy haven: sprawl on a couch\, nurse a drink and let the music pull you into its magic. This is a chance to breathe\, let go and recharge. \nRomain Collin (@romain__collin) has been praised by NPR as a “visionary composer” and hailed by the Boston Globe as one of the “leading lights of a new breed of jazz players.” The French-American musician has developed “a highly personal and contemporary vision” (A Blog Supreme\, NPR)\, a style “unique and engaging without obvious influences” (All About Jazz) that seamlessly blends contemporary jazz\, classical music and sound design. Collin has recorded/ performed alongside luminaries like Herbie Hancock\, Cassandra Wilson\, Bill Frisell\, Gregory Porter\, Terence Blanchard and Wayne Shorter. He is currently touring solo in support of DUST\, as well as with other projects as a co-leader.
URL:https://crosstownarts.org/calendar/romain-collin-solo/
LOCATION:Crosstown Arts The Green Room
CATEGORIES:The Green Room
ATTACH;FMTTYPE=image/jpeg:https://crosstownarts.org/wp-content/uploads/2025/11/Romain_Collin_by_Anna_Maggy_3.jpg
END:VEVENT
BEGIN:VEVENT
DTSTART;TZID=America/Chicago:20260714T193000
DTEND;TZID=America/Chicago:20260714T220000
DTSTAMP:20260424T160729
CREATED:20260211T195546Z
LAST-MODIFIED:20260325T190307Z
UID:10004810-1784057400-1784066400@crosstownarts.org
SUMMARY:Jazz Jam Session: Hosted by the Alex Upton Quartet
DESCRIPTION:Jazz Jam Session: Hosted by the Alex Upton Quartet \nThe Green Room @ Crosstown Arts  \nTuesday\, July 14th\, 2026 \nDoors open at 7 pm | Show begins at 7:30 pm \nTickets $7 (plus fees) | Free for participants  \nPURCHASE TICKETS HERE \nThe Green Room Jazz Jam is a monthly\, interactive music event hosted by the Alex Upton Quartet. Young up-and-coming musicians and local jazz veterans alike join together for spontaneous music making\, sharing the stage as they tackle the expansive body of repertoire found within the jazz idiom. The Green Room Jazz Jam strives to provide an inclusive and collaborative environment where jazz musicians of all ages and backgrounds may perform\, network\, and interact together in the interest of further fostering Memphis’ diverse music scene. \nAlex Upton is a Memphis-based saxophonist\, composer\, and educator with a deep passion for musics both old and new. Alex is a nationally awarded soloist that has performed and recorded with artists such as Rahsaan Barber\, Rachel Therrien\, Ted Ludwig\, Baron Tymas\, Stephen Anderson\, and James Sexton. Awarded first prize in the 2022 North American Saxophone Alliance Jazz Artist Competition\, Alex has performed at both JEN and NASA Conferences\, and has performed at regionally renowned venues including the Brooks Museum of Art\, Crosstown Arts Green Room\, Durham’s Sharp Nine Gallery\, and Bond Brothers Eastside. Their work as a performer and composer is featured on Summit Records with the 360 Jazz Initiative\, and under their own name on their newest full-length album release “Portraits of a Silent Moment”.
URL:https://crosstownarts.org/calendar/jazz-jam-session-hosted-by-the-alex-upton-quartet-4/
LOCATION:Crosstown Arts The Green Room
ATTACH;FMTTYPE=image/jpeg:https://crosstownarts.org/wp-content/uploads/2026/02/JazzJamSession_03_10_26_TheGreenRoom_SocialMedia_v25.jpg
END:VEVENT
BEGIN:VEVENT
DTSTART;TZID=America/Chicago:20260825T193000
DTEND;TZID=America/Chicago:20260825T220000
DTSTAMP:20260424T160729
CREATED:20260211T200207Z
LAST-MODIFIED:20260325T190527Z
UID:10004811-1787686200-1787695200@crosstownarts.org
SUMMARY:Jazz Jam Session: Hosted by Kenny Reed
DESCRIPTION:Jazz Jam Session: Hosted by Kenny Reed  \nThe Green Room @ Crosstown Arts  \nTuesday\, August 25 2026 \nDoors open at 7 pm | Show begins at 7:30 pm \nTickets $7 (plus fees) | Free for participants  \nPURCHASE TICKETS HERE \nThe Green Room Jazz Jam is a monthly\, interactive music event hosted by Kenny Reed . Young up-and-coming musicians and local jazz veterans alike join together for spontaneous music making\, sharing the stage as they tackle the expansive body of repertoire found within the jazz idiom. The Green Room Jazz Jam strives to provide an inclusive and collaborative environment where jazz musicians of all ages and backgrounds may perform\, network\, and interact together in the interest of further fostering Memphis’ diverse music scene.
URL:https://crosstownarts.org/calendar/jazz-jam-session-hosted-by-kenny-reed/
LOCATION:Crosstown Arts The Green Room
ATTACH;FMTTYPE=image/jpeg:https://crosstownarts.org/wp-content/uploads/2026/02/JazzJamSession_03_10_26_TheGreenRoom_SocialMedia_v25.jpg
END:VEVENT
BEGIN:VEVENT
DTSTART;TZID=America/Chicago:20260922T193000
DTEND;TZID=America/Chicago:20260922T220000
DTSTAMP:20260424T160729
CREATED:20260211T201546Z
LAST-MODIFIED:20260325T190458Z
UID:10004813-1790105400-1790114400@crosstownarts.org
SUMMARY:Jazz Jam Session: Hosted by U of M Jazz Singers
DESCRIPTION:Jazz Jam Session: Hosted by U of M Jazz Singers  \nThe Green Room @ Crosstown Arts  \nTuesday\, September 22\, 2026 \nDoors open at 7 pm | Show begins at 7:30 pm \nTickets $7 (plus fees) | Free for participants  \nPURCHASE TICKETS HER \nThe Green Room Jazz Jam is a monthly\, interactive music event hosted by the Downbeat Award Winning University of Memphis Jazz Singers. Young up-and-coming musicians and local jazz veterans alike join together for spontaneous music making\, sharing the stage as they tackle the expansive body of repertoire found within the jazz idiom. The Green Room Jazz Jam strives to provide an inclusive and collaborative environment where jazz musicians of all ages and backgrounds may perform\, network\, and interact together in the interest of further fostering Memphis’ diverse music scene.
URL:https://crosstownarts.org/calendar/jazz-jam-session-hosted-by-u-of-m-jazz-singers/
LOCATION:Crosstown Arts The Green Room
ATTACH;FMTTYPE=image/jpeg:https://crosstownarts.org/wp-content/uploads/2026/02/JazzJamSession_03_10_26_TheGreenRoom_SocialMedia_v25.jpg
END:VEVENT
BEGIN:VEVENT
DTSTART;TZID=America/Chicago:20261013T193000
DTEND;TZID=America/Chicago:20261013T220000
DTSTAMP:20260424T160729
CREATED:20260211T201546Z
LAST-MODIFIED:20260325T190433Z
UID:10004814-1791919800-1791928800@crosstownarts.org
SUMMARY:Jazz Jam Session: Hosted by Victor Sawyer
DESCRIPTION:Jazz Jam Session: Hosted by Victor Sawyer   \nThe Green Room @ Crosstown Arts  \nTuesday\, October 13\, 2026 \nDoors open at 7 pm | Show begins at 7:30 pm \nTickets $7 (plus fees) | Free for participants  \nPURCHASE TICKETS HER \nThe Green Room Jazz Jam is a monthly\, interactive music event hosted by Victor Sawyer. Young up-and-coming musicians and local jazz veterans alike join together for spontaneous music making\, sharing the stage as they tackle the expansive body of repertoire found within the jazz idiom. The Green Room Jazz Jam strives to provide an inclusive and collaborative environment where jazz musicians of all ages and backgrounds may perform\, network\, and interact together in the interest of further fostering Memphis’ diverse music scene.
URL:https://crosstownarts.org/calendar/copy-of-jazz-jam-session-hosted-by-victor-sawyer/
LOCATION:Crosstown Arts The Green Room
ATTACH;FMTTYPE=image/jpeg:https://crosstownarts.org/wp-content/uploads/2026/02/JazzJamSession_03_10_26_TheGreenRoom_SocialMedia_v25.jpg
END:VEVENT
BEGIN:VEVENT
DTSTART;TZID=America/Chicago:20261117T193000
DTEND;TZID=America/Chicago:20261117T220000
DTSTAMP:20260424T160729
CREATED:20260211T195546Z
LAST-MODIFIED:20260403T190647Z
UID:10004815-1794943800-1794952800@crosstownarts.org
SUMMARY:Jazz Jam Session: Hosted by the Alex Upton Quartet
DESCRIPTION:Jazz Jam Session: Hosted by the Alex Upton Quartet \nThe Green Room @ Crosstown Arts  \nTuesday\, November 17th\, 2026 \nDoors open at 7 pm | Show begins at 7:30 pm \nTickets $7 (plus fees) | Free for participants  \nPURCHASE TICKETS HERE \nThe Green Room Jazz Jam is a monthly\, interactive music event hosted by the Alex Upton Quartet. Young up-and-coming musicians and local jazz veterans alike join together for spontaneous music making\, sharing the stage as they tackle the expansive body of repertoire found within the jazz idiom. The Green Room Jazz Jam strives to provide an inclusive and collaborative environment where jazz musicians of all ages and backgrounds may perform\, network\, and interact together in the interest of further fostering Memphis’ diverse music scene. \nAlex Upton is a Memphis-based saxophonist\, composer\, and educator with a deep passion for musics both old and new. Alex is a nationally awarded soloist that has performed and recorded with artists such as Rahsaan Barber\, Rachel Therrien\, Ted Ludwig\, Baron Tymas\, Stephen Anderson\, and James Sexton. Awarded first prize in the 2022 North American Saxophone Alliance Jazz Artist Competition\, Alex has performed at both JEN and NASA Conferences\, and has performed at regionally renowned venues including the Brooks Museum of Art\, Crosstown Arts Green Room\, Durham’s Sharp Nine Gallery\, and Bond Brothers Eastside. Their work as a performer and composer is featured on Summit Records with the 360 Jazz Initiative\, and under their own name on their newest full-length album release “Portraits of a Silent Moment”.
URL:https://crosstownarts.org/calendar/copy-of-jazz-jam-session-hosted-by-the-alex-upton-quartet/
LOCATION:Crosstown Arts The Green Room
CATEGORIES:The Green Room
ATTACH;FMTTYPE=image/jpeg:https://crosstownarts.org/wp-content/uploads/2026/02/JazzJamSession_03_10_26_TheGreenRoom_SocialMedia_v25.jpg
END:VEVENT
BEGIN:VEVENT
DTSTART;TZID=America/Chicago:20261208T193000
DTEND;TZID=America/Chicago:20261208T220000
DTSTAMP:20260424T160729
CREATED:20260211T232441Z
LAST-MODIFIED:20260403T190639Z
UID:10004816-1796758200-1796767200@crosstownarts.org
SUMMARY:Jazz Jam Session: Hosted by the Alex Upton Quartet
DESCRIPTION:Jazz Jam Session: Hosted by the Alex Upton Quartet \nThe Green Room @ Crosstown Arts  \nTuesday\, December 8th\, 2026 \nDoors open at 7 pm | Show begins at 7:30 pm \nTickets $7 (plus fees) | Free for participants  \nPURCHASE TICKETS HERE \nThe Green Room Jazz Jam is a monthly\, interactive music event hosted by the Alex Upton Quartet. Young up-and-coming musicians and local jazz veterans alike join together for spontaneous music making\, sharing the stage as they tackle the expansive body of repertoire found within the jazz idiom. The Green Room Jazz Jam strives to provide an inclusive and collaborative environment where jazz musicians of all ages and backgrounds may perform\, network\, and interact together in the interest of further fostering Memphis’ diverse music scene. \nAlex Upton is a Memphis-based saxophonist\, composer\, and educator with a deep passion for musics both old and new. Alex is a nationally awarded soloist that has performed and recorded with artists such as Rahsaan Barber\, Rachel Therrien\, Ted Ludwig\, Baron Tymas\, Stephen Anderson\, and James Sexton. Awarded first prize in the 2022 North American Saxophone Alliance Jazz Artist Competition\, Alex has performed at both JEN and NASA Conferences\, and has performed at regionally renowned venues including the Brooks Museum of Art\, Crosstown Arts Green Room\, Durham’s Sharp Nine Gallery\, and Bond Brothers Eastside. Their work as a performer and composer is featured on Summit Records with the 360 Jazz Initiative\, and under their own name on their newest full-length album release “Portraits of a Silent Moment”.
URL:https://crosstownarts.org/calendar/jazz-jam-session-hosted-by-the-alex-upton-quartet-8/
LOCATION:Crosstown Arts The Green Room
CATEGORIES:The Green Room
ATTACH;FMTTYPE=image/jpeg:https://crosstownarts.org/wp-content/uploads/2025/07/dolo-iglesias-z9z6u1rn7sY-unsplash-1450x967-1.jpg
END:VEVENT
END:VCALENDAR