BEGIN:VCALENDAR
VERSION:2.0
PRODID:-//Crosstown Arts - ECPv6.15.17.1//NONSGML v1.0//EN
CALSCALE:GREGORIAN
METHOD:PUBLISH
X-WR-CALNAME:Crosstown Arts
X-ORIGINAL-URL:https://crosstownarts.org
X-WR-CALDESC:Events for Crosstown Arts
REFRESH-INTERVAL;VALUE=DURATION:PT1H
X-Robots-Tag:noindex
X-PUBLISHED-TTL:PT1H
BEGIN:VTIMEZONE
TZID:America/Chicago
BEGIN:DAYLIGHT
TZOFFSETFROM:-0600
TZOFFSETTO:-0500
TZNAME:CDT
DTSTART:20170312T080000
END:DAYLIGHT
BEGIN:STANDARD
TZOFFSETFROM:-0500
TZOFFSETTO:-0600
TZNAME:CST
DTSTART:20171105T070000
END:STANDARD
BEGIN:DAYLIGHT
TZOFFSETFROM:-0600
TZOFFSETTO:-0500
TZNAME:CDT
DTSTART:20180311T080000
END:DAYLIGHT
BEGIN:STANDARD
TZOFFSETFROM:-0500
TZOFFSETTO:-0600
TZNAME:CST
DTSTART:20181104T070000
END:STANDARD
BEGIN:DAYLIGHT
TZOFFSETFROM:-0600
TZOFFSETTO:-0500
TZNAME:CDT
DTSTART:20190310T080000
END:DAYLIGHT
BEGIN:STANDARD
TZOFFSETFROM:-0500
TZOFFSETTO:-0600
TZNAME:CST
DTSTART:20191103T070000
END:STANDARD
END:VTIMEZONE
BEGIN:VEVENT
DTSTART;VALUE=DATE:20180219
DTEND;VALUE=DATE:20180316
DTSTAMP:20260423T140408
CREATED:20180207T214605Z
LAST-MODIFIED:20180222T161736Z
UID:10002780-1519063200-1521140399@crosstownarts.org
SUMMARY:Kevin Brooks: Bonfire
DESCRIPTION:Screening of Bonfire — A meditative piece on the nature of love and heartbreak from Director Kevin Brooks.\nStarring Kevin Brooks\, Jasmine Settles\, and Fred Jones.\n12 minutes
URL:https://crosstownarts.org/calendar/kevin-brooks-bonfire/
LOCATION:Crosstown Arts\, Screening Room\, 1350 Concourse Ave.\, Memphis\, TN\, 38104\, United States
CATEGORIES:Gallery
ATTACH;FMTTYPE=image/png:https://crosstownarts.org/wp-content/uploads/2018/02/Kevin-Brooks.png
GEO:35.1521433;-90.0155942
X-APPLE-STRUCTURED-LOCATION;VALUE=URI;X-ADDRESS=Crosstown Arts Screening Room 1350 Concourse Ave. Memphis TN 38104 United States;X-APPLE-RADIUS=500;X-TITLE=1350 Concourse Ave.:geo:-90.0155942,35.1521433
END:VEVENT
BEGIN:VEVENT
DTSTART;TZID=America/Chicago:20180119T120000
DTEND;TZID=America/Chicago:20180119T150000
DTSTAMP:20260423T140408
CREATED:20171214T224441Z
LAST-MODIFIED:20180119T205501Z
UID:10003193-1516363200-1516374000@crosstownarts.org
SUMMARY:Wish Book: William E. Jones Reception & Screening
DESCRIPTION:Locations: Screening Room & East Atrium \nOpening night reception runs from 6-9 pm | Screening begins at 7 pm \n\nCurated by Terri Phillips and Brian Pera \nThe Wish Book series is a triannual exhibition with a focus on artists’ films. Curators Brian Pera and Terri Phillips welcome internationally recognized artists\, filmmakers\, and critics to Memphis for this exciting new series\, which takes its name from the famed Sears Catalog and is hosted by Crosstown Arts at Crosstown Concourse\, itself once a major Sears distribution center. Drawing from a wide range of topics\, techniques\, and perspectives\, the films index the scope of work being done by artists in moving pictures. \nAbout the Artist:\nWilliam E. Jones has made the films Massillon (1991) and Finished (1997)\, which won a Los Angeles Film Critics Association award\, the documentary Is It Really So Strange?  (2004)\, and many videos including The Fall of Communism as Seen in Gay Pornography (1998). His work was included in the 1993 and 2008 Whitney Biennials\, and he has had retrospectives at Tate Modern (2005)\, Anthology Film Archives (2010)\, and the Austrian Film Museum (2011). His books include “Killed”: Rejected Images of the Farm Security Administration (2010)\, Halsted Plays Himself (2011)\, and Imitation of Christ\, named one of the best photo books of 2013 by Time magazine.
URL:https://crosstownarts.org/calendar/wishbook-william-e-jones-reception-screening/
LOCATION:Crosstown Arts\, Screening Room\, 1350 Concourse Ave.\, Memphis\, TN\, 38104\, United States
CATEGORIES:Gallery
ATTACH;FMTTYPE=image/jpeg:https://crosstownarts.org/wp-content/uploads/2017/12/WJ-17-001h.jpg
GEO:35.1521433;-90.0155942
X-APPLE-STRUCTURED-LOCATION;VALUE=URI;X-ADDRESS=Crosstown Arts Screening Room 1350 Concourse Ave. Memphis TN 38104 United States;X-APPLE-RADIUS=500;X-TITLE=1350 Concourse Ave.:geo:-90.0155942,35.1521433
END:VEVENT
BEGIN:VEVENT
DTSTART;VALUE=DATE:20180118
DTEND;VALUE=DATE:20180212
DTSTAMP:20260423T140408
CREATED:20171214T223657Z
LAST-MODIFIED:20180119T205425Z
UID:10003192-1516298400-1518371999@crosstownarts.org
SUMMARY:Wish Book: William E. Jones
DESCRIPTION:Selected work by William E. Jones | Curated by Terri Phillips and Brian Pera\nOn view through Feb. 11 \nLocations: Screening Room & East Atrium \nReceptions:\nFriday\, Jan. 19\, 6-9 pm (screening runs from 7-9 pm)\nSaturday\, Jan. 20\, 7-9 pm (screening & artist talk with Brian Pera) \n\nThe Wish Book series is a triannual exhibition with a focus on artists’ films. Curators Brian Pera and Terri Phillips welcome internationally recognized artists\, filmmakers\, and critics to Memphis for this exciting new series\, which takes its name from the famed Sears Catalog and is hosted by Crosstown Arts at Crosstown Concourse\, itself once a major Sears distribution center. Drawing from a wide range of topics\, techniques\, and perspectives\, the films index the scope of work being done by artists in moving pictures. \nAbout the Artist:\nWilliam E. Jones has made the films Massillon (1991) and Finished (1997)\, which won a Los Angeles Film Critics Association award\, the documentary Is It Really So Strange?  (2004)\, and many videos including The Fall of Communism as Seen in Gay Pornography (1998). His work was included in the 1993 and 2008 Whitney Biennials\, and he has had retrospectives at Tate Modern (2005)\, Anthology Film Archives (2010)\, and the Austrian Film Museum (2011). His books include “Killed”: Rejected Images of the Farm Security Administration (2010)\, Halsted Plays Himself (2011)\, and Imitation of Christ\, named one of the best photo books of 2013 by Time magazine. \n 
URL:https://crosstownarts.org/calendar/wishbook-william-e-jones/
LOCATION:Crosstown Arts\, Screening Room\, 1350 Concourse Ave.\, Memphis\, TN\, 38104\, United States
CATEGORIES:Gallery
ATTACH;FMTTYPE=image/jpeg:https://crosstownarts.org/wp-content/uploads/2017/12/William-E.-Jones-Paris-Tavitian.jpg
GEO:35.1521433;-90.0155942
X-APPLE-STRUCTURED-LOCATION;VALUE=URI;X-ADDRESS=Crosstown Arts Screening Room 1350 Concourse Ave. Memphis TN 38104 United States;X-APPLE-RADIUS=500;X-TITLE=1350 Concourse Ave.:geo:-90.0155942,35.1521433
END:VEVENT
END:VCALENDAR