BEGIN:VCALENDAR
VERSION:2.0
PRODID:-//Crosstown Arts - ECPv6.15.17.1//NONSGML v1.0//EN
CALSCALE:GREGORIAN
METHOD:PUBLISH
X-WR-CALNAME:Crosstown Arts
X-ORIGINAL-URL:https://crosstownarts.org
X-WR-CALDESC:Events for Crosstown Arts
REFRESH-INTERVAL;VALUE=DURATION:PT1H
X-Robots-Tag:noindex
X-PUBLISHED-TTL:PT1H
BEGIN:VTIMEZONE
TZID:America/Chicago
BEGIN:DAYLIGHT
TZOFFSETFROM:-0600
TZOFFSETTO:-0500
TZNAME:CDT
DTSTART:20150308T080000
END:DAYLIGHT
BEGIN:STANDARD
TZOFFSETFROM:-0500
TZOFFSETTO:-0600
TZNAME:CST
DTSTART:20151101T070000
END:STANDARD
BEGIN:DAYLIGHT
TZOFFSETFROM:-0600
TZOFFSETTO:-0500
TZNAME:CDT
DTSTART:20160313T080000
END:DAYLIGHT
BEGIN:STANDARD
TZOFFSETFROM:-0500
TZOFFSETTO:-0600
TZNAME:CST
DTSTART:20161106T070000
END:STANDARD
BEGIN:DAYLIGHT
TZOFFSETFROM:-0600
TZOFFSETTO:-0500
TZNAME:CDT
DTSTART:20170312T080000
END:DAYLIGHT
BEGIN:STANDARD
TZOFFSETFROM:-0500
TZOFFSETTO:-0600
TZNAME:CST
DTSTART:20171105T070000
END:STANDARD
END:VTIMEZONE
BEGIN:VEVENT
DTSTART;TZID=America/Chicago:20161112T040000
DTEND;TZID=America/Chicago:20161112T100000
DTSTAMP:20260424T110813
CREATED:20161017T165838Z
LAST-MODIFIED:20161017T165838Z
UID:10002862-1478923200-1478944800@crosstownarts.org
SUMMARY:Crafts & Drafts
DESCRIPTION:Free curated exhibition and sale of handmade arts and crafts from more than 60 local craft vendors. Local craft beers will be available for purchase\, and food trucks will be on-site. Sponsored by the Memphis Flyer.
URL:https://crosstownarts.org/calendar/crafts-drafts/
LOCATION:Crosstown Arts Parking Lot\, Autumn Ave. & N. Watkins St.\, Memphis\, TN\, 38104\, United States
CATEGORIES:Programs
ATTACH;FMTTYPE=image/png:https://crosstownarts.org/wp-content/uploads/2016/10/Screen-Shot-2016-10-17-at-11.54.47-AM.png
GEO:35.1508206;-90.0129895
X-APPLE-STRUCTURED-LOCATION;VALUE=URI;X-ADDRESS=Crosstown Arts Parking Lot Autumn Ave. & N. Watkins St. Memphis TN 38104 United States;X-APPLE-RADIUS=500;X-TITLE=Autumn Ave. & N. Watkins St.:geo:-90.0129895,35.1508206
END:VEVENT
END:VCALENDAR