BEGIN:VCALENDAR
VERSION:2.0
PRODID:-//Crosstown Arts - ECPv6.15.17.1//NONSGML v1.0//EN
CALSCALE:GREGORIAN
METHOD:PUBLISH
X-ORIGINAL-URL:https://crosstownarts.org
X-WR-CALDESC:Events for Crosstown Arts
REFRESH-INTERVAL;VALUE=DURATION:PT1H
X-Robots-Tag:noindex
X-PUBLISHED-TTL:PT1H
BEGIN:VTIMEZONE
TZID:America/Chicago
BEGIN:DAYLIGHT
TZOFFSETFROM:-0600
TZOFFSETTO:-0500
TZNAME:CDT
DTSTART:20170312T080000
END:DAYLIGHT
BEGIN:STANDARD
TZOFFSETFROM:-0500
TZOFFSETTO:-0600
TZNAME:CST
DTSTART:20171105T070000
END:STANDARD
BEGIN:DAYLIGHT
TZOFFSETFROM:-0600
TZOFFSETTO:-0500
TZNAME:CDT
DTSTART:20180311T080000
END:DAYLIGHT
BEGIN:STANDARD
TZOFFSETFROM:-0500
TZOFFSETTO:-0600
TZNAME:CST
DTSTART:20181104T070000
END:STANDARD
BEGIN:DAYLIGHT
TZOFFSETFROM:-0600
TZOFFSETTO:-0500
TZNAME:CDT
DTSTART:20190310T080000
END:DAYLIGHT
BEGIN:STANDARD
TZOFFSETFROM:-0500
TZOFFSETTO:-0600
TZNAME:CST
DTSTART:20191103T070000
END:STANDARD
END:VTIMEZONE
BEGIN:VEVENT
DTSTART;TZID=America/Chicago:20181019T140000
DTEND;TZID=America/Chicago:20181019T160000
DTSTAMP:20260425T232305
CREATED:20180927T165148Z
LAST-MODIFIED:20181011T163126Z
UID:10003403-1539957600-1539964800@crosstownarts.org
SUMMARY:The Music of Charlie Parker
DESCRIPTION:Jazz tribute to Charlie Parker featuring John Lux (alto sax)\, Charlton Johnson (guitar)\, Sylvester Sample (acoustic bass) \, Alvie Givhan (piano)\, and Nygel Yancey (drums). \nThe Crosstown Jazz Series\, presented by Strictly Jazz Entertainment in collaboration with Crosstown Arts\, is designed to salute classic jazz music as contemporary musicians perform the work of the legends. \nTickets: $15 (purchase on Eventbrite)\nDoors at 6:30 pm | performance at 7 pm \n\n\n\nAbout Strictly Jazz Entertainment:\nStrictly Jazz Entertainment is committed to cultivating a growing community in the knowledge and appreciation of jazz. We facilitate dialogue and collaboration between the devoted supporters of jazz and the brand new constituents – those new to the genre – for the furthering of the jazz community. We provide a bridge between leading artists and a community that typically does not embrace jazz by promoting concerts in various venues to generate an atmosphere that is viable for the absorption of pure jazz.
URL:https://crosstownarts.org/calendar/the-music-of-charlie-parker/
LOCATION:Crosstown Arts\, East Atrium\, 1350 Concourse Ave.\, Suite 280\, Memphis\, TN\, United States
ATTACH;FMTTYPE=image/jpeg:https://crosstownarts.org/wp-content/uploads/2018/09/crosstown-charlie-parker-01.jpg
GEO:35.1522897;-90.0132964
X-APPLE-STRUCTURED-LOCATION;VALUE=URI;X-ADDRESS=Crosstown Arts East Atrium 1350 Concourse Ave. Suite 280 Memphis TN United States;X-APPLE-RADIUS=500;X-TITLE=1350 Concourse Ave.\, Suite 280:geo:-90.0132964,35.1522897
END:VEVENT
BEGIN:VEVENT
DTSTART;TZID=America/Chicago:20181010T130000
DTEND;TZID=America/Chicago:20181010T150000
DTSTAMP:20260425T232305
CREATED:20180917T215859Z
LAST-MODIFIED:20181002T205314Z
UID:10003389-1539176400-1539183600@crosstownarts.org
SUMMARY:Crosstown Arts Resident Artist Talk
DESCRIPTION:Crosstown Arts offers multidisciplinary residencies in to visiting and Memphis-based artists and curators\, working in any creative discipline including visual and performing arts\, music\, film\, and writing in all genres. \nThe resident artists discuss their work in a series on monthly artist talks. This month: Ama Codjoe\, Jules Johnston\, and Karina Alvarez.
URL:https://crosstownarts.org/calendar/crosstown-arts-resident-artist-talk-2/
LOCATION:Crosstown Arts\, East Atrium\, 1350 Concourse Ave.\, Suite 280\, Memphis\, TN\, United States
CATEGORIES:Residency
ATTACH;FMTTYPE=image/png:https://crosstownarts.org/wp-content/uploads/2018/03/Screen-Shot-2018-03-15-at-1.18.47-PM.png
GEO:35.1522897;-90.0132964
X-APPLE-STRUCTURED-LOCATION;VALUE=URI;X-ADDRESS=Crosstown Arts East Atrium 1350 Concourse Ave. Suite 280 Memphis TN United States;X-APPLE-RADIUS=500;X-TITLE=1350 Concourse Ave.\, Suite 280:geo:-90.0132964,35.1522897
END:VEVENT
BEGIN:VEVENT
DTSTART;TZID=America/Chicago:20180929T133000
DTEND;TZID=America/Chicago:20180929T160000
DTSTAMP:20260425T232305
CREATED:20180830T213349Z
LAST-MODIFIED:20180913T182733Z
UID:10003361-1538227800-1538236800@crosstownarts.org
SUMMARY:The Music of Billie Holiday
DESCRIPTION:Tickets $15 (purchase on Eventbrite)\nDoors at 6:30 pm | Show at 7 pm \nTribute to American jazz singer Billie Holiday featuring Tamara Jones Monger (vocals)\, Keenan Shotwell (piano)\, Carl Casperson (acoustic bass)\, Gerard Harris (guitar)\, and James Sexton (drums). \nThe Crosstown Jazz Series\, presented by Strictly Jazz Entertainment in collaboration with Crosstown Arts\, is designed to salute classic jazz music as contemporary musicians perform the work of the legends. \n\n\n\nAbout Strictly Jazz Entertainment:\nStrictly Jazz Entertainment is committed to cultivating a growing community in the knowledge and appreciation of jazz. We facilitate dialogue and collaboration between the devoted supporters of jazz and the brand new constituents – those new to the genre – for the furthering of the jazz community. We provide a bridge between leading artists and a community that typically does not embrace jazz by promoting concerts in various venues to generate an atmosphere that is viable for the absorption of pure jazz.
URL:https://crosstownarts.org/calendar/the-music-of-billie-holiday/
LOCATION:Crosstown Arts\, East Atrium\, 1350 Concourse Ave.\, Suite 280\, Memphis\, TN\, United States
ATTACH;FMTTYPE=image/jpeg:https://crosstownarts.org/wp-content/uploads/2018/08/Billie-Holiday-crosstown-01.jpg
GEO:35.1522897;-90.0132964
X-APPLE-STRUCTURED-LOCATION;VALUE=URI;X-ADDRESS=Crosstown Arts East Atrium 1350 Concourse Ave. Suite 280 Memphis TN United States;X-APPLE-RADIUS=500;X-TITLE=1350 Concourse Ave.\, Suite 280:geo:-90.0132964,35.1522897
END:VEVENT
BEGIN:VEVENT
DTSTART;TZID=America/Chicago:20180925T130000
DTEND;TZID=America/Chicago:20180925T150000
DTSTAMP:20260425T232305
CREATED:20180917T215859Z
LAST-MODIFIED:20180919T203218Z
UID:10003387-1537880400-1537887600@crosstownarts.org
SUMMARY:Crosstown Arts Resident Artist Talk
DESCRIPTION:Crosstown Arts offers multidisciplinary residencies in to visiting and Memphis-based artists and curators\, working in any creative discipline including visual and performing arts\, music\, film\, and writing in all genres. \nThe resident artists discuss their work in a series on monthly artist talks. This month: Sid Richardson\,Santina Amato\, Jeremiah Matthews\, and Alex Paulus.
URL:https://crosstownarts.org/calendar/crosstown-arts-resident-artist-talk/
LOCATION:Crosstown Arts\, East Atrium\, 1350 Concourse Ave.\, Suite 280\, Memphis\, TN\, United States
CATEGORIES:Residency
ATTACH;FMTTYPE=image/png:https://crosstownarts.org/wp-content/uploads/2018/03/Screen-Shot-2018-03-15-at-1.18.47-PM.png
GEO:35.1522897;-90.0132964
X-APPLE-STRUCTURED-LOCATION;VALUE=URI;X-ADDRESS=Crosstown Arts East Atrium 1350 Concourse Ave. Suite 280 Memphis TN United States;X-APPLE-RADIUS=500;X-TITLE=1350 Concourse Ave.\, Suite 280:geo:-90.0132964,35.1522897
END:VEVENT
BEGIN:VEVENT
DTSTART;TZID=America/Chicago:20180721T133000
DTEND;TZID=America/Chicago:20180721T160000
DTSTAMP:20260425T232305
CREATED:20180627T173412Z
LAST-MODIFIED:20180717T145443Z
UID:10003335-1532179800-1532188800@crosstownarts.org
SUMMARY:SOLD OUT - The Music of Nancy Wilson
DESCRIPTION:Ticket sales for the Music of Nancy Wilson have sold out. Please check back next month for details on our next Crosstown Jazz Series concert. \nDoors at 6:30 pm | show at 7 pm \nJazz tribute to Grammy-winning jazz songstress Nancy Wilson featuring D’Monet (vocalist)\, Darryl Sanford (piano)\, Carl Casperson (acoustic bass)\, Jonathan Bass (guitar)\, Mike Assad (drums). \nThe Crosstown Jazz Series\, presented by Strictly Jazz Entertainment in collaboration with Crosstown Arts\, is designed to salute classic jazz music as contemporary musicians perform the work of the legends. \nNancy Wilson (born February 20\, 1937) is an American singer with more than seventy albums\, and three Grammy Awards. \n\n \nAbout D’Monet:\nHow an artist starts a journey can say a lot about their destination; belting out melodies from the womb is a divine beginning. The classically trained voice known as D’Monet cannot be defined as a Jazz\, Rhythm and Blues\, or Pop singer … but she has redefined the meaning of the traditional soul artist. \nD’Monet allows you to travel on contorted twists of loves’ successes and failures\, all while exercising her massive vocal prowess. Nurturing her vocal gifts from the tender age of 4\, along with developing her ear for the piano by 7\, she now is a seasoned veteran. \nD’Monet has shared her soul from New York to Los Angeles\, but it’s only natural she makes Memphis\, Tennessee the home of her “Futuristic Soul.” As D’Monet inspires those within her artistic circle\, she soaks inspiration from classic triple threat artists\, such as Anita Baker\, Oleta Adams\, Celine Dion\, Luther Vandross\, Stevie Wonder and Rachelle Ferrell. \nD’Monet has a gift for building bridges between a song and her audience\, crossing cultural and musical genres. This elegant songstress approaches each note with a sophisticated passion\, which leaves the listener addicted and wanting more. D’Monet’s recordings can only be matched by her live performances in various venues around Memphis\, TN. She has been featured on numerous stages and sets\, and her sound has allowed her to branch out across several genres. \nShe was honored to perform as the special guest for Black Enterprise’s Women of Power Summit in 2012. Having shared the stage with Soul Crooner Eric Roberson\, and also having a brief stint as a background singer for Blackstreet’s Dave Hollister\, D’Monet has become a musical mainstay\, particularly in the city of Memphis. In 2011\, D’Monet was featured on Markevius Faulkner‘s hit single “Day One\,” which received major radio airplay on WHAL-FM’S 95.7 Hallelujah FM. In the wake of “Day One”’s success\, D’Monet released her debut single\, “Oooh Baby (Got Your Back).” Her quest to continue along her musical journey is just beginning. \n\nAbout Strictly Jazz Entertainment:\nStrictly Jazz Entertainment is committed to cultivating a growing community in the knowledge and appreciation of jazz. We facilitate dialogue and collaboration between the devoted supporters of jazz and the brand new constituents – those new to the genre – for the furthering of the jazz community. We provide a bridge between leading artists and a community that typically does not embrace jazz by promoting concerts in various venues to generate an atmosphere that is viable for the absorption of pure jazz.
URL:https://crosstownarts.org/calendar/the-music-of-nancy-wilson/
LOCATION:Crosstown Arts\, East Atrium\, 1350 Concourse Ave.\, Suite 280\, Memphis\, TN\, United States
ATTACH;FMTTYPE=image/jpeg:https://crosstownarts.org/wp-content/uploads/2018/06/NancyWilson-crosstown-01.jpg
GEO:35.1522897;-90.0132964
X-APPLE-STRUCTURED-LOCATION;VALUE=URI;X-ADDRESS=Crosstown Arts East Atrium 1350 Concourse Ave. Suite 280 Memphis TN United States;X-APPLE-RADIUS=500;X-TITLE=1350 Concourse Ave.\, Suite 280:geo:-90.0132964,35.1522897
END:VEVENT
BEGIN:VEVENT
DTSTART;TZID=America/Chicago:20180616T090000
DTEND;TZID=America/Chicago:20180616T100000
DTSTAMP:20260425T232305
CREATED:20180601T212824Z
LAST-MODIFIED:20180601T212824Z
UID:10003320-1529139600-1529143200@crosstownarts.org
SUMMARY:Workshop: So You Don't Like New Music ...
DESCRIPTION:ICEBERG New Music composer Derek Cooper will lead a workshop called  “So You Don’t Like New Music … A Suggestive Way to Listen to Contemporary Classical Music.” \nFree \nICEBERG New Music is a New York City-based collective of composers who will be spending a week in Memphis working with Blueshift musicians to put on a performance of their compositions on Thursday\, June 14\, 7 pm. Sponsored in part by Amro Music. \n\n\n\nAbout ICEBERG New Music:\nFounded by composer Alex Burtzos in 2016\, ICEBERG new music is a collective of ten young composers based in New York City. The mission of the organization is to promote the idea that substance – not surface – is the heart of music creation and perception. We live in an era where dogma is out of place; composers can\, and should\, draw from an unprecedentedly broad array of influences in their work – including popular music\, avant-garde techniques\, and everything in between. The ten ICEBERG composers hail from different schools and cultivate radically different sounds\, but their contrasting musical languages belie shared emphasis on structure and depth of meaning. When these artists compose for the same ensemble and present their works during a joint concert\, the result is a glimpse into the ever-widening possibilities of art music in the twenty-first century. ICEBERG is committed to radical stylistic inclusiveness\, excellence of craft\, dialogue with the audience\, and a modernization of the concert-going experience.\n\n\n\n\n\n\nAbout Blueshift Ensemble:\nBlueshift is a Memphis-based contemporary chamber music ensemble dedicated to bringing artists and audiences together through artistic collaboration. By programming both new and existing classical repertoire alongside multi-genre collaborations\, Blueshift aims to connect a wider audience to today’s classical music. The ensemble draws upon Memphis’s uniquely diverse musical heritage by combining classical music with popular music genres such as rock\, blues\, and soul and featuring local musicians\, visual artists\, and composers.
URL:https://crosstownarts.org/calendar/workshop-so-you-dont-like-new-music/
LOCATION:Crosstown Arts\, East Atrium\, 1350 Concourse Ave.\, Suite 280\, Memphis\, TN\, United States
ATTACH;FMTTYPE=image/png:https://crosstownarts.org/wp-content/uploads/2018/05/ICEBERG-Banner.png
GEO:35.1522897;-90.0132964
X-APPLE-STRUCTURED-LOCATION;VALUE=URI;X-ADDRESS=Crosstown Arts East Atrium 1350 Concourse Ave. Suite 280 Memphis TN United States;X-APPLE-RADIUS=500;X-TITLE=1350 Concourse Ave.\, Suite 280:geo:-90.0132964,35.1522897
END:VEVENT
BEGIN:VEVENT
DTSTART;TZID=America/Chicago:20180616T080000
DTEND;TZID=America/Chicago:20180616T084500
DTSTAMP:20260425T232305
CREATED:20180601T212206Z
LAST-MODIFIED:20180601T212320Z
UID:10003318-1529136000-1529138700@crosstownarts.org
SUMMARY:Workshop: Getting Medieval — Ancient Techniques in the Music of Radiohead
DESCRIPTION:ICEBERG New Music composer Alex Burtzos will lead a free workshop on ancient techniques in the music of Radiohead. \nFree | 45 minutes \nICEBERG New Music is a New York City-based collective of composers who will be spending a week in Memphis working with Blueshift musicians to put on a performance of their compositions on Thursday\, June 14\, 7 pm. Sponsored in part by Amro Music. \n\n\nAbout ICEBERG New Music:\nFounded by composer Alex Burtzos in 2016\, ICEBERG new music is a collective of ten young composers based in New York City. The mission of the organization is to promote the idea that substance – not surface – is the heart of music creation and perception. We live in an era where dogma is out of place; composers can\, and should\, draw from an unprecedentedly broad array of influences in their work – including popular music\, avant-garde techniques\, and everything in between. The ten ICEBERG composers hail from different schools and cultivate radically different sounds\, but their contrasting musical languages belie shared emphasis on structure and depth of meaning. When these artists compose for the same ensemble and present their works during a joint concert\, the result is a glimpse into the ever-widening possibilities of art music in the twenty-first century. ICEBERG is committed to radical stylistic inclusiveness\, excellence of craft\, dialogue with the audience\, and a modernization of the concert-going experience.\n\n\n\n\n\n\nAbout Blueshift Ensemble:\nBlueshift is a Memphis-based contemporary chamber music ensemble dedicated to bringing artists and audiences together through artistic collaboration. By programming both new and existing classical repertoire alongside multi-genre collaborations\, Blueshift aims to connect a wider audience to today’s classical music. The ensemble draws upon Memphis’s uniquely diverse musical heritage by combining classical music with popular music genres such as rock\, blues\, and soul and featuring local musicians\, visual artists\, and composers.
URL:https://crosstownarts.org/calendar/workshop-getting-medieval-ancient-techniques-in-the-music-of-radiohead/
LOCATION:Crosstown Arts\, East Atrium\, 1350 Concourse Ave.\, Suite 280\, Memphis\, TN\, United States
ATTACH;FMTTYPE=image/png:https://crosstownarts.org/wp-content/uploads/2018/05/ICEBERG-Banner.png
GEO:35.1522897;-90.0132964
X-APPLE-STRUCTURED-LOCATION;VALUE=URI;X-ADDRESS=Crosstown Arts East Atrium 1350 Concourse Ave. Suite 280 Memphis TN United States;X-APPLE-RADIUS=500;X-TITLE=1350 Concourse Ave.\, Suite 280:geo:-90.0132964,35.1522897
END:VEVENT
BEGIN:VEVENT
DTSTART;TZID=America/Chicago:20180501T133000
DTEND;TZID=America/Chicago:20180501T160000
DTSTAMP:20260425T232305
CREATED:20180419T193801Z
LAST-MODIFIED:20180425T201702Z
UID:10003291-1525181400-1525190400@crosstownarts.org
SUMMARY:Shoot & Splice: LensRentals.com Demo
DESCRIPTION:Monthly filmmaking forum hosted by Indie Memphis and Crosstown Arts. \nJoin Indie Memphis and Crosstown Arts as we welcome our friends from LensRentals.com. They will provide a camera and lens demonstration\, and they’ll showcase some of their latest gear. \nLensRentals.com is also a sponsor of the Indie Memphis IndieGrant program\, now entering its fifth year. The latest news on IndieGrants and call for submissions will also be announced soon. \nDoors at 6:30 pm | demo begins at 7 pm
URL:https://crosstownarts.org/calendar/shoot-splice-4/
LOCATION:Crosstown Arts\, East Atrium\, 1350 Concourse Ave.\, Suite 280\, Memphis\, TN\, United States
ATTACH;FMTTYPE=image/png:https://crosstownarts.org/wp-content/uploads/2018/04/Shoot-and-Splice-Facebook-Event-2-1.png
GEO:35.1522897;-90.0132964
X-APPLE-STRUCTURED-LOCATION;VALUE=URI;X-ADDRESS=Crosstown Arts East Atrium 1350 Concourse Ave. Suite 280 Memphis TN United States;X-APPLE-RADIUS=500;X-TITLE=1350 Concourse Ave.\, Suite 280:geo:-90.0132964,35.1522897
END:VEVENT
END:VCALENDAR