BEGIN:VCALENDAR
VERSION:2.0
PRODID:-//Crosstown Arts - ECPv6.15.17.1//NONSGML v1.0//EN
CALSCALE:GREGORIAN
METHOD:PUBLISH
X-WR-CALNAME:Crosstown Arts
X-ORIGINAL-URL:https://crosstownarts.org
X-WR-CALDESC:Events for Crosstown Arts
REFRESH-INTERVAL;VALUE=DURATION:PT1H
X-Robots-Tag:noindex
X-PUBLISHED-TTL:PT1H
BEGIN:VTIMEZONE
TZID:America/Chicago
BEGIN:DAYLIGHT
TZOFFSETFROM:-0600
TZOFFSETTO:-0500
TZNAME:CDT
DTSTART:20140309T080000
END:DAYLIGHT
BEGIN:STANDARD
TZOFFSETFROM:-0500
TZOFFSETTO:-0600
TZNAME:CST
DTSTART:20141102T070000
END:STANDARD
BEGIN:DAYLIGHT
TZOFFSETFROM:-0600
TZOFFSETTO:-0500
TZNAME:CDT
DTSTART:20150308T080000
END:DAYLIGHT
BEGIN:STANDARD
TZOFFSETFROM:-0500
TZOFFSETTO:-0600
TZNAME:CST
DTSTART:20151101T070000
END:STANDARD
BEGIN:DAYLIGHT
TZOFFSETFROM:-0600
TZOFFSETTO:-0500
TZNAME:CDT
DTSTART:20160313T080000
END:DAYLIGHT
BEGIN:STANDARD
TZOFFSETFROM:-0500
TZOFFSETTO:-0600
TZNAME:CST
DTSTART:20161106T070000
END:STANDARD
BEGIN:DAYLIGHT
TZOFFSETFROM:-0600
TZOFFSETTO:-0500
TZNAME:CDT
DTSTART:20170312T080000
END:DAYLIGHT
BEGIN:STANDARD
TZOFFSETFROM:-0500
TZOFFSETTO:-0600
TZNAME:CST
DTSTART:20171105T070000
END:STANDARD
END:VTIMEZONE
BEGIN:VEVENT
DTSTART;TZID=America/Chicago:20160213T040000
DTEND;TZID=America/Chicago:20160213T060000
DTSTAMP:20260423T104210
CREATED:20160201T183027Z
LAST-MODIFIED:20160201T183418Z
UID:10002687-1455336000-1455343200@crosstownarts.org
SUMMARY:Memphis Urban Sketchers
DESCRIPTION:Join the Memphis Urban Sketchers will meet at the Cleveland Street Flea Market for their February sketching session. \nLearn more
URL:https://crosstownarts.org/calendar/memphis-urban-sketchers/
LOCATION:Cleveland Street Flea Market\, 438 N. Cleveland\, Memphis\, 38104\, United States
ATTACH;FMTTYPE=image/png:https://crosstownarts.org/wp-content/uploads/2016/02/Screen-Shot-2016-02-01-at-12.30.42-PM.png
GEO:35.1505926;-90.0135933
X-APPLE-STRUCTURED-LOCATION;VALUE=URI;X-ADDRESS=Cleveland Street Flea Market 438 N. Cleveland Memphis 38104 United States;X-APPLE-RADIUS=500;X-TITLE=438 N. Cleveland:geo:-90.0135933,35.1505926
END:VEVENT
BEGIN:VEVENT
DTSTART;TZID=America/Chicago:20150531T070000
DTEND;TZID=America/Chicago:20150531T110000
DTSTAMP:20260423T104210
CREATED:20150707T025359Z
LAST-MODIFIED:20150707T025359Z
UID:10002474-1433055600-1433070000@crosstownarts.org
SUMMARY:The Flyy Market
DESCRIPTION:What better way to kick off the summer season than with a flyy event including local vendors\, music\, food trucks\, and a thrifted fashion show hosted by local fashionistas?
URL:https://crosstownarts.org/calendar/the-flyy-market/
LOCATION:Cleveland Street Flea Market\, 438 N. Cleveland\, Memphis\, 38104\, United States
ATTACH;FMTTYPE=image/jpeg:https://crosstownarts.org/wp-content/uploads/2015/07/Flyy-Market-Fashion-Show.jpg
GEO:35.1505926;-90.0135933
X-APPLE-STRUCTURED-LOCATION;VALUE=URI;X-ADDRESS=Cleveland Street Flea Market 438 N. Cleveland Memphis 38104 United States;X-APPLE-RADIUS=500;X-TITLE=438 N. Cleveland:geo:-90.0135933,35.1505926
END:VEVENT
BEGIN:VEVENT
DTSTART;TZID=America/Chicago:20150409T123000
DTEND;TZID=America/Chicago:20150409T143000
DTSTAMP:20260423T104210
CREATED:20150709T022712Z
LAST-MODIFIED:20150709T022712Z
UID:10002491-1428582600-1428589800@crosstownarts.org
SUMMARY:Gil Ngole: Displacement
DESCRIPTION:Displacement: A Deconstructed Sound Journey\nFeaturing the art of Gil Ngole\nThis one night only exhibition features sculptures and sound art created by MCA graduate student Gil Ngole. He creates his foam and fabric sculptures quickly to mirror the rate that people in his home of the Republic of the Congo must make their bundles when they are forcefully displaced. Their bundles hold the food\, clothes\, and necessities they will need to survive away from their homes. His sound art focuses on the noises that displaced people in Central Africa hear while they are fleeing from their homes: the sound of falling feet\, explosions\, and the rattle of food cans. These noises\, coupled with the bundles move the viewers from the role of complacent observer and forces them into an empathetic position where they are experiencing forced displacement. This helps Gil deconstruct the image that western media has put forth about forced displacement. The exhibition will take place on a bus\, the location itself emphasizing the theme of movement and transportation that permeates Gil’s work. \nDisplacement will be on view in the parking lot of Crosstown Art’s Flea Market\, as part of Crosstown’s mission to expose the community to diversity and bring diverse communities together. \nThe exhibition is organized by Sadie Yanckello\, Amaris Prechtel and Mohib Khan\, with support from the Rhodes College Gallery Management class and a Center for Outreach and Development of the Arts (CODA) Grant. \n 
URL:https://crosstownarts.org/calendar/gil-ngole-displacement/
LOCATION:Cleveland Street Flea Market\, 438 N. Cleveland\, Memphis\, 38104\, United States
ATTACH;FMTTYPE=image/jpeg:https://crosstownarts.org/wp-content/uploads/2015/07/Displacement.jpg
GEO:35.1505926;-90.0135933
X-APPLE-STRUCTURED-LOCATION;VALUE=URI;X-ADDRESS=Cleveland Street Flea Market 438 N. Cleveland Memphis 38104 United States;X-APPLE-RADIUS=500;X-TITLE=438 N. Cleveland:geo:-90.0135933,35.1505926
END:VEVENT
BEGIN:VEVENT
DTSTART;VALUE=DATE:20150326
DTEND;VALUE=DATE:20150331
DTSTAMP:20260423T104210
CREATED:20150709T032652Z
LAST-MODIFIED:20150709T032652Z
UID:10002509-1427396400-1427741999@crosstownarts.org
SUMMARY:Mark Nowell: New Work
DESCRIPTION:Exhibition Schedule\nOn view Friday\, March 27- Monday\, April 30\nOpening Reception: Friday\, March 27\, 6 – 9 pm \nLong-time Memphis sculptor Mark Nowell presents a new installation at the Flea Market this spring.
URL:https://crosstownarts.org/calendar/mark-nowell-new-work/
LOCATION:Cleveland Street Flea Market\, 438 N. Cleveland\, Memphis\, 38104\, United States
ATTACH;FMTTYPE=image/jpeg:https://crosstownarts.org/wp-content/uploads/2015/07/Mark-Nowell.jpg
GEO:35.1505926;-90.0135933
X-APPLE-STRUCTURED-LOCATION;VALUE=URI;X-ADDRESS=Cleveland Street Flea Market 438 N. Cleveland Memphis 38104 United States;X-APPLE-RADIUS=500;X-TITLE=438 N. Cleveland:geo:-90.0135933,35.1505926
END:VEVENT
END:VCALENDAR