BEGIN:VCALENDAR
VERSION:2.0
PRODID:-//Crosstown Arts - ECPv6.15.17.1//NONSGML v1.0//EN
CALSCALE:GREGORIAN
METHOD:PUBLISH
X-WR-CALNAME:Crosstown Arts
X-ORIGINAL-URL:https://crosstownarts.org
X-WR-CALDESC:Events for Crosstown Arts
REFRESH-INTERVAL;VALUE=DURATION:PT1H
X-Robots-Tag:noindex
X-PUBLISHED-TTL:PT1H
BEGIN:VTIMEZONE
TZID:America/Chicago
BEGIN:DAYLIGHT
TZOFFSETFROM:-0600
TZOFFSETTO:-0500
TZNAME:CDT
DTSTART:20180311T080000
END:DAYLIGHT
BEGIN:STANDARD
TZOFFSETFROM:-0500
TZOFFSETTO:-0600
TZNAME:CST
DTSTART:20181104T070000
END:STANDARD
BEGIN:DAYLIGHT
TZOFFSETFROM:-0600
TZOFFSETTO:-0500
TZNAME:CDT
DTSTART:20190310T080000
END:DAYLIGHT
BEGIN:STANDARD
TZOFFSETFROM:-0500
TZOFFSETTO:-0600
TZNAME:CST
DTSTART:20191103T070000
END:STANDARD
BEGIN:DAYLIGHT
TZOFFSETFROM:-0600
TZOFFSETTO:-0500
TZNAME:CDT
DTSTART:20200308T080000
END:DAYLIGHT
BEGIN:STANDARD
TZOFFSETFROM:-0500
TZOFFSETTO:-0600
TZNAME:CST
DTSTART:20201101T070000
END:STANDARD
BEGIN:DAYLIGHT
TZOFFSETFROM:-0600
TZOFFSETTO:-0500
TZNAME:CDT
DTSTART:20210314T080000
END:DAYLIGHT
BEGIN:STANDARD
TZOFFSETFROM:-0500
TZOFFSETTO:-0600
TZNAME:CST
DTSTART:20211107T070000
END:STANDARD
BEGIN:DAYLIGHT
TZOFFSETFROM:-0600
TZOFFSETTO:-0500
TZNAME:CDT
DTSTART:20220313T080000
END:DAYLIGHT
BEGIN:STANDARD
TZOFFSETFROM:-0500
TZOFFSETTO:-0600
TZNAME:CST
DTSTART:20221106T070000
END:STANDARD
BEGIN:DAYLIGHT
TZOFFSETFROM:-0600
TZOFFSETTO:-0500
TZNAME:CDT
DTSTART:20230312T080000
END:DAYLIGHT
BEGIN:STANDARD
TZOFFSETFROM:-0500
TZOFFSETTO:-0600
TZNAME:CST
DTSTART:20231105T070000
END:STANDARD
BEGIN:DAYLIGHT
TZOFFSETFROM:-0600
TZOFFSETTO:-0500
TZNAME:CDT
DTSTART:20240310T080000
END:DAYLIGHT
BEGIN:STANDARD
TZOFFSETFROM:-0500
TZOFFSETTO:-0600
TZNAME:CST
DTSTART:20241103T070000
END:STANDARD
BEGIN:DAYLIGHT
TZOFFSETFROM:-0600
TZOFFSETTO:-0500
TZNAME:CDT
DTSTART:20250309T080000
END:DAYLIGHT
BEGIN:STANDARD
TZOFFSETFROM:-0500
TZOFFSETTO:-0600
TZNAME:CST
DTSTART:20251102T070000
END:STANDARD
BEGIN:DAYLIGHT
TZOFFSETFROM:-0600
TZOFFSETTO:-0500
TZNAME:CDT
DTSTART:20260308T080000
END:DAYLIGHT
BEGIN:STANDARD
TZOFFSETFROM:-0500
TZOFFSETTO:-0600
TZNAME:CST
DTSTART:20261101T070000
END:STANDARD
END:VTIMEZONE
BEGIN:VEVENT
DTSTART;TZID=America/Chicago:20250610T123000
DTEND;TZID=America/Chicago:20250610T143000
DTSTAMP:20260425T113702
CREATED:20250604T190951Z
LAST-MODIFIED:20250604T190841Z
UID:10004639-1749558600-1749565800@crosstownarts.org
SUMMARY:Crosstown Arts Residency General Application Info Session
DESCRIPTION:Crosstown Arts presents the Residency Application Info Session in the Glassroom Classroom\nThe Glassroom at Crosstown Arts\nTuesday\, June 10\, 2025\n5:30 – 7:30 pm\nFree and open to the public\nRSVP HERE\nDo you want to apply to the Crosstown Arts Resident Artist Program\, but you’re not quite sure where to start?\nAre you looking for more ways to make your application stand out to reviewers?\nAre you Curious about how a residency at Crosstown Arts could impact your creative career?\nAttend the Residency Application Info Session and learn the ins and outs of creating and submitting your application! You can also get answers to any questions you might have about the residency program directly from residency staff!
URL:https://crosstownarts.org/calendar/info-session-1/
LOCATION:Classroom Glass Room\, 1350 Concourse Ave.\, Memphis\, TN\, 38104\, United States
CATEGORIES:Residency
ATTACH;FMTTYPE=image/jpeg:https://crosstownarts.org/wp-content/uploads/2025/03/ResidencyInfoSession_06_10_25_Socials.jpg
END:VEVENT
BEGIN:VEVENT
DTSTART;TZID=America/Chicago:20230622T130000
DTEND;TZID=America/Chicago:20230622T150000
DTSTAMP:20260425T113702
CREATED:20230614T221215Z
LAST-MODIFIED:20230614T221215Z
UID:10004345-1687438800-1687446000@crosstownarts.org
SUMMARY:Crosstown Arts Residency Application Workshop
DESCRIPTION:Glassroom Classroom\nThursday\, June 22\, 2023\n6-8 pm\nTickets: Free \nThese in-person workshops with Residency staff will highlight the Crosstown Arts application and will give tips for any residency application. ⁠\n⁠\nThe dates are:⁠\n• Thursday\, June 22: 6 to 8 pm ⁠\n⁠\nGlassroom Classroom at Crosstown Arts (next to Farmburger)⁠
URL:https://crosstownarts.org/calendar/crosstown-arts-residency-application-workshop-2/
LOCATION:Classroom Glass Room\, 1350 Concourse Ave.\, Memphis\, TN\, 38104\, United States
ATTACH;FMTTYPE=image/jpeg:https://crosstownarts.org/wp-content/uploads/2023/05/IMG_6780-scaled.jpg
END:VEVENT
BEGIN:VEVENT
DTSTART;TZID=America/Chicago:20230615T130000
DTEND;TZID=America/Chicago:20230615T150000
DTSTAMP:20260425T113702
CREATED:20230614T221037Z
LAST-MODIFIED:20230614T221037Z
UID:10004344-1686834000-1686841200@crosstownarts.org
SUMMARY:Crosstown Arts Residency Application Workshop
DESCRIPTION:Glassroom Classroom\nThursday\, June 15\, 2023\n6-8 pm\nTickets: Free \nThese in-person workshops with Residency staff will highlight the Crosstown Arts application and will give tips for any residency application. ⁠\n⁠\nThe dates are:⁠\n• Thursday\, June 15: 6 to 8 pm⁠ (video and videographers)\n• Thursday\, June 22: 6 to 8 pm ⁠\n⁠\nGlassroom Classroom at Crosstown Arts (next to Farmburger)⁠
URL:https://crosstownarts.org/calendar/crosstown-arts-residency-application-workshop/
LOCATION:Classroom Glass Room\, 1350 Concourse Ave.\, Memphis\, TN\, 38104\, United States
ATTACH;FMTTYPE=image/jpeg:https://crosstownarts.org/wp-content/uploads/2023/05/IMG_6780-scaled.jpg
END:VEVENT
BEGIN:VEVENT
DTSTART;TZID=America/Chicago:20230515T130000
DTEND;TZID=America/Chicago:20230515T150000
DTSTAMP:20260425T113702
CREATED:20230510T213931Z
LAST-MODIFIED:20230510T214301Z
UID:10003610-1684155600-1684162800@crosstownarts.org
SUMMARY:Crosstown Arts Residency Application Workshop
DESCRIPTION:Glassroom Classroom\nMonday\, May 15\, 2023\n6-8 pm\nTickets: Free \nThese in-person workshops with Residency staff will highlight the Crosstown Arts application and will give tips for any residency application. ⁠\n⁠\nThe dates are:⁠\n• Monday\, May 15: 6 to 8 pm\n• Tuesday\, June 6: 6:30 to 8:30 pm (Bilingual workshop!)⁠\n• Thursday\, June 15: 6 to 8 pm⁠\n• Thursday\, June 22: 6 to 8 pm ⁠\n⁠\nGlassroom Classroom at Crosstown Arts (next to Farmburger)⁠
URL:https://crosstownarts.org/calendar/15982/
LOCATION:Classroom Glass Room\, 1350 Concourse Ave.\, Memphis\, TN\, 38104\, United States
ATTACH;FMTTYPE=image/jpeg:https://crosstownarts.org/wp-content/uploads/2023/05/IMG_6780-scaled.jpg
END:VEVENT
BEGIN:VEVENT
DTSTART;TZID=America/Chicago:20190626T040000
DTEND;TZID=America/Chicago:20190626T110000
DTSTAMP:20260425T113702
CREATED:20190207T220346Z
LAST-MODIFIED:20190610T203528Z
UID:10003521-1561521600-1561546800@crosstownarts.org
SUMMARY:Community Quilt Workshop
DESCRIPTION:Nationally recognized quilter Maria Shell will teach individuals how to make quilt blocks. Each block will then be added to the final masterpiece — a community quilt. Beginners and experts are invited. Makers do not need to have any experience making quilts or quilt blocks. All materials will be supplied.  \nTwo sessions:\n9 am-noon\n1-4 pm \nSign up here \n\nJune 27-28\, 2019 9 am-noon and 1-4 pm – Watch it grow! \nWatch while our community quilt is assembled. Maria will spend two days building the quilt using the quilt blocks created in the workshop. Community members and visitors are welcome to come and observe the process.  \nThis event is in conjunction with Stitched: Celebrating the Art of Quilting — a festival at Crosstown Arts with art exhibitions\, public quilting workshops\, and a Gathering of the Guilds showcase. Stitched runs from May 10-July 28\, 2019.
URL:https://crosstownarts.org/calendar/community-quilt-workshop/
LOCATION:Classroom Glass Room\, 1350 Concourse Ave.\, Memphis\, TN\, 38104\, United States
ATTACH;FMTTYPE=image/jpeg:https://crosstownarts.org/wp-content/uploads/2019/02/CommunityQuilt_Calendar.jpg
END:VEVENT
END:VCALENDAR