BEGIN:VCALENDAR
VERSION:2.0
PRODID:-//Crosstown Arts - ECPv6.15.17.1//NONSGML v1.0//EN
CALSCALE:GREGORIAN
METHOD:PUBLISH
X-ORIGINAL-URL:https://crosstownarts.org
X-WR-CALDESC:Events for Crosstown Arts
REFRESH-INTERVAL;VALUE=DURATION:PT1H
X-Robots-Tag:noindex
X-PUBLISHED-TTL:PT1H
BEGIN:VTIMEZONE
TZID:America/Chicago
BEGIN:DAYLIGHT
TZOFFSETFROM:-0600
TZOFFSETTO:-0500
TZNAME:CDT
DTSTART:20160313T080000
END:DAYLIGHT
BEGIN:STANDARD
TZOFFSETFROM:-0500
TZOFFSETTO:-0600
TZNAME:CST
DTSTART:20161106T070000
END:STANDARD
BEGIN:DAYLIGHT
TZOFFSETFROM:-0600
TZOFFSETTO:-0500
TZNAME:CDT
DTSTART:20170312T080000
END:DAYLIGHT
BEGIN:STANDARD
TZOFFSETFROM:-0500
TZOFFSETTO:-0600
TZNAME:CST
DTSTART:20171105T070000
END:STANDARD
BEGIN:DAYLIGHT
TZOFFSETFROM:-0600
TZOFFSETTO:-0500
TZNAME:CDT
DTSTART:20180311T080000
END:DAYLIGHT
BEGIN:STANDARD
TZOFFSETFROM:-0500
TZOFFSETTO:-0600
TZNAME:CST
DTSTART:20181104T070000
END:STANDARD
END:VTIMEZONE
BEGIN:VEVENT
DTSTART;TZID=America/Chicago:20171109T120000
DTEND;TZID=America/Chicago:20171109T140000
DTSTAMP:20260425T084841
CREATED:20170831T211035Z
LAST-MODIFIED:20171024T155231Z
UID:10003130-1510228800-1510236000@crosstownarts.org
SUMMARY:Crosstown Getdown: Line Dancing!
DESCRIPTION:Join us for Crosstown Getdown\, a monthly dance series at Crosstown Concourse. Each month will feature a different dance theme with free lessons followed by music and dancing. \nThis month: Line Dancing! \nMeet up in the Central Atrium by the main staircase. Ms. Jessie Jones will provide free instruction in line dancing from 6 to 6:30 pm\, followed by a dance party with DJ Swagg from 98.9 The Vibe until 8 pm. Ms. Jones \, a retired Shelby County Schools teacher\, teaches line dancing at Raleigh and Bickford Community Centers.
URL:https://crosstownarts.org/calendar/copy-of-crosstown-getdown/
LOCATION:Central Atrium\, Crosstown Concourse\, 1350 Concourse Ave.\, Memphis\, TN\, 38104\, United States
CATEGORIES:Programs
ATTACH;FMTTYPE=image/png:https://crosstownarts.org/wp-content/uploads/2017/08/Screen-Shot-2017-08-31-at-4.09.59-PM.png
GEO:35.1521433;-90.0155942
X-APPLE-STRUCTURED-LOCATION;VALUE=URI;X-ADDRESS=Central Atrium Crosstown Concourse 1350 Concourse Ave. Memphis TN 38104 United States;X-APPLE-RADIUS=500;X-TITLE=1350 Concourse Ave.:geo:-90.0155942,35.1521433
END:VEVENT
END:VCALENDAR