BEGIN:VCALENDAR
VERSION:2.0
PRODID:-//Crosstown Arts - ECPv6.15.17.1//NONSGML v1.0//EN
CALSCALE:GREGORIAN
METHOD:PUBLISH
X-WR-CALNAME:Crosstown Arts
X-ORIGINAL-URL:https://crosstownarts.org
X-WR-CALDESC:Events for Crosstown Arts
REFRESH-INTERVAL;VALUE=DURATION:PT1H
X-Robots-Tag:noindex
X-PUBLISHED-TTL:PT1H
BEGIN:VTIMEZONE
TZID:America/Chicago
BEGIN:DAYLIGHT
TZOFFSETFROM:-0600
TZOFFSETTO:-0500
TZNAME:CDT
DTSTART:20140309T080000
END:DAYLIGHT
BEGIN:STANDARD
TZOFFSETFROM:-0500
TZOFFSETTO:-0600
TZNAME:CST
DTSTART:20141102T070000
END:STANDARD
BEGIN:DAYLIGHT
TZOFFSETFROM:-0600
TZOFFSETTO:-0500
TZNAME:CDT
DTSTART:20150308T080000
END:DAYLIGHT
BEGIN:STANDARD
TZOFFSETFROM:-0500
TZOFFSETTO:-0600
TZNAME:CST
DTSTART:20151101T070000
END:STANDARD
BEGIN:DAYLIGHT
TZOFFSETFROM:-0600
TZOFFSETTO:-0500
TZNAME:CDT
DTSTART:20160313T080000
END:DAYLIGHT
BEGIN:STANDARD
TZOFFSETFROM:-0500
TZOFFSETTO:-0600
TZNAME:CST
DTSTART:20161106T070000
END:STANDARD
BEGIN:DAYLIGHT
TZOFFSETFROM:-0600
TZOFFSETTO:-0500
TZNAME:CDT
DTSTART:20170312T080000
END:DAYLIGHT
BEGIN:STANDARD
TZOFFSETFROM:-0500
TZOFFSETTO:-0600
TZNAME:CST
DTSTART:20171105T070000
END:STANDARD
BEGIN:DAYLIGHT
TZOFFSETFROM:-0600
TZOFFSETTO:-0500
TZNAME:CDT
DTSTART:20180311T080000
END:DAYLIGHT
BEGIN:STANDARD
TZOFFSETFROM:-0500
TZOFFSETTO:-0600
TZNAME:CST
DTSTART:20181104T070000
END:STANDARD
END:VTIMEZONE
BEGIN:VEVENT
DTSTART;TZID=America/Chicago:20170427T133000
DTEND;TZID=America/Chicago:20170427T163000
DTSTAMP:20260424T064006
CREATED:20160927T202510Z
LAST-MODIFIED:20170428T201601Z
UID:10002568-1493299800-1493310600@crosstownarts.org
SUMMARY:Spillit & Crosstown Arts present: Dear Diary
DESCRIPTION:Come witness the third installment of Spillit’s collaboration with Crosstown Arts: Pecha Kucha Night – Dear Diary. \nPresenters will bust out their old diaries from childhood and adolescence and share golden entries. Awkward\, sweet\, idiotic\, embarrassingly hopeful… you get the idea. \nEach presenter will pick 20 images that will be slides to go along with their diary reading. They’ll have twenty seconds per slide\, making their presentations six minutes and forty seconds of glory. \nPresenters:\nJoy Arwood\nMegan Ryan\nEryka Jackson\nSara K Larson\nEmily Thomas\nJana Wilson \nDoors open at 6:30 p.m./presentation begins at 7 p.m. \nLink to videos: https://vimeo.com/channels/deardiary03 \nFacebook invite
URL:https://crosstownarts.org/calendar/spillit-crosstown-arts-present-dear-diary-3/
LOCATION:Amurica\, 410 N. Cleveland\, Memphis\, TN\, 38104\, United States
CATEGORIES:Programs
ATTACH;FMTTYPE=image/jpeg:https://crosstownarts.org/wp-content/uploads/2016/09/Dear-Diary-April-.jpg
GEO:35.1499209;-90.0139171
X-APPLE-STRUCTURED-LOCATION;VALUE=URI;X-ADDRESS=Amurica 410 N. Cleveland Memphis TN 38104 United States;X-APPLE-RADIUS=500;X-TITLE=410 N. Cleveland:geo:-90.0139171,35.1499209
END:VEVENT
BEGIN:VEVENT
DTSTART;TZID=America/Chicago:20161206T120000
DTEND;TZID=America/Chicago:20161206T140000
DTSTAMP:20260424T064006
CREATED:20161115T205402Z
LAST-MODIFIED:20161202T223616Z
UID:10002885-1481025600-1481032800@crosstownarts.org
SUMMARY:It's a Hustle Holiday
DESCRIPTION:Relationships\, community\, and networking are important components for success in the art world  — for both artists and collectors. Stop by Amurica for festivities and fun! Bring some business cards\, grab a name tag and a cocktail\, and get to know your arts community. \nWe will have snacks\, a rousing game of “Drink N Draw” (for artists and non-artists alike)\, an artsy holiday craft project\, and door prizes. \nPlease bring a canned food item for Mid-South Arts Against Hunger food drive. \n\n\n\n\n\n\n\nHustle: professional development for artists is a free program organized by ArtsMemphis\, UrbanArt Commission\, and Crosstown Arts. The series will provide visual artists with information\, resources\, and opportunities to support them in the development of their professional careers. Workshop topics will range from positive studio practices to pricing work and navigating gallery representation. Questions? Contact Mary Jo Karimnia at maryjo@crosstownarts.org.
URL:https://crosstownarts.org/calendar/its-a-hustle-holiday/
LOCATION:Amurica\, 410 N. Cleveland\, Memphis\, TN\, 38104\, United States
CATEGORIES:Programs
ATTACH;FMTTYPE=image/jpeg:https://crosstownarts.org/wp-content/uploads/2016/11/Hustle-Holiday.jpg
GEO:35.1499209;-90.0139171
X-APPLE-STRUCTURED-LOCATION;VALUE=URI;X-ADDRESS=Amurica 410 N. Cleveland Memphis TN 38104 United States;X-APPLE-RADIUS=500;X-TITLE=410 N. Cleveland:geo:-90.0139171,35.1499209
END:VEVENT
BEGIN:VEVENT
DTSTART;TZID=America/Chicago:20161020T130000
DTEND;TZID=America/Chicago:20161020T160000
DTSTAMP:20260424T064006
CREATED:20160927T202510Z
LAST-MODIFIED:20161017T210150Z
UID:10002567-1476968400-1476979200@crosstownarts.org
SUMMARY:Spillit & Crosstown Arts present: Dear Diary
DESCRIPTION:Come witness Spillit’s collaboration with Crosstown Arts: Pecha Kucha Night – Dear Diary. \nPresenters will bust out their old diaries from childhood and adolescence and share golden entries. Awkward\, sweet\, idiotic\, embarrassingly hopeful… you get the idea. \nEach presenter has picked 20 images that will be slides to go along with their diary reading. They’ll have twenty seconds per slide\, making their presentations six minutes and forty seconds of glory. \nPresenters:\nJulia Hamilton\nKatelyn Jackson\nJoy Arwood\nMary Button\nAmanda Dent \nLink to example presentation:\nhttps://vimeo.com/album/3464881/video/68457336
URL:https://crosstownarts.org/calendar/spillit-crosstown-arts-present-dear-diary-2/
LOCATION:Amurica\, 410 N. Cleveland\, Memphis\, TN\, 38104\, United States
CATEGORIES:Programs
ATTACH;FMTTYPE=image/png:https://crosstownarts.org/wp-content/uploads/2016/09/unnamed.png
GEO:35.1499209;-90.0139171
X-APPLE-STRUCTURED-LOCATION;VALUE=URI;X-ADDRESS=Amurica 410 N. Cleveland Memphis TN 38104 United States;X-APPLE-RADIUS=500;X-TITLE=410 N. Cleveland:geo:-90.0139171,35.1499209
END:VEVENT
BEGIN:VEVENT
DTSTART;TZID=America/Chicago:20160519T130000
DTEND;TZID=America/Chicago:20160519T160000
DTSTAMP:20260424T064006
CREATED:20160509T182448Z
LAST-MODIFIED:20160509T185207Z
UID:10002533-1463662800-1463673600@crosstownarts.org
SUMMARY:Spillit & Crosstown Arts present: Dear Diary
DESCRIPTION:Come witness Spillit’s collaboration with Crosstown Arts: Pecha Kucha Night – Dear Diary \nYou asked\, we listened. Here’s what to do: \n1. Bust out your old diaries from childhood and adolescence and pick out golden entries. Awkward\, sweet\, idiotic\, embarassingly hopeful… you get the idea. \n2. Pick 20 images that will be slides to go along with your diary reading. You’ll have twenty seconds per slide\, making your presentation six minutes and forty seconds of glory. \nInterested in presenting? Email Emily Halpern: emily@crosstownarts.org \nLink to example presentation:\nhttps://vimeo.com/album/3464881/video/68457336
URL:https://crosstownarts.org/calendar/spillit-crosstown-arts-present-dear-diary/
LOCATION:Amurica\, 410 N. Cleveland\, Memphis\, TN\, 38104\, United States
CATEGORIES:Programs
ATTACH;FMTTYPE=image/jpeg:https://crosstownarts.org/wp-content/uploads/2016/05/13012597_982132521842108_3674175352638386673_n.jpg
GEO:35.1499209;-90.0139171
X-APPLE-STRUCTURED-LOCATION;VALUE=URI;X-ADDRESS=Amurica 410 N. Cleveland Memphis TN 38104 United States;X-APPLE-RADIUS=500;X-TITLE=410 N. Cleveland:geo:-90.0139171,35.1499209
END:VEVENT
BEGIN:VEVENT
DTSTART;TZID=America/Chicago:20150930T133000
DTEND;TZID=America/Chicago:20150930T160000
DTSTAMP:20260424T064006
CREATED:20150730T015435Z
LAST-MODIFIED:20150924T213059Z
UID:10002541-1443619800-1443628800@crosstownarts.org
SUMMARY:PechaKucha Night Volume 13
DESCRIPTION:Doors: 6:30 pm | Presentations: 7 pm \nJoin us for an evening of presentations that go behind-the-scenes and inside the minds of visual artists\, as they share their works\, processes and stories. \n\nPresenters:\nElizabeth Alley\nMary Beth Button\nColleen Couch\nKaren B. Golightly\nHope Hudson\nErica McCarrens\nErica Qualy \n\nAs always\, the presentations will satiate your appetite for learning\, and we’ll have food/drinks to take care of the rest. \n\n\nPechaKucha Nights began in Tokyo as an opportunity for artists\, designers and architects to show samples of their work through a concise\, timed presentation in a relaxed community setting. Now\, PechaKucha Nights take place all over the world and feature presenters from innumerably diverse backgrounds. \nThe key to PechaKucha Night is the 20×20 format: all presenters show 20 slides for 20 seconds each\, making each presentation succinct and dynamic.
URL:https://crosstownarts.org/calendar/pk-13/
LOCATION:Amurica\, 410 N. Cleveland\, Memphis\, TN\, 38104\, United States
CATEGORIES:Programs
ATTACH;FMTTYPE=image/png:https://crosstownarts.org/wp-content/uploads/2015/07/CXA_PK13_Poster_Web.png
GEO:35.1499209;-90.0139171
X-APPLE-STRUCTURED-LOCATION;VALUE=URI;X-ADDRESS=Amurica 410 N. Cleveland Memphis TN 38104 United States;X-APPLE-RADIUS=500;X-TITLE=410 N. Cleveland:geo:-90.0139171,35.1499209
END:VEVENT
END:VCALENDAR