BEGIN:VCALENDAR
VERSION:2.0
PRODID:-//Crosstown Arts - ECPv6.15.17.1//NONSGML v1.0//EN
CALSCALE:GREGORIAN
METHOD:PUBLISH
X-WR-CALNAME:Crosstown Arts
X-ORIGINAL-URL:https://crosstownarts.org
X-WR-CALDESC:Events for Crosstown Arts
REFRESH-INTERVAL;VALUE=DURATION:PT1H
X-Robots-Tag:noindex
X-PUBLISHED-TTL:PT1H
BEGIN:VTIMEZONE
TZID:America/Chicago
BEGIN:DAYLIGHT
TZOFFSETFROM:-0600
TZOFFSETTO:-0500
TZNAME:CDT
DTSTART:20120311T080000
END:DAYLIGHT
BEGIN:STANDARD
TZOFFSETFROM:-0500
TZOFFSETTO:-0600
TZNAME:CST
DTSTART:20121104T070000
END:STANDARD
BEGIN:DAYLIGHT
TZOFFSETFROM:-0600
TZOFFSETTO:-0500
TZNAME:CDT
DTSTART:20130310T080000
END:DAYLIGHT
BEGIN:STANDARD
TZOFFSETFROM:-0500
TZOFFSETTO:-0600
TZNAME:CST
DTSTART:20131103T070000
END:STANDARD
BEGIN:DAYLIGHT
TZOFFSETFROM:-0600
TZOFFSETTO:-0500
TZNAME:CDT
DTSTART:20140309T080000
END:DAYLIGHT
BEGIN:STANDARD
TZOFFSETFROM:-0500
TZOFFSETTO:-0600
TZNAME:CST
DTSTART:20141102T070000
END:STANDARD
END:VTIMEZONE
BEGIN:VEVENT
DTSTART;TZID=America/Chicago:20131020T090000
DTEND;TZID=America/Chicago:20131020T120000
DTSTAMP:20260425T102054
CREATED:20150612T195656Z
LAST-MODIFIED:20150612T200206Z
UID:10002406-1382259600-1382270400@crosstownarts.org
SUMMARY:Sketches of Crosstown
DESCRIPTION:In 2011\, Sean Murphy began recording an album in the Sears Crosstown building using only its vast and abandoned spaces to capture and create a one-of-a-kind recording\, Sketches of Crosstown. We’re pleased to commemorate the record release with a live performance at the building followed by a reception and talk with the artist and his collaborators. \nWatch the promotional video for the album\, documentary\, and concert here. \nPurchase performance tickets here. \n“It has been a long road but I can honestly say that this is the most inspiring musical project on which I’ve had the pleasure to work.”\n-Sean Murphy \nRecord Release Concert & Party \n4 pm: Performance at Sears Crosstown Building featuring Sean Murphy\, Jim Spake\, Jason Northcutt\, & The University of Memphis Slide Society.  Tickets include a copy of the limited edition 180 gram vinyl record.  Space is very limited and you must purchase your ticket in advance. Please note\, you must be able to climb stairs for the performance. \nThis will be one of the final opportunities to enter the building before renovation begins in 2014 and the only opportunity to ever hear the building talk live! \n6 – 8 pm: Artist Talk\, Film Screening of Mary Jane Adams’ documentary about the recording of Sketches of Crosstown\, and Reception at Crosstown Arts (430 N Cleveland\, Memphis\, TN\, 38104.)  Free and Open to the public. \nSean Murphy is a multi-disciplinary artist living in Memphis\, Tennessee.  He is a musician\, composer\, teaching artist\, instrument maker\, producer\, nature lover\, listener\, explorer. Born in Scooba\, Mississippi and raised in Memphis\, he attended the University of Memphis earning a Bachelor’s Degree in Music History with an emphasis on Ethnomusicology.  He was trained to play western classical and jazz on tuba; but his fascination with world cultures and music has led him to play innumerable instruments. He has been afforded the opportunity to perform throughout the United States and Europe as well as sharing the stage with The Meters\, Galactic\, Robert Randolph\, Paul Winter\, William Eaton\, Rufus Thomas\, and Clyde Stubblefield to name a few. Sean has released four solo albums\, and currently splits his time between performing and recording as a solo artist (often accompanying yoga classes taught by his artist wife\, Anne J. Froning) as well as with his group the Mighty Souls Brass Band.  He also builds musical instruments for outdoor classrooms through his business Being:Art.
URL:https://crosstownarts.org/calendar/sketches-of-crosstown/
LOCATION:Crosstown Concourse\, 1350 Concourse Ave.\, Memphis\, TN\, 38104
CATEGORIES:Programs
ATTACH;FMTTYPE=image/jpeg:https://crosstownarts.org/wp-content/uploads/2015/06/539e9400f262ea83-SeanMurphySketchesofCrosstown.jpg
GEO:35.1521433;-90.0155942
X-APPLE-STRUCTURED-LOCATION;VALUE=URI;X-ADDRESS=Crosstown Concourse 1350 Concourse Ave. Memphis TN 38104;X-APPLE-RADIUS=500;X-TITLE=1350 Concourse Ave.:geo:-90.0155942,35.1521433
END:VEVENT
END:VCALENDAR