BEGIN:VCALENDAR
VERSION:2.0
PRODID:-//Crosstown Arts - ECPv6.15.17.1//NONSGML v1.0//EN
CALSCALE:GREGORIAN
METHOD:PUBLISH
X-ORIGINAL-URL:https://crosstownarts.org
X-WR-CALDESC:Events for Crosstown Arts
REFRESH-INTERVAL;VALUE=DURATION:PT1H
X-Robots-Tag:noindex
X-PUBLISHED-TTL:PT1H
BEGIN:VTIMEZONE
TZID:America/Chicago
BEGIN:DAYLIGHT
TZOFFSETFROM:-0600
TZOFFSETTO:-0500
TZNAME:CDT
DTSTART:20140309T080000
END:DAYLIGHT
BEGIN:STANDARD
TZOFFSETFROM:-0500
TZOFFSETTO:-0600
TZNAME:CST
DTSTART:20141102T070000
END:STANDARD
BEGIN:DAYLIGHT
TZOFFSETFROM:-0600
TZOFFSETTO:-0500
TZNAME:CDT
DTSTART:20150308T080000
END:DAYLIGHT
BEGIN:STANDARD
TZOFFSETFROM:-0500
TZOFFSETTO:-0600
TZNAME:CST
DTSTART:20151101T070000
END:STANDARD
BEGIN:DAYLIGHT
TZOFFSETFROM:-0600
TZOFFSETTO:-0500
TZNAME:CDT
DTSTART:20160313T080000
END:DAYLIGHT
BEGIN:STANDARD
TZOFFSETFROM:-0500
TZOFFSETTO:-0600
TZNAME:CST
DTSTART:20161106T070000
END:STANDARD
END:VTIMEZONE
BEGIN:VEVENT
DTSTART;TZID=America/Chicago:20150626T130000
DTEND;TZID=America/Chicago:20150626T160000
DTSTAMP:20260423T103453
CREATED:20150613T020841Z
LAST-MODIFIED:20150613T020841Z
UID:10002416-1435323600-1435334400@crosstownarts.org
SUMMARY:Perpetual Discourse
DESCRIPTION:Artists’ Statements \nTori Cooper \nCurrently\, my artwork focuses on the cultural\, emotional and psychological connection to physical items and the process of repetitive action. We endlessly attach emotional significance to physical items. The item then comes to represent something greater and more powerful than a simple disposable object. The item becomes a tangible extension of emotions and memory. Thus\, the mind and the spirit alike have great difficulty relinquishing these items of personal significance. \nThe series consists of interwoven reeds into 6″x6″ canvases. The movement of the reeds is seamless\, having truly no end or beginning\, but the direction of each reed changes. Some move rapidly in a whipping motion. While other pieces in the series are fluid and subtle and others cradling and protective. Each piece represents an emotional state of being present during the creation of the piece. Thus\, the series seamlessly connects the artist\, the viewer and the expressed emotional state of being in the piece. \nTrevor Simpson  \nIn this series I have set out to manipulate the plasticity of composition and form in unexpected arrangements. I allow for the viewer to be engaged in the compositional formulation of each piece. The viewer’s eye and imagination is left free to play within the negative and positive space of each piece. Thematically the series is a process-based exploration of form as well as a 2d interpretation of Tori Cooper’s 3d assemblages. \nUltimately\, the pieces in the series create a collective lexicon of seemingly disparate arrangements. The series is a commentary on synchronicity and aligning what on the surface may appear to be fragmented.
URL:https://crosstownarts.org/calendar/perpetual-discourse/
CATEGORIES:430
ATTACH;FMTTYPE=image/jpeg:https://crosstownarts.org/wp-content/uploads/2015/06/perpetualdiscourse2.jpg
END:VEVENT
END:VCALENDAR