BEGIN:VCALENDAR
VERSION:2.0
PRODID:-//Crosstown Arts - ECPv6.15.17.1//NONSGML v1.0//EN
CALSCALE:GREGORIAN
METHOD:PUBLISH
X-ORIGINAL-URL:https://crosstownarts.org
X-WR-CALDESC:Events for Crosstown Arts
REFRESH-INTERVAL;VALUE=DURATION:PT1H
X-Robots-Tag:noindex
X-PUBLISHED-TTL:PT1H
BEGIN:VTIMEZONE
TZID:America/Chicago
BEGIN:DAYLIGHT
TZOFFSETFROM:-0600
TZOFFSETTO:-0500
TZNAME:CDT
DTSTART:20140309T080000
END:DAYLIGHT
BEGIN:STANDARD
TZOFFSETFROM:-0500
TZOFFSETTO:-0600
TZNAME:CST
DTSTART:20141102T070000
END:STANDARD
BEGIN:DAYLIGHT
TZOFFSETFROM:-0600
TZOFFSETTO:-0500
TZNAME:CDT
DTSTART:20150308T080000
END:DAYLIGHT
BEGIN:STANDARD
TZOFFSETFROM:-0500
TZOFFSETTO:-0600
TZNAME:CST
DTSTART:20151101T070000
END:STANDARD
BEGIN:DAYLIGHT
TZOFFSETFROM:-0600
TZOFFSETTO:-0500
TZNAME:CDT
DTSTART:20160313T080000
END:DAYLIGHT
BEGIN:STANDARD
TZOFFSETFROM:-0500
TZOFFSETTO:-0600
TZNAME:CST
DTSTART:20161106T070000
END:STANDARD
END:VTIMEZONE
BEGIN:VEVENT
DTSTART;TZID=America/Chicago:20150726T100000
DTEND;TZID=America/Chicago:20150726T140000
DTSTAMP:20260423T071823
CREATED:20150720T220227Z
LAST-MODIFIED:20150721T021733Z
UID:10002510-1437904800-1437919200@crosstownarts.org
SUMMARY:When Writers Unite
DESCRIPTION:UGenius Inc presents its first local fundraiser/artist showcase\, featuring writers of all kinds (poets\, rappers\, singers\, etc.) delivering a positive message to our community and to our youth. \nAll proceeds will be used to provide personal hygiene items and back-to-school supplies\, as well as funding the purchase of movies\, books\, etc. that will be shown and explained at local community center events bi-monthly. \nAttendees are also welcome to bring nonperishable items for donation.
URL:https://crosstownarts.org/calendar/when-writers-unite/
CATEGORIES:430
ATTACH;FMTTYPE=image/jpeg:https://crosstownarts.org/wp-content/uploads/2015/07/When-Writers-Unite.jpg
END:VEVENT
END:VCALENDAR