BEGIN:VCALENDAR
VERSION:2.0
PRODID:-//Crosstown Arts - ECPv6.15.17.1//NONSGML v1.0//EN
CALSCALE:GREGORIAN
METHOD:PUBLISH
X-ORIGINAL-URL:https://crosstownarts.org
X-WR-CALDESC:Events for Crosstown Arts
REFRESH-INTERVAL;VALUE=DURATION:PT1H
X-Robots-Tag:noindex
X-PUBLISHED-TTL:PT1H
BEGIN:VTIMEZONE
TZID:America/Chicago
BEGIN:DAYLIGHT
TZOFFSETFROM:-0600
TZOFFSETTO:-0500
TZNAME:CDT
DTSTART:20140309T080000
END:DAYLIGHT
BEGIN:STANDARD
TZOFFSETFROM:-0500
TZOFFSETTO:-0600
TZNAME:CST
DTSTART:20141102T070000
END:STANDARD
BEGIN:DAYLIGHT
TZOFFSETFROM:-0600
TZOFFSETTO:-0500
TZNAME:CDT
DTSTART:20150308T080000
END:DAYLIGHT
BEGIN:STANDARD
TZOFFSETFROM:-0500
TZOFFSETTO:-0600
TZNAME:CST
DTSTART:20151101T070000
END:STANDARD
BEGIN:DAYLIGHT
TZOFFSETFROM:-0600
TZOFFSETTO:-0500
TZNAME:CDT
DTSTART:20160313T080000
END:DAYLIGHT
BEGIN:STANDARD
TZOFFSETFROM:-0500
TZOFFSETTO:-0600
TZNAME:CST
DTSTART:20161106T070000
END:STANDARD
END:VTIMEZONE
BEGIN:VEVENT
DTSTART;TZID=America/Chicago:20150529T150000
DTEND;TZID=America/Chicago:20150529T190000
DTSTAMP:20260423T104052
CREATED:20150707T024842Z
LAST-MODIFIED:20150707T024856Z
UID:10002472-1432911600-1432926000@crosstownarts.org
SUMMARY:The Collective Presents: The Mimosa Mixer
DESCRIPTION:A fundraising event to share the Collective’s mission and to showcase the visual & artistic talents of its members. \nTicket Information:\nAdvance: $10\nAt the door: $12
URL:https://crosstownarts.org/calendar/the-collective-mimosa-mixer/
CATEGORIES:430
ATTACH;FMTTYPE=image/jpeg:https://crosstownarts.org/wp-content/uploads/2015/07/CLTV-Fundraiser.jpg
END:VEVENT
BEGIN:VEVENT
DTSTART;TZID=America/Chicago:20150430T133000
DTEND;TZID=America/Chicago:20150430T150000
DTSTAMP:20260423T104052
CREATED:20150707T061714Z
LAST-MODIFIED:20150707T061714Z
UID:10002476-1430400600-1430406000@crosstownarts.org
SUMMARY:Think Tank Series: Collective Consciousness
DESCRIPTION:The Collective invites you to join them for a discussion about how different ways of creating or being exposed to art can uplift a community\, create support from within\, and provide solutions.
URL:https://crosstownarts.org/calendar/think-tank-collective-consciousness/
LOCATION:story booth\, 438 N. Cleveland St.\, Memphis\, TN\, 38104\, United States
ATTACH;FMTTYPE=image/jpeg:https://crosstownarts.org/wp-content/uploads/2015/07/CLTV-Think-Tank.jpg
GEO:35.1505926;-90.0135933
X-APPLE-STRUCTURED-LOCATION;VALUE=URI;X-ADDRESS=story booth 438 N. Cleveland St. Memphis TN 38104 United States;X-APPLE-RADIUS=500;X-TITLE=438 N. Cleveland St.:geo:-90.0135933,35.1505926
END:VEVENT
END:VCALENDAR