BEGIN:VCALENDAR
VERSION:2.0
PRODID:-//Crosstown Arts - ECPv6.15.17.1//NONSGML v1.0//EN
CALSCALE:GREGORIAN
METHOD:PUBLISH
X-ORIGINAL-URL:https://crosstownarts.org
X-WR-CALDESC:Events for Crosstown Arts
REFRESH-INTERVAL;VALUE=DURATION:PT1H
X-Robots-Tag:noindex
X-PUBLISHED-TTL:PT1H
BEGIN:VTIMEZONE
TZID:America/Chicago
BEGIN:DAYLIGHT
TZOFFSETFROM:-0600
TZOFFSETTO:-0500
TZNAME:CDT
DTSTART:20250309T080000
END:DAYLIGHT
BEGIN:STANDARD
TZOFFSETFROM:-0500
TZOFFSETTO:-0600
TZNAME:CST
DTSTART:20251102T070000
END:STANDARD
BEGIN:DAYLIGHT
TZOFFSETFROM:-0600
TZOFFSETTO:-0500
TZNAME:CDT
DTSTART:20260308T080000
END:DAYLIGHT
BEGIN:STANDARD
TZOFFSETFROM:-0500
TZOFFSETTO:-0600
TZNAME:CST
DTSTART:20261101T070000
END:STANDARD
BEGIN:DAYLIGHT
TZOFFSETFROM:-0600
TZOFFSETTO:-0500
TZNAME:CDT
DTSTART:20270314T080000
END:DAYLIGHT
BEGIN:STANDARD
TZOFFSETFROM:-0500
TZOFFSETTO:-0600
TZNAME:CST
DTSTART:20271107T070000
END:STANDARD
END:VTIMEZONE
BEGIN:VEVENT
DTSTART;TZID=America/Chicago:20260412T180000
DTEND;TZID=America/Chicago:20260412T203000
DTSTAMP:20260423T054628
CREATED:20260201T160018Z
LAST-MODIFIED:20260403T192224Z
UID:10004791-1776016800-1776025800@crosstownarts.org
SUMMARY:Strictly Jazz: The Music of David Sanborn ft. Dr. Bill Hurd
DESCRIPTION:Strictly Jazz: The Music of David Sanborn ft. Dr. Bill Hurd \nThe Green Room at Crosstown Arts  \nSunday\, April 12th\, 2026  \nDoors open at 5:30 PM | Show starts at 6:00 PM  \n$25 in advance (plus fees) | $30 at the door \nPURCHASE TICKETS HERE \nJoin us for April’s installment of the Strictly Jazz series curated by Dennis Adams\, this time featuring saxophonist Dr. Bill Hurd as he pays homage to the great David Sanborn! \nDr. Bill Hurd is a man of many lives. Track star (Manassas High and All-American at Notre Dame)\, graduate of MIT\, and world-renowned ophthalmologist\, he’s traveled to West Africa and Madagascar for medical mission work. He’s also an inventor\, a husband to Judge Rhynette Northcross Hurd–oh\, and a master musician playing with the likes of Kirk Whalum\, Isaac Hayes\, and Maurice White. \nDavid Sanborn (1945–2024) was an influential American alto saxophonist renowned for blending jazz with pop and R&B\, earning six Grammy Awards and releasing 25 albums. Over a six-decade career\, he became a premier session musician for artists like David Bowie and Stevie Wonder\, while his solo work\, beginning with Taking Off (1975)\, defined the contemporary saxophone sound.
URL:https://crosstownarts.org/calendar/strictly-jazz-the-music-of-david-sanborn-ft-dr-bill-hurd/
LOCATION:Crosstown Arts\, The Green Room\, 1350 Concourse Ave.\, Suite 280\, Memphis\, TN\, 38104\, United States
ATTACH;FMTTYPE=image/jpeg:https://crosstownarts.org/wp-content/uploads/2026/02/TheMusicOfDavidSanborn_04_12_26_TheGreenRoom_SocialMedia-SoldOut4.jpg
GEO:35.1521433;-90.0155942
X-APPLE-STRUCTURED-LOCATION;VALUE=URI;X-ADDRESS=Crosstown Arts The Green Room 1350 Concourse Ave. Suite 280 Memphis TN 38104 United States;X-APPLE-RADIUS=500;X-TITLE=1350 Concourse Ave.\, Suite 280:geo:-90.0155942,35.1521433
END:VEVENT
END:VCALENDAR