BEGIN:VCALENDAR
VERSION:2.0
PRODID:-//Crosstown Arts - ECPv6.15.17.1//NONSGML v1.0//EN
CALSCALE:GREGORIAN
METHOD:PUBLISH
X-ORIGINAL-URL:https://crosstownarts.org
X-WR-CALDESC:Events for Crosstown Arts
REFRESH-INTERVAL;VALUE=DURATION:PT1H
X-Robots-Tag:noindex
X-PUBLISHED-TTL:PT1H
BEGIN:VTIMEZONE
TZID:America/Chicago
BEGIN:DAYLIGHT
TZOFFSETFROM:-0600
TZOFFSETTO:-0500
TZNAME:CDT
DTSTART:20140309T080000
END:DAYLIGHT
BEGIN:STANDARD
TZOFFSETFROM:-0500
TZOFFSETTO:-0600
TZNAME:CST
DTSTART:20141102T070000
END:STANDARD
BEGIN:DAYLIGHT
TZOFFSETFROM:-0600
TZOFFSETTO:-0500
TZNAME:CDT
DTSTART:20150308T080000
END:DAYLIGHT
BEGIN:STANDARD
TZOFFSETFROM:-0500
TZOFFSETTO:-0600
TZNAME:CST
DTSTART:20151101T070000
END:STANDARD
BEGIN:DAYLIGHT
TZOFFSETFROM:-0600
TZOFFSETTO:-0500
TZNAME:CDT
DTSTART:20160313T080000
END:DAYLIGHT
BEGIN:STANDARD
TZOFFSETFROM:-0500
TZOFFSETTO:-0600
TZNAME:CST
DTSTART:20161106T070000
END:STANDARD
END:VTIMEZONE
BEGIN:VEVENT
DTSTART;TZID=America/Chicago:20150724T110000
DTEND;TZID=America/Chicago:20150724T130000
DTSTAMP:20260425T214136
CREATED:20150703T032754Z
LAST-MODIFIED:20150714T023634Z
UID:10002451-1437735600-1437742800@crosstownarts.org
SUMMARY:zine fest
DESCRIPTION:all-ages event showcasing underground zines created by local & inter/national artists.
URL:https://crosstownarts.org/calendar/zine-fest-2015/
LOCATION:story booth\, 438 N. Cleveland St.\, Memphis\, TN\, 38104\, United States
ATTACH;FMTTYPE=image/jpeg:https://crosstownarts.org/wp-content/uploads/2015/07/zine-fest.jpg
GEO:35.1505926;-90.0135933
X-APPLE-STRUCTURED-LOCATION;VALUE=URI;X-ADDRESS=story booth 438 N. Cleveland St. Memphis TN 38104 United States;X-APPLE-RADIUS=500;X-TITLE=438 N. Cleveland St.:geo:-90.0135933,35.1505926
END:VEVENT
BEGIN:VEVENT
DTSTART;VALUE=DATE:20150719
DTEND;VALUE=DATE:20150725
DTSTAMP:20260425T214136
CREATED:20150703T030600Z
LAST-MODIFIED:20150911T004016Z
UID:10002449-1437332400-1437764399@crosstownarts.org
SUMMARY:summer workshop: zine & bookmaking
DESCRIPTION:2 – 4:30 pm // ages 10 – 14 \nthis workshop gives participants the chance to write and self-publish an original “zine\,” and then also to collaborate on an original story to be professionally published into a finished book. both of these projects allow participants to develop their creative writing and understand the elements of DIY and professional publishing\, and each participant will leave with a finished zine and book in hand.
URL:https://crosstownarts.org/calendar/story-booth-summer-workshop-bookmaking/
LOCATION:story booth\, 438 N. Cleveland St.\, Memphis\, TN\, 38104\, United States
CATEGORIES:Programs
ATTACH;FMTTYPE=image/jpeg:https://crosstownarts.org/wp-content/uploads/2015/07/story-booth-zine.jpg
GEO:35.1505926;-90.0135933
X-APPLE-STRUCTURED-LOCATION;VALUE=URI;X-ADDRESS=story booth 438 N. Cleveland St. Memphis TN 38104 United States;X-APPLE-RADIUS=500;X-TITLE=438 N. Cleveland St.:geo:-90.0135933,35.1505926
END:VEVENT
BEGIN:VEVENT
DTSTART;VALUE=DATE:20150705
DTEND;VALUE=DATE:20150711
DTSTAMP:20260425T214136
CREATED:20150623T233614Z
LAST-MODIFIED:20150911T004548Z
UID:10002329-1436122800-1436554799@crosstownarts.org
SUMMARY:story booth summer workshop: super 8 film
DESCRIPTION:2 – 4:30 pm // ages 10 – 14 \nthis workshop gives participants the chance to script\, shoot\, splice\, and screen their own independent\, super 8 films in one week. we’ll premiere all films at a mini-film festival on the last Friday of the workshop. taught by Crosstown Arts’ professional videographer\, Justin Thompson.
URL:https://crosstownarts.org/calendar/story-booth-summer-workshop-super-8-film/
LOCATION:story booth\, 438 N. Cleveland St.\, Memphis\, TN\, 38104\, United States
CATEGORIES:Programs
ATTACH;FMTTYPE=image/jpeg:https://crosstownarts.org/wp-content/uploads/2015/06/super-8-open.jpg
GEO:35.1505926;-90.0135933
X-APPLE-STRUCTURED-LOCATION;VALUE=URI;X-ADDRESS=story booth 438 N. Cleveland St. Memphis TN 38104 United States;X-APPLE-RADIUS=500;X-TITLE=438 N. Cleveland St.:geo:-90.0135933,35.1505926
END:VEVENT
BEGIN:VEVENT
DTSTART;TZID=America/Chicago:20150623T123000
DTEND;TZID=America/Chicago:20150623T140000
DTSTAMP:20260425T214136
CREATED:20150707T021214Z
LAST-MODIFIED:20150707T021214Z
UID:10002464-1435062600-1435068000@crosstownarts.org
SUMMARY:working writers' cocktail hour
DESCRIPTION:in the interests of further cultivating and connecting the literary community of Memphis\, story booth is excited to host Crosstown Arts’ first working writers’ cocktail hour. \nMFA students to early/mid-career/accomplished writers (meaning published and not-yet-published)—whether they be writers of poetry\, fiction\, creative nonfiction\, screenwriting\, playwriting\, journalism\, art writing—are all welcome here for an hour or so to do what it normally takes an expensive retreat to make happen: bring a group of writers together to stand around\, have a drink\, and make connections with other working writers they may or may not have known before. \nwhether or not your day-job is writing makes no difference — if you’re a working writer\, you’re invited.
URL:https://crosstownarts.org/calendar/working-writers-cocktail-hour/
LOCATION:story booth\, 438 N. Cleveland St.\, Memphis\, TN\, 38104\, United States
ATTACH;FMTTYPE=image/jpeg:https://crosstownarts.org/wp-content/uploads/2015/07/IMG_3460.jpeg
GEO:35.1505926;-90.0135933
X-APPLE-STRUCTURED-LOCATION;VALUE=URI;X-ADDRESS=story booth 438 N. Cleveland St. Memphis TN 38104 United States;X-APPLE-RADIUS=500;X-TITLE=438 N. Cleveland St.:geo:-90.0135933,35.1505926
END:VEVENT
BEGIN:VEVENT
DTSTART;VALUE=DATE:20150621
DTEND;VALUE=DATE:20150627
DTSTAMP:20260425T214136
CREATED:20150623T231359Z
LAST-MODIFIED:20150911T004502Z
UID:10002323-1434913200-1435345199@crosstownarts.org
SUMMARY:story booth summer workshop: flight plan
DESCRIPTION:2 – 4:30 pm // ages 10 – 14 \nthis experimental plane- and glider-building workshop helps students get a hands-on understanding of the forces of lift\, weight\, and drag.
URL:https://crosstownarts.org/calendar/story-booth-summer-workshop-flight-plan/
LOCATION:story booth\, 438 N. Cleveland St.\, Memphis\, TN\, 38104\, United States
CATEGORIES:Programs
ATTACH;FMTTYPE=image/jpeg:https://crosstownarts.org/wp-content/uploads/2015/06/flight-plan.jpg
GEO:35.1505926;-90.0135933
X-APPLE-STRUCTURED-LOCATION;VALUE=URI;X-ADDRESS=story booth 438 N. Cleveland St. Memphis TN 38104 United States;X-APPLE-RADIUS=500;X-TITLE=438 N. Cleveland St.:geo:-90.0135933,35.1505926
END:VEVENT
BEGIN:VEVENT
DTSTART;TZID=America/Chicago:20150610T130000
DTEND;TZID=America/Chicago:20150610T150000
DTSTAMP:20260425T214136
CREATED:20150707T011249Z
LAST-MODIFIED:20150911T004437Z
UID:10002459-1433941200-1433948400@crosstownarts.org
SUMMARY:story booth film premiere party
DESCRIPTION:join us for the premiere of original short films by the young participants involved in story booth’s spring workshops. free and open to the public; food and drinks will be served.
URL:https://crosstownarts.org/calendar/story-booth-film-premiere-party/
CATEGORIES:Programs
ATTACH;FMTTYPE=image/png:https://crosstownarts.org/wp-content/uploads/2015/07/Screen-Shot-2015-05-29-at-3.15.08-PM.png
END:VEVENT
BEGIN:VEVENT
DTSTART;VALUE=DATE:20150607
DTEND;VALUE=DATE:20150613
DTSTAMP:20260425T214136
CREATED:20150613T015218Z
LAST-MODIFIED:20150911T004716Z
UID:10002415-1433703600-1434135599@crosstownarts.org
SUMMARY:story booth theatre production workshop
DESCRIPTION:ages 10 – 14 \nthis workshop gives participants the chance to write\, act\, and perform an original play before an audience—all in one week. if you’re interested in writing for stage\, page\, or screen\, or are interested in acting or set design\, this workshop is for you. taught by professional playwright and actress Jazmin Miller \n 
URL:https://crosstownarts.org/calendar/story-booth-theatre-production-workshop/
LOCATION:story booth\, 438 N. Cleveland St.\, Memphis\, TN\, 38104\, United States
CATEGORIES:Programs
ATTACH;FMTTYPE=image/jpeg:https://crosstownarts.org/wp-content/uploads/2015/06/page-to-stage-summer-2015-program.jpg
GEO:35.1505926;-90.0135933
X-APPLE-STRUCTURED-LOCATION;VALUE=URI;X-ADDRESS=story booth 438 N. Cleveland St. Memphis TN 38104 United States;X-APPLE-RADIUS=500;X-TITLE=438 N. Cleveland St.:geo:-90.0135933,35.1505926
END:VEVENT
END:VCALENDAR