BEGIN:VCALENDAR
VERSION:2.0
PRODID:-//Crosstown Arts - ECPv6.15.17.1//NONSGML v1.0//EN
CALSCALE:GREGORIAN
METHOD:PUBLISH
X-WR-CALNAME:Crosstown Arts
X-ORIGINAL-URL:https://crosstownarts.org
X-WR-CALDESC:Events for Crosstown Arts
REFRESH-INTERVAL;VALUE=DURATION:PT1H
X-Robots-Tag:noindex
X-PUBLISHED-TTL:PT1H
BEGIN:VTIMEZONE
TZID:America/Chicago
BEGIN:DAYLIGHT
TZOFFSETFROM:-0600
TZOFFSETTO:-0500
TZNAME:CDT
DTSTART:20140309T080000
END:DAYLIGHT
BEGIN:STANDARD
TZOFFSETFROM:-0500
TZOFFSETTO:-0600
TZNAME:CST
DTSTART:20141102T070000
END:STANDARD
BEGIN:DAYLIGHT
TZOFFSETFROM:-0600
TZOFFSETTO:-0500
TZNAME:CDT
DTSTART:20150308T080000
END:DAYLIGHT
BEGIN:STANDARD
TZOFFSETFROM:-0500
TZOFFSETTO:-0600
TZNAME:CST
DTSTART:20151101T070000
END:STANDARD
BEGIN:DAYLIGHT
TZOFFSETFROM:-0600
TZOFFSETTO:-0500
TZNAME:CDT
DTSTART:20160313T080000
END:DAYLIGHT
BEGIN:STANDARD
TZOFFSETFROM:-0500
TZOFFSETTO:-0600
TZNAME:CST
DTSTART:20161106T070000
END:STANDARD
END:VTIMEZONE
BEGIN:VEVENT
DTSTART;VALUE=DATE:20150708
DTEND;VALUE=DATE:20150712
DTSTAMP:20260423T134350
CREATED:20150703T024449Z
LAST-MODIFIED:20150708T221727Z
UID:10002447-1436382000-1436641199@crosstownarts.org
SUMMARY:I.D.
DESCRIPTION:EXHIBITION SCHEDULE\nThursday\, July 9: 10am – 6pm\nFriday\, July 10: Reception from 5 – 8pm\nSaturday\, July 11: 10am – 6pm \nA group exhibition organized by Memphis College of Art and Crosstown Arts\, featuring new works by MCA IDEALS participants\, focused on the concept of identity. \n \nI.D. JULY 9TH-11TH @ 430 N. CLEVELAND from Crosstown Arts on Vimeo.
URL:https://crosstownarts.org/calendar/i-d/
CATEGORIES:430
ATTACH;FMTTYPE=image/png:https://crosstownarts.org/wp-content/uploads/2015/07/MCA-Logo-II.png
END:VEVENT
END:VCALENDAR