BEGIN:VCALENDAR
VERSION:2.0
PRODID:-//Crosstown Arts - ECPv6.15.17.1//NONSGML v1.0//EN
CALSCALE:GREGORIAN
METHOD:PUBLISH
X-ORIGINAL-URL:https://crosstownarts.org
X-WR-CALDESC:Events for Crosstown Arts
REFRESH-INTERVAL;VALUE=DURATION:PT1H
X-Robots-Tag:noindex
X-PUBLISHED-TTL:PT1H
BEGIN:VTIMEZONE
TZID:America/Chicago
BEGIN:DAYLIGHT
TZOFFSETFROM:-0600
TZOFFSETTO:-0500
TZNAME:CDT
DTSTART:20140309T080000
END:DAYLIGHT
BEGIN:STANDARD
TZOFFSETFROM:-0500
TZOFFSETTO:-0600
TZNAME:CST
DTSTART:20141102T070000
END:STANDARD
BEGIN:DAYLIGHT
TZOFFSETFROM:-0600
TZOFFSETTO:-0500
TZNAME:CDT
DTSTART:20150308T080000
END:DAYLIGHT
BEGIN:STANDARD
TZOFFSETFROM:-0500
TZOFFSETTO:-0600
TZNAME:CST
DTSTART:20151101T070000
END:STANDARD
BEGIN:DAYLIGHT
TZOFFSETFROM:-0600
TZOFFSETTO:-0500
TZNAME:CDT
DTSTART:20160313T080000
END:DAYLIGHT
BEGIN:STANDARD
TZOFFSETFROM:-0500
TZOFFSETTO:-0600
TZNAME:CST
DTSTART:20161106T070000
END:STANDARD
END:VTIMEZONE
BEGIN:VEVENT
DTSTART;TZID=America/Chicago:20150628T123000
DTEND;TZID=America/Chicago:20150628T170000
DTSTAMP:20260423T104050
CREATED:20150623T232842Z
LAST-MODIFIED:20150623T232842Z
UID:10002327-1435494600-1435510800@crosstownarts.org
SUMMARY:Summer Horror Fest
DESCRIPTION:Summer Horror Fest features live music by A Great Leap Forward\, Losing Mercury\, Strange Armada\, Red Tape Riot\, Tax Free Gang & another band TBA
URL:https://crosstownarts.org/calendar/summer-horror-fest-2/
CATEGORIES:430
ATTACH;FMTTYPE=image/jpeg:https://crosstownarts.org/wp-content/uploads/2015/06/Losing-Mercury-Summery-Horror-Fest1.jpg
END:VEVENT
BEGIN:VEVENT
DTSTART;TZID=America/Chicago:20150419T123000
DTEND;TZID=America/Chicago:20150419T180000
DTSTAMP:20260423T104050
CREATED:20150709T015730Z
LAST-MODIFIED:20150709T015730Z
UID:10002489-1429446600-1429466400@crosstownarts.org
SUMMARY:That Sincere Loss: Losing Mercury\, Flirting With Sincerity and more
DESCRIPTION:Local artists perform acoustic\, hip-hop\, metal\, punk & more. \nAct I\nScene I: Reala & Bass Lord Astro; Hip-Hop/Rap; 6:00-6:25\nScene III: Strange Armada; Hip-Hop/Rap; 6:35-7:00 \nAct II\nScene I: 2 Piece Puzzle; Acoustic; 7:10-7:35\nScene II: Defy the Architect; Metal; 7:45-8:20\n\nAct III\nScene I: Losing Mercury; Punk/Metal; 8:35-9:10\nScene II: Prophasis; Metal; 9:25-10:00\nScene III: Flirting with Sincerity; Pop/Indie; 10:15-10:50
URL:https://crosstownarts.org/calendar/that-sincere-loss/
CATEGORIES:430
ATTACH;FMTTYPE=image/jpeg:https://crosstownarts.org/wp-content/uploads/2015/07/Losing-Mercury-etc..jpg
END:VEVENT
END:VCALENDAR