BEGIN:VCALENDAR
VERSION:2.0
PRODID:-//Crosstown Arts - ECPv6.15.17.1//NONSGML v1.0//EN
CALSCALE:GREGORIAN
METHOD:PUBLISH
X-WR-CALNAME:Crosstown Arts
X-ORIGINAL-URL:https://crosstownarts.org
X-WR-CALDESC:Events for Crosstown Arts
REFRESH-INTERVAL;VALUE=DURATION:PT1H
X-Robots-Tag:noindex
X-PUBLISHED-TTL:PT1H
BEGIN:VTIMEZONE
TZID:America/Chicago
BEGIN:DAYLIGHT
TZOFFSETFROM:-0600
TZOFFSETTO:-0500
TZNAME:CDT
DTSTART:20140309T080000
END:DAYLIGHT
BEGIN:STANDARD
TZOFFSETFROM:-0500
TZOFFSETTO:-0600
TZNAME:CST
DTSTART:20141102T070000
END:STANDARD
BEGIN:DAYLIGHT
TZOFFSETFROM:-0600
TZOFFSETTO:-0500
TZNAME:CDT
DTSTART:20150308T080000
END:DAYLIGHT
BEGIN:STANDARD
TZOFFSETFROM:-0500
TZOFFSETTO:-0600
TZNAME:CST
DTSTART:20151101T070000
END:STANDARD
BEGIN:DAYLIGHT
TZOFFSETFROM:-0600
TZOFFSETTO:-0500
TZNAME:CDT
DTSTART:20160313T080000
END:DAYLIGHT
BEGIN:STANDARD
TZOFFSETFROM:-0500
TZOFFSETTO:-0600
TZNAME:CST
DTSTART:20161106T070000
END:STANDARD
END:VTIMEZONE
BEGIN:VEVENT
DTSTART;TZID=America/Chicago:20150911T130000
DTEND;TZID=America/Chicago:20150911T160000
DTSTAMP:20260423T213935
CREATED:20150730T010822Z
LAST-MODIFIED:20150912T061311Z
UID:10002536-1441976400-1441987200@crosstownarts.org
SUMMARY:Too
DESCRIPTION:Ted Kasparek and Kelli Black’s art existing together in one location for ONE NIGHT ONLY! \nHowever different\, they are both working in terms of “space”. Kelli is activating and questioning the physical space that we currently occupy\, whereas Ted is exploring the vastness of the universe that is still unknown.
URL:https://crosstownarts.org/calendar/kelli-ted-too/
CATEGORIES:430
ATTACH;FMTTYPE=image/jpeg:https://crosstownarts.org/wp-content/uploads/2015/07/Tooflyer-e1440204416902.jpg
END:VEVENT
END:VCALENDAR