BEGIN:VCALENDAR
VERSION:2.0
PRODID:-//Crosstown Arts - ECPv6.15.17.1//NONSGML v1.0//EN
CALSCALE:GREGORIAN
METHOD:PUBLISH
X-WR-CALNAME:Crosstown Arts
X-ORIGINAL-URL:https://crosstownarts.org
X-WR-CALDESC:Events for Crosstown Arts
REFRESH-INTERVAL;VALUE=DURATION:PT1H
X-Robots-Tag:noindex
X-PUBLISHED-TTL:PT1H
BEGIN:VTIMEZONE
TZID:America/Chicago
BEGIN:DAYLIGHT
TZOFFSETFROM:-0600
TZOFFSETTO:-0500
TZNAME:CDT
DTSTART:20140309T080000
END:DAYLIGHT
BEGIN:STANDARD
TZOFFSETFROM:-0500
TZOFFSETTO:-0600
TZNAME:CST
DTSTART:20141102T070000
END:STANDARD
BEGIN:DAYLIGHT
TZOFFSETFROM:-0600
TZOFFSETTO:-0500
TZNAME:CDT
DTSTART:20150308T080000
END:DAYLIGHT
BEGIN:STANDARD
TZOFFSETFROM:-0500
TZOFFSETTO:-0600
TZNAME:CST
DTSTART:20151101T070000
END:STANDARD
BEGIN:DAYLIGHT
TZOFFSETFROM:-0600
TZOFFSETTO:-0500
TZNAME:CDT
DTSTART:20160313T080000
END:DAYLIGHT
BEGIN:STANDARD
TZOFFSETFROM:-0500
TZOFFSETTO:-0600
TZNAME:CST
DTSTART:20161106T070000
END:STANDARD
END:VTIMEZONE
BEGIN:VEVENT
DTSTART;TZID=America/Chicago:20150924T130000
DTEND;TZID=America/Chicago:20150924T150000
DTSTAMP:20260424T111548
CREATED:20150730T020235Z
LAST-MODIFIED:20150826T213258Z
UID:10002542-1443099600-1443106800@crosstownarts.org
SUMMARY:Art For A Smart Start
DESCRIPTION:Art For A Smart Start is a collaborative art exhibition featuring the works of 27 different Memphis artists. These artists will show and sell their works during this one-night-only event and generously donate proceeds of their sales to benefit Shelby County Books From Birth. Organized by Darlene Newman. \nContributing Artists:\nAngela D. Myers\, RaRa Strong\, Joseph Boyd\, Derrick Weaver\, Mary Vaux Hansen\, James Carter\, Drea L. Powell\, Jamond Bullock\, Jaime Phillips Winton\, Darlene Newman\, Larry Don Nosti Itson\, Brandon Eso Tolson\, Dawn Kimble\, Dani Harris\, Tammy Groves Thornton\, Barbara Vann\, Andrea Pigue’ Manard\, Carl E. Moore\, Amy Beth Rice\, Demarcus Bowser\, Frank Robinson\, Tobacco Brown\, Brittney Bullock\, Thomas Murray\, Siphne Sylve\, Ben Madden and Jamin Carter
URL:https://crosstownarts.org/calendar/art-for-a-smart-start/
CATEGORIES:430
ATTACH;FMTTYPE=image/jpeg:https://crosstownarts.org/wp-content/uploads/2015/07/Art-For-a-Smart-Start-e1440008234571.jpg
END:VEVENT
END:VCALENDAR