BEGIN:VCALENDAR
VERSION:2.0
PRODID:-//Crosstown Arts - ECPv6.15.17.1//NONSGML v1.0//EN
CALSCALE:GREGORIAN
METHOD:PUBLISH
X-WR-CALNAME:Crosstown Arts
X-ORIGINAL-URL:https://crosstownarts.org
X-WR-CALDESC:Events for Crosstown Arts
REFRESH-INTERVAL;VALUE=DURATION:PT1H
X-Robots-Tag:noindex
X-PUBLISHED-TTL:PT1H
BEGIN:VTIMEZONE
TZID:America/Chicago
BEGIN:DAYLIGHT
TZOFFSETFROM:-0600
TZOFFSETTO:-0500
TZNAME:CDT
DTSTART:20140309T080000
END:DAYLIGHT
BEGIN:STANDARD
TZOFFSETFROM:-0500
TZOFFSETTO:-0600
TZNAME:CST
DTSTART:20141102T070000
END:STANDARD
BEGIN:DAYLIGHT
TZOFFSETFROM:-0600
TZOFFSETTO:-0500
TZNAME:CDT
DTSTART:20150308T080000
END:DAYLIGHT
BEGIN:STANDARD
TZOFFSETFROM:-0500
TZOFFSETTO:-0600
TZNAME:CST
DTSTART:20151101T070000
END:STANDARD
BEGIN:DAYLIGHT
TZOFFSETFROM:-0600
TZOFFSETTO:-0500
TZNAME:CDT
DTSTART:20160313T080000
END:DAYLIGHT
BEGIN:STANDARD
TZOFFSETFROM:-0500
TZOFFSETTO:-0600
TZNAME:CST
DTSTART:20161106T070000
END:STANDARD
END:VTIMEZONE
BEGIN:VEVENT
DTSTART;TZID=America/Chicago:20150915T133000
DTEND;TZID=America/Chicago:20150915T153000
DTSTAMP:20260423T115934
CREATED:20150730T012842Z
LAST-MODIFIED:20150908T220551Z
UID:10002538-1442323800-1442331000@crosstownarts.org
SUMMARY:MicroCinema Club
DESCRIPTION:Presentations begin at 7 pm\nDetails coming soon. \nOrganized by Indie Memphis and Crosstown Arts with support from ArtsMemphis and FirstTennessee Foundation | ArtsFirst.
URL:https://crosstownarts.org/calendar/microcinema-club-0915/
CATEGORIES:430,Programs
ATTACH;FMTTYPE=image/jpeg:https://crosstownarts.org/wp-content/uploads/2015/07/MicroCinema-Club.jpg
END:VEVENT
BEGIN:VEVENT
DTSTART;TZID=America/Chicago:20150901T133000
DTEND;TZID=America/Chicago:20150901T153000
DTSTAMP:20260423T115934
CREATED:20150729T223149Z
LAST-MODIFIED:20150822T054955Z
UID:10002524-1441114200-1441121400@crosstownarts.org
SUMMARY:Shoot & Splice: Making Music Videos
DESCRIPTION:6:30 pm – Refreshments + Networking\n7:00 pm – Presentation \n\nElectron\, a team of Memphis-based music video directors\, will be discussing the many processes and decisions that go into creating a great video. \n \nPanelists:\nEdward Valibus\n(Music video director for The Grifters\, Marcella and Her Lovers\, Faith Evans Ruch\, and more)\nG.B. Shannon\n(Music video director for Alexis Grace\, Rob Jungklas\, The Grifters\, and more)\nChristopher Reyes\n(Music video director for Lord T & Eloise\, Iffy\, Tiger High\, and more)\nSarah Fleming\n(Music video director for Vending Machine\, Glorie\, Sore Eyes\, and more)\nRyan Earl Parker\n(Music video director for Jeremy Stanfill\, Director of Photography for Alexis Grace\, Faith Evans Ruch\, and more) \nShoot & Splice is made possible with the support of ArtsMemphis and FirstTennessee Foundation | ArtsFirst.
URL:https://crosstownarts.org/calendar/shoot-splice-music-videos/
CATEGORIES:430,Programs
ATTACH;FMTTYPE=image/png:https://crosstownarts.org/wp-content/uploads/2015/05/bb9e7a170f6c600f-ScreenShot2014-04-29at92911AM.png
END:VEVENT
BEGIN:VEVENT
DTSTART;TZID=America/Chicago:20150818T140000
DTEND;TZID=America/Chicago:20150818T160000
DTSTAMP:20260423T115934
CREATED:20150729T030112Z
LAST-MODIFIED:20150813T204746Z
UID:10002518-1439906400-1439913600@crosstownarts.org
SUMMARY:MicroCinema Club: The Best of DC Shorts
DESCRIPTION:Doors: 7 pm / Presentation: 7:30 pm\nPay-what-you-can \nThe best of DC Shorts Program brings you 9 terrific films in 90 minutes. Take a peek at what’s playing: \nTHE GUNFIGHTER\nA gunfighter walks into a saloon\, but the film’s voiceover has other goals in mind.\nYEARBOOK\nWith the end of the world right around the corner\, a man is asked to write the final pages of recorded human history.\nBUSINESS AS USUAL\nPassengers on an airplane struggle to stay grounded when an Arab man boards the flight.\nCADET\nPushed by his coach/father\, a young runner eventually lashes out at the least expected moment.\nSILLY BASTARD NEXT TO THE BED\nA retired Air Force officer realizes he was at the center of a huge political scandal during the Kennedy administration.\nTHEY ARE THE LAST\nA day in the life of a lighthouse keeper on a remote cape off the Uruguayan coastline.\nTHE CHAPERONE\nWhen a motorcycle gang crashes a school dance\, there’s only one person who can restore order: the chaperone.\nONE MINUTE TIME MACHINE\nHoping to impress a pretty girl\, a nerdy scientist shows off his one-minute time machine.\nWHAT CHEER?\nStruggling to overcome the death of his wife\, a man is tormented by a cheerful marching band that follows him seemingly everywhere. \nOrganized by Indie Memphis and Crosstown Arts with support from ArtsMemphis and FirstTennessee Foundation | ArtsFirst.
URL:https://crosstownarts.org/calendar/microcinema-club-dcshorts/
CATEGORIES:Programs
ATTACH;FMTTYPE=image/png:https://crosstownarts.org/wp-content/uploads/2015/07/DC-Shorts-Logo.png
END:VEVENT
BEGIN:VEVENT
DTSTART;TZID=America/Chicago:20150804T133000
DTEND;TZID=America/Chicago:20150804T153000
DTSTAMP:20260423T115934
CREATED:20150727T222611Z
LAST-MODIFIED:20150727T222611Z
UID:10002370-1438695000-1438702200@crosstownarts.org
SUMMARY:Shoot & Splice: Intro to Film Lighting
DESCRIPTION:Lighting creates the foundation for a film’s mood and emotional tone\, and it can have an immense impact on narrative coherence. \nThat’s why Indie Memphis and Crosstown Arts are teaming up with John Paul Clark and Firefly Grip and Electric to discuss everything from choosing the right gear to understanding the relationships between DPs\, Gaffers & Key Grips. \n\nIt’s sure to be an illuminating evening\, and we hope you join us. \n6:30 pm – Refreshments + Networking\n7:00 pm – Presentation \n\nShoot & Splice is made possible with the support of ArtsMemphis and FirstTennessee Foundation | ArtsFirst.
URL:https://crosstownarts.org/calendar/shoot-splice-film-lighting/
CATEGORIES:430,Programs
ATTACH;FMTTYPE=image/png:https://crosstownarts.org/wp-content/uploads/2015/05/bb9e7a170f6c600f-ScreenShot2014-04-29at92911AM.png
END:VEVENT
BEGIN:VEVENT
DTSTART;TZID=America/Chicago:20150728T133000
DTEND;TZID=America/Chicago:20150728T160000
DTSTAMP:20260423T115934
CREATED:20150703T041357Z
LAST-MODIFIED:20150703T041357Z
UID:10002456-1438090200-1438099200@crosstownarts.org
SUMMARY:MicroCinema Club: 2015 Sundance Film Festival Award-Winning Shorts Tour
DESCRIPTION:Showcasing a wide variety of story and style\, the 2015 Sundance Film Festival Short Film Tour is an 83- minute theatrical program of six short films that won awards at this year’s Festival\, which over the course of its more than 30-year history has been widely considered the premier showcase for short films and the launchpad for many now-prominent independent filmmakers. Including fiction\, documentary and animation from around the world\, the distinct 2015 program traverses vibrant styles from wild comedy to quiet poetry. Each breaks through its limited timeframe with a high level of artistry and story that will resonate with audiences long after it ends. \n \n2015 Sundance Film Festival Award-Winning Shorts on Tour from Sundance Shorts on Vimeo. \nFilms\nWorld of Tomorrow \nShort Film Jury Award (Best of Fest)\nWritten and directed by Don Hertzfeldt. U.S.A.\, 17 minutes.\nA little girl is taken on a mind-bending tour of the distant future. \nSMILF \nShort Film Jury Prize: US Fiction\nWritten and directed by Frankie Shaw. USA\, 9 minutes.\nA young single mother struggles to balance her old life of freedom with her new one as mom. It all comes to a head during one particular nap-time when Bridgette invites an old friend over for a visit. \nOh Lucy! \nShort Film Jury Prize: International Fiction\nWritten and directed by Atsuko Hirayanagi. Japan/Singapore/U.S.A\, 22 minutes.\nSetsuko\, a 55-year-old single so-called office lady in Tokyo\, is given a blonde wig and a new identity\, Lucy\, by her young\, unconventional English-language teacher. “Lucy” awakens desires in Setsuko she never knew existed. \nThe Face of Ukraine: Casting Oksana Baiul \nShort Film Jury Prize: Non-Fiction\nWritten and directed by Kitty Green. Russian and Ukrainian\, 7 minutes.\nAdorned in pink sequins\, little girls from across a divided\, war-torn Ukraine audition to play the role of Olympic champion figure skater Oksana Baiul\, whose tears of joy once united their troubled country. \nStorm hits jacket \nShort Film Jury Prize: Animation\nWritten and directed by Paul Cabon. 2014\, France\, 13 minutes.\nA storm reaches the shores of Brittany. Nature goes crazy\, and two young scientists get caught up in the chaos. Espionage\, romantic tension\, and mysterious events clash with enthusiasm and randomness. \nObject \nShort Film Special Jury Prize for Poetic Vision\nWritten and directed by Paulina Skibińska. Poland\, 15 minutes.\nA creative image of an underwater search in the dimensions of two worlds—ice desert and under water— told from the point of view of the rescue team\, of the diver\, and of the ordinary people waiting on the shore. \n\n\n\n\n\n\n\n\nDirector Bios\nSMILF: SMILF is Frankie Shaw’s first short film\, which she wrote\, directed and starred in. She is currently developing a TV show from the story. Shaw graduated from Barnard College of Columbia University with a degree in literature\, then moved to Los Angeles where she currently lives. Shaw first received recognition acting in the completely improvised Sundance film The Freebie and then as the oddball drunken cheerleader in the sitcom Blue Mountain State. \nOBJECT: Paulina Skibińska\, born in 1987 in Kowary\, near Jelenia Góra\, Poland\, graduated from the Post-Secondary Studio of Culture Animation in Wrocław in 2009. She earned her M.A. degree in screenwriting at the Łódź Film School (2014)\, where she is now pursuing her Ph.D. studies. OBJECT isher first film as director. Being a screenwriter of numerous internationally awarded short fiction and animated films\, including http://\, The Kiss and 48hTV\, Paulina is presently at work on her full-length fiction debut film. \nSTORM HITS JACKET: Born in Brest in 1985\, Paul Cabon is a French director and animator. After a course in applied arts at Estienne (Paris)\, he attended ESAAT in Roubaix where he graduated in animation. Between 2007 and 2009 he studied at La Poudrière in Valence\, where he directed Sauvage\, which won the special student film prize in the Annecy festival in 2010. He has worked as an animator\, scriptwriter and background artist and character designer for the series Michel at Folimage and as an illustrator in various fanzines. \nOH LUCY!: Atsuko Hirayanagi was born in Nagano and raised in Chiba\, Japan. She is a recent graduate of NYU Tisch School of The Arts\, Asia with an MFA in Film Production\, where she received the Cathay Scholarship from Singapore’s Cathay Organization. Her short films have played at numerous film festivals\, including Clermont-Ferrand and Tokyo Short Shorts Film Festival & Asia\, where her MFA 2nd year project\, Mō Ikkai\, won the Grand Prix as well as the Japan Competition Best Short (Governor of Tokyo Award) and the Audience awards. Atsuko is currently developing a feature script of Oh Lucy! \nTHE FACE OF UKRAINE: CASTING OKSANA BAIUL: Kitty Green is an award-winning Australian filmmaker. In 2012\, Kitty moved to her grandmother’s native Ukraine to shoot with the protest movement ‘Femen’. Her abduction by the KGB made headlines internationally. Her feature documentary\, Ukraine Is Not A Brothel screened at the Venice Film Festival\, SXSW\, Hot Docs and over fifty festivals internationally. After Sundance\, The Face of Ukraine: Casting Oksana Baiul made its European premiere at the Berlin Film Festival. \nWORLD OF TOMORROW: Don Hertzfeldt is an Academy-Award nominated American animator and independent filmmaker. He is the creator of many animated films\, including It’s Such a Beautiful Day\, The Meaning of Life\, and Rejected\, and recently created a “couch gag” opening for The Simpsons. His films have received over 200 awards and have been presented around the world. \n\n\n\n\n\n\n\n\nAbout The Sundance Film Festival Shorts Program\nThe Sundance Film Festival has introduced global audiences to some of the most groundbreaking films of the past three decades\, including Whiplash\,Boyhood\, Rich Hill\, Beasts of the Southern Wild\, Fruitvale Station\, Little Miss Sunshine\, sex\, lies\, and videotape\, Reservoir Dogs\, Hedwig and the Angry Inch\, An Inconvenient Truth\, Precious and Napoleon Dynamite. Each year the Festival receives more than 8\,000 short film submissions\, selecting 60-80 to show. The Festival programs a 90-minute collection of shorts from its most recent Festival to go on a theatrical tour to independent art houses in more than 50 cities nationwide. It is one of very few theatrical releases of short films in America. \nFueled by artistic expression and limited only by their runtime\, short films transcend traditional storytelling. They are a significant and popular way artists can connect with audiences. From documentary to animation\, narrative to experimental\, the abbreviated form is no longer just for the novice. Shorts have and will continue to be an important part of cinema\, storytelling\, and culture. The Festival has always treated short films with the highest regard and gives a home to new (and old) projects for audiences to discover and celebrate. \nThe Festival’s Short Film Program has long been established as a place to discover talented directors\, such as past alums Wes Anderson\, Todd Haynes\, Nicole Holofcener\, Spike Jonze\, Paul Thomas Anderson\, Lynne Ramsay\, David O. Russell\, Trey Parker and Matt Stone\, Lake Bell\, Jay and Mark Duplass\, Alexander Payne\, Debra Granik\, Andrea Arnold\, and many others. \nRecent short film discoveries at the Festival include Golden Globe Award winner Jill Soloway (Transparent) and Academy Award nominee Damien Chazelle (Whiplash). \nThe Festival is the centerpiece of the year-round public programs for the nonprofit Institute\, which also hosts 24 residency labs and grants more than $2.5 million to independent artists each year. \n\n\n\n\n\n \n   
URL:https://crosstownarts.org/calendar/microcinema-club-2015sundanceshorts/
CATEGORIES:430,Programs
ATTACH;FMTTYPE=image/png:https://crosstownarts.org/wp-content/uploads/2015/07/MicroCinema-Sundance-Award-Shorts-Poster.png
END:VEVENT
BEGIN:VEVENT
DTSTART;TZID=America/Chicago:20150708T133000
DTEND;TZID=America/Chicago:20150708T160000
DTSTAMP:20260423T115934
CREATED:20150701T034805Z
LAST-MODIFIED:20150905T010219Z
UID:10002333-1436362200-1436371200@crosstownarts.org
SUMMARY:Shoot & Splice: Music in Film
DESCRIPTION:Join Indie Memphis & Crosstown Arts for a special lyrical edition of Shoot & Splice. Studio/music label owner\, Ward Archer\, and film composers\, Jonathan Kirkscey and Ted Speaker\, will be on hand to discuss their process for composing music for film\, recording techniques\, the important intricacies of song selection\, being a music supervisor and all things music and film. \nShoot & Splice is made possible with the support of ArtsMemphis and FirstTennessee Foundation | ArtsFirst.
URL:https://crosstownarts.org/calendar/shoot-splice-music-in-film/
LOCATION:story booth\, 438 N. Cleveland St.\, Memphis\, TN\, 38104\, United States
CATEGORIES:Programs
ATTACH;FMTTYPE=image/jpeg:https://crosstownarts.org/wp-content/uploads/2015/06/Shoot-Splice.jpg
GEO:35.1505926;-90.0135933
X-APPLE-STRUCTURED-LOCATION;VALUE=URI;X-ADDRESS=story booth 438 N. Cleveland St. Memphis TN 38104 United States;X-APPLE-RADIUS=500;X-TITLE=438 N. Cleveland St.:geo:-90.0135933,35.1505926
END:VEVENT
BEGIN:VEVENT
DTSTART;TZID=America/Chicago:20150602T133000
DTEND;TZID=America/Chicago:20150602T160000
DTSTAMP:20260423T115934
CREATED:20150707T030506Z
LAST-MODIFIED:20150707T033759Z
UID:10002342-1433251800-1433260800@crosstownarts.org
SUMMARY:Shoot & Splice: Gear Up with LensRentals.com
DESCRIPTION:Erik Morrison and a team from LensRentals.com are hosting a show-and-tell about the latest and greatest cameras and gear. Erik and his team have helped thousands of cinematographers and commercial shooters choose the right equipment for each unique production\, and you are invited to pick their brains! \nFree & open to the public. \n\nShoot & Splice is presented by Indie Memphis and Crosstown Arts with the support of ArtsMemphis and FirstTennessee Foundation | ArtsFirst.
URL:https://crosstownarts.org/calendar/shoot-splice-lensrentals/
CATEGORIES:430,Programs
ATTACH;FMTTYPE=image/png:https://crosstownarts.org/wp-content/uploads/2015/05/bb9e7a170f6c600f-ScreenShot2014-04-29at92911AM.png
END:VEVENT
BEGIN:VEVENT
DTSTART;TZID=America/Chicago:20150505T133000
DTEND;TZID=America/Chicago:20150505T160000
DTSTAMP:20260423T115934
CREATED:20150707T034005Z
LAST-MODIFIED:20150707T070722Z
UID:10002354-1430832600-1430841600@crosstownarts.org
SUMMARY:Shoot & Splice: Film and the Law
DESCRIPTION:Memphis filmmakers are known for a guerrilla\, DIY-style of filmmaking. While the mantra may be better to beg forgiveness than ask permission\, sometimes it pays to get good advice on the front end. Join entertainment attorneys Malcolm Futhey\, Anita Modak-Truran and Bruce Newman as they argue the case that filmmakers should be aware of the law and seek good counsel. \n\nShoot & Splice is presented by Indie Memphis and Crosstown Arts with the support of ArtsMemphis and FirstTennessee Foundation | ArtsFirst.
URL:https://crosstownarts.org/calendar/shoot-splice-the-law/
CATEGORIES:430,Programs
ATTACH;FMTTYPE=image/png:https://crosstownarts.org/wp-content/uploads/2015/05/bb9e7a170f6c600f-ScreenShot2014-04-29at92911AM.png
END:VEVENT
BEGIN:VEVENT
DTSTART;TZID=America/Chicago:20150407T133000
DTEND;TZID=America/Chicago:20150407T150000
DTSTAMP:20260423T115934
CREATED:20150709T031418Z
LAST-MODIFIED:20150709T031418Z
UID:10002508-1428413400-1428418800@crosstownarts.org
SUMMARY:Shoot & Splice: What It Means to Be a Producer
DESCRIPTION:Indie Memphis & Crosstown Arts announce the return of Shoot & Splice! \nEver wonder what it takes to produce an independent film or commercial project? Have you ever asked yourself what a producer even does?! \nFilm Producers raise money for projects\, hire directors\, DP’s\, actors and editors\, manage schedules\, find distributors\, massage egos and everything in between. Please join us for a discussion with three of the most talented producers in Memphis\, Waheed AlQawasmi\, Laura Jean Hocking and Ryan Watt. \n\n  \nWaheed AlQawasmi started his career as a producer and filmmaker in high school\, where he garnered a number of awards including the first National Student Emmy Awards at the age of 15. Waheed’s work includes Home Town Glory and Scorned. Waheed produced and directed a variety of music videos for artists such as Taylor Swift\, The Band Perry\, The Delta Saints\, as well as TV commercials and web content for GoDaddy and Google. His most recent project includes a one-hour TV special titled Outnumbered Hunger\, which is fronted by Reba McEntire to raise awareness about the hunger issues facing the United States. \nLaura Jean Hocking is a Memphis filmmaker best known for producing Indie Memphis award winners Antenna and Automusik Can Do No Wrong\, as well the popular feature\, Eat\, with her husband C. Scott McCoy and Oddly Buoyant Productions. She is currently editing and associate producing Bad\, Bad Men for Old School Pictures. \nRyan Watt is a media producer and marketing consultant\, as well as Director of Development at New School Media\, Inc. He has produced numerous independent feature films plus shorts\, music and web videos. His feature productions include Pilgrim Song\, Forty Years From Yesterday\, Open Five\, The Romance of Loneliness and Daylight Fades. Ryan is a board member of the Indie Memphis film festival and an alumnus of the Venice Biennale Cinema program. \n\n  \nShoot & Splice is made possible with the support of ArtsMemphis and FirstTennessee Foundation | ArtsFirst.
URL:https://crosstownarts.org/calendar/shoot-splice-producer/
CATEGORIES:430,Programs
ATTACH;FMTTYPE=image/png:https://crosstownarts.org/wp-content/uploads/2015/05/bb9e7a170f6c600f-ScreenShot2014-04-29at92911AM.png
END:VEVENT
END:VCALENDAR