BEGIN:VCALENDAR
VERSION:2.0
PRODID:-//Crosstown Arts - ECPv6.15.17.1//NONSGML v1.0//EN
CALSCALE:GREGORIAN
METHOD:PUBLISH
X-ORIGINAL-URL:https://crosstownarts.org
X-WR-CALDESC:Events for Crosstown Arts
REFRESH-INTERVAL;VALUE=DURATION:PT1H
X-Robots-Tag:noindex
X-PUBLISHED-TTL:PT1H
BEGIN:VTIMEZONE
TZID:America/Chicago
BEGIN:DAYLIGHT
TZOFFSETFROM:-0600
TZOFFSETTO:-0500
TZNAME:CDT
DTSTART:20140309T080000
END:DAYLIGHT
BEGIN:STANDARD
TZOFFSETFROM:-0500
TZOFFSETTO:-0600
TZNAME:CST
DTSTART:20141102T070000
END:STANDARD
BEGIN:DAYLIGHT
TZOFFSETFROM:-0600
TZOFFSETTO:-0500
TZNAME:CDT
DTSTART:20150308T080000
END:DAYLIGHT
BEGIN:STANDARD
TZOFFSETFROM:-0500
TZOFFSETTO:-0600
TZNAME:CST
DTSTART:20151101T070000
END:STANDARD
BEGIN:DAYLIGHT
TZOFFSETFROM:-0600
TZOFFSETTO:-0500
TZNAME:CDT
DTSTART:20160313T080000
END:DAYLIGHT
BEGIN:STANDARD
TZOFFSETFROM:-0500
TZOFFSETTO:-0600
TZNAME:CST
DTSTART:20161106T070000
END:STANDARD
END:VTIMEZONE
BEGIN:VEVENT
DTSTART;TZID=America/Chicago:20150523T140000
DTEND;TZID=America/Chicago:20150523T160000
DTSTAMP:20260423T224841
CREATED:20150707T031610Z
LAST-MODIFIED:20150707T034232Z
UID:10002344-1432389600-1432396800@crosstownarts.org
SUMMARY:Impossible Language
DESCRIPTION:Impossible Language celebrates spring by bringing you fresh\, unique voices in contemporary poetry. This installment features readings from Ruth Baumann\, PJ Williams\, Ashley Chambers & Heidi Staples. \nBecome better acquainted with this ongoing poetry reading series by following here: Twitter @impossiblelang\, Facebook or Tumblr.
URL:https://crosstownarts.org/calendar/impossible-language-0515/
CATEGORIES:430,Programs
ATTACH;FMTTYPE=image/jpeg:https://crosstownarts.org/wp-content/uploads/2015/07/Impossible-Language.jpg
END:VEVENT
END:VCALENDAR