BEGIN:VCALENDAR
VERSION:2.0
PRODID:-//Crosstown Arts - ECPv6.15.17.1//NONSGML v1.0//EN
CALSCALE:GREGORIAN
METHOD:PUBLISH
X-ORIGINAL-URL:https://crosstownarts.org
X-WR-CALDESC:Events for Crosstown Arts
REFRESH-INTERVAL;VALUE=DURATION:PT1H
X-Robots-Tag:noindex
X-PUBLISHED-TTL:PT1H
BEGIN:VTIMEZONE
TZID:America/Chicago
BEGIN:DAYLIGHT
TZOFFSETFROM:-0600
TZOFFSETTO:-0500
TZNAME:CDT
DTSTART:20140309T080000
END:DAYLIGHT
BEGIN:STANDARD
TZOFFSETFROM:-0500
TZOFFSETTO:-0600
TZNAME:CST
DTSTART:20141102T070000
END:STANDARD
BEGIN:DAYLIGHT
TZOFFSETFROM:-0600
TZOFFSETTO:-0500
TZNAME:CDT
DTSTART:20150308T080000
END:DAYLIGHT
BEGIN:STANDARD
TZOFFSETFROM:-0500
TZOFFSETTO:-0600
TZNAME:CST
DTSTART:20151101T070000
END:STANDARD
BEGIN:DAYLIGHT
TZOFFSETFROM:-0600
TZOFFSETTO:-0500
TZNAME:CDT
DTSTART:20160313T080000
END:DAYLIGHT
BEGIN:STANDARD
TZOFFSETFROM:-0500
TZOFFSETTO:-0600
TZNAME:CST
DTSTART:20161106T070000
END:STANDARD
END:VTIMEZONE
BEGIN:VEVENT
DTSTART;TZID=America/Chicago:20151016T140000
DTEND;TZID=America/Chicago:20151016T160000
DTSTAMP:20260423T132308
CREATED:20150915T034208Z
LAST-MODIFIED:20151001T014302Z
UID:10002587-1445004000-1445011200@crosstownarts.org
SUMMARY:Daniel Harris Studios Presents: A Night of Art and Illustration
DESCRIPTION:Join Fallen Walls founder\, Daniel Harris\, for an engaging evening of art and fellowship.
URL:https://crosstownarts.org/calendar/daniel-harris-studios/
CATEGORIES:430
ATTACH;FMTTYPE=image/jpeg:https://crosstownarts.org/wp-content/uploads/2015/09/Daniel-Logo-e1443645731431.jpg
END:VEVENT
BEGIN:VEVENT
DTSTART;TZID=America/Chicago:20150522T140000
DTEND;TZID=America/Chicago:20150522T160000
DTSTAMP:20260423T132308
CREATED:20150707T031050Z
LAST-MODIFIED:20150707T031050Z
UID:10002343-1432303200-1432310400@crosstownarts.org
SUMMARY:Book Release: The Sky Is the Limit
DESCRIPTION:Join Fallen Walls founder\, Daniel Aaron Harris\, for the release of a new children’s book he wrote & illustrated. The Sky is the Limit tells the story of a young girl who finds out that despite her disability\, she can be anything. \nTo see more of Harris’ works\, visit Bobby Blue Books.
URL:https://crosstownarts.org/calendar/sky-is-the-limit/
CATEGORIES:430
ATTACH;FMTTYPE=image/jpeg:https://crosstownarts.org/wp-content/uploads/2015/07/Fallen-Walls-Calendar-Pic.jpeg
END:VEVENT
END:VCALENDAR