BEGIN:VCALENDAR
VERSION:2.0
PRODID:-//Crosstown Arts - ECPv6.15.17.1//NONSGML v1.0//EN
CALSCALE:GREGORIAN
METHOD:PUBLISH
X-WR-CALNAME:Crosstown Arts
X-ORIGINAL-URL:https://crosstownarts.org
X-WR-CALDESC:Events for Crosstown Arts
REFRESH-INTERVAL;VALUE=DURATION:PT1H
X-Robots-Tag:noindex
X-PUBLISHED-TTL:PT1H
BEGIN:VTIMEZONE
TZID:America/Chicago
BEGIN:DAYLIGHT
TZOFFSETFROM:-0600
TZOFFSETTO:-0500
TZNAME:CDT
DTSTART:20240310T080000
END:DAYLIGHT
BEGIN:STANDARD
TZOFFSETFROM:-0500
TZOFFSETTO:-0600
TZNAME:CST
DTSTART:20241103T070000
END:STANDARD
BEGIN:DAYLIGHT
TZOFFSETFROM:-0600
TZOFFSETTO:-0500
TZNAME:CDT
DTSTART:20250309T080000
END:DAYLIGHT
BEGIN:STANDARD
TZOFFSETFROM:-0500
TZOFFSETTO:-0600
TZNAME:CST
DTSTART:20251102T070000
END:STANDARD
BEGIN:DAYLIGHT
TZOFFSETFROM:-0600
TZOFFSETTO:-0500
TZNAME:CDT
DTSTART:20260308T080000
END:DAYLIGHT
BEGIN:STANDARD
TZOFFSETFROM:-0500
TZOFFSETTO:-0600
TZNAME:CST
DTSTART:20261101T070000
END:STANDARD
BEGIN:DAYLIGHT
TZOFFSETFROM:-0600
TZOFFSETTO:-0500
TZNAME:CDT
DTSTART:20270314T080000
END:DAYLIGHT
BEGIN:STANDARD
TZOFFSETFROM:-0500
TZOFFSETTO:-0600
TZNAME:CST
DTSTART:20271107T070000
END:STANDARD
END:VTIMEZONE
BEGIN:VEVENT
DTSTART;TZID=America/Chicago:20260306T193000
DTEND;TZID=America/Chicago:20260306T213000
DTSTAMP:20260423T042759
CREATED:20251118T160000Z
LAST-MODIFIED:20260129T175219Z
UID:10004733-1772825400-1772832600@crosstownarts.org
SUMMARY:"Memphis R&B Is Not Dead" with Trinity Adair & Phillip Bond
DESCRIPTION:“Memphis R&B Is Not Dead” with Trinity Adair & Phillip Bond \nThe Green Room at Crosstown Arts \nFriday\, March 6\, 2025 \nDoors open at 7 PM | Show starts at 7:30 PM \n$20 in advance (plus fees) | $25 at the door  \nPURCHASE TICKETS HERE \nIn early 2025\, online discourse reignited a long-standing conversation about the state of the Memphis R&B scene—and\, more broadly\, the misconception that Memphis music exists in only one lane. The truth is far richer: Memphis is home to a dynamic spectrum of sound\, from alternative to traditional genres\, each brimming with artistry\, identity\, and cultural weight. For those who claim they can only hear one genre\, they simply aren’t listening closely enough. This collaboration between Trinity Adair and Phillip Bond aims to change that. \nTrinity Adair is a Nashville-raised singer-songwriter and recent University of Memphis Music Business graduate whose Memphis journey has been defined by passion\, curiosity\, and community. Trinity has already left her mark on the city—hosting the weekly radio show For the Gworlz on 91.7 FM WYXR\, collaborating with a diverse roster of local artists\, and contributing her talents to the historic Overton Park Shell. \nPhillip Bond is a 29-year-old Tennessee native. Born in Jackson and raised in Memphis\, his roots bleed music\, imagination\, and authenticity. From performing at a young age in church and in choirs to performing as a background singer for Kristen Chenoweth\, Phillip knows that music is what he was destined for. While he was studying at the University of Memphis\, he went on to perform in multiple choir groups\, feature in Pentatonix’s music video for “O Come\, All Ye Faithful”\, opened for K Michelle and Jeremiah\, and sang with American soprano\, Angela Brown.  \nThis show doesn’t just entertain; it proves a point: Memphis music is alive\, expansive\, and more diverse than ever.
URL:https://crosstownarts.org/calendar/memphis-rb-is-not-dead-with-trinity-adair-phillip-bond/
LOCATION:Crosstown Arts\, The Green Room\, 1350 Concourse Ave.\, Suite 280\, Memphis\, TN\, 38104\, United States
ATTACH;FMTTYPE=image/jpeg:https://crosstownarts.org/wp-content/uploads/2025/11/Untitled-design-2-2.jpg
GEO:35.1521433;-90.0155942
X-APPLE-STRUCTURED-LOCATION;VALUE=URI;X-ADDRESS=Crosstown Arts The Green Room 1350 Concourse Ave. Suite 280 Memphis TN 38104 United States;X-APPLE-RADIUS=500;X-TITLE=1350 Concourse Ave.\, Suite 280:geo:-90.0155942,35.1521433
END:VEVENT
BEGIN:VEVENT
DTSTART;TZID=America/Chicago:20251108T193000
DTEND;TZID=America/Chicago:20251108T213000
DTSTAMP:20260423T042759
CREATED:20250917T130044Z
LAST-MODIFIED:20251015T183806Z
UID:10004697-1762630200-1762637400@crosstownarts.org
SUMMARY:Jam in the House!
DESCRIPTION:Jam in the House! \nThe Green Room @ Crosstown Arts \nSaturday\, November 8th\, 2025\nDoors open at 7:00 pm | Show starts at 7:30 pm\n$20 in advance (plus fees) | $25 at the door \nPURCHASE TICKETS HERE\nGet ready for an unforgettable night of live house music like you’ve never heard it before! Feel the energy as a powerhouse 10-piece band brings the grooves to life with a dynamic horn section\, soulful vocals\, and driving percussion that will keep you moving all night long.\nWhether you want to hit the dance floor and lose yourself in the rhythm\, or relax in the comfort of available seating\, this event is designed to set the perfect vibe for everyone.\nThe night features the electrifying sounds of Jamille JAM Hunter and Mood Swing\, delivering a fresh\, live take on house music that blends energy\, soul\, and musicianship into one epic performance.\nCome ready to dance\, vibe\, and celebrate music in its fullest form!
URL:https://crosstownarts.org/calendar/jam-in-the-house/
LOCATION:Crosstown Arts The Green Room
ATTACH;FMTTYPE=image/jpeg:https://crosstownarts.org/wp-content/uploads/2025/09/Screenshot_20230725_230541_Chrome.jpg
END:VEVENT
END:VCALENDAR