BEGIN:VCALENDAR
VERSION:2.0
PRODID:-//Crosstown Arts - ECPv6.15.17.1//NONSGML v1.0//EN
CALSCALE:GREGORIAN
METHOD:PUBLISH
X-ORIGINAL-URL:https://crosstownarts.org
X-WR-CALDESC:Events for Crosstown Arts
REFRESH-INTERVAL;VALUE=DURATION:PT1H
X-Robots-Tag:noindex
X-PUBLISHED-TTL:PT1H
BEGIN:VTIMEZONE
TZID:America/Chicago
BEGIN:DAYLIGHT
TZOFFSETFROM:-0600
TZOFFSETTO:-0500
TZNAME:CDT
DTSTART:20140309T080000
END:DAYLIGHT
BEGIN:STANDARD
TZOFFSETFROM:-0500
TZOFFSETTO:-0600
TZNAME:CST
DTSTART:20141102T070000
END:STANDARD
BEGIN:DAYLIGHT
TZOFFSETFROM:-0600
TZOFFSETTO:-0500
TZNAME:CDT
DTSTART:20150308T080000
END:DAYLIGHT
BEGIN:STANDARD
TZOFFSETFROM:-0500
TZOFFSETTO:-0600
TZNAME:CST
DTSTART:20151101T070000
END:STANDARD
BEGIN:DAYLIGHT
TZOFFSETFROM:-0600
TZOFFSETTO:-0500
TZNAME:CDT
DTSTART:20160313T080000
END:DAYLIGHT
BEGIN:STANDARD
TZOFFSETFROM:-0500
TZOFFSETTO:-0600
TZNAME:CST
DTSTART:20161106T070000
END:STANDARD
END:VTIMEZONE
BEGIN:VEVENT
DTSTART;TZID=America/Chicago:20150922T130000
DTEND;TZID=America/Chicago:20150922T150000
DTSTAMP:20260425T100451
CREATED:20150819T221256Z
LAST-MODIFIED:20150915T010614Z
UID:10002562-1442926800-1442934000@crosstownarts.org
SUMMARY:Spark: Equality Divide & Women in the Arts
DESCRIPTION:The next installment of Spark! seeks to address issues that affect women in the arts community: What roles do women play in the arts in comparison to their male counterparts? What are the stereotypes? How do you find access to mentors? \nA panel of women artist entrepreneurs will tackle these questions and give their own insights during this free community event\, organized by Ballet Memphis. \nHave a question for the panelists? Post it here in advance. \nPanelists: \n\nJeannie Tomlinson Saltmarsh – metalworker\, National Ornamental Metal Museum\nEbet Roberts – photographer\nDarlene Newman – visual artist\nDorothy Gunter Pugh – founder and Artistic Director\, Ballet Memphis\n\n\n 
URL:https://crosstownarts.org/calendar/spark-women-in-arts/
CATEGORIES:430
ATTACH;FMTTYPE=image/jpeg:https://crosstownarts.org/wp-content/uploads/2015/08/September-Spark-Poster.jpg
END:VEVENT
BEGIN:VEVENT
DTSTART;TZID=America/Chicago:20150826T130000
DTEND;TZID=America/Chicago:20150826T143000
DTSTAMP:20260425T100451
CREATED:20150813T024000Z
LAST-MODIFIED:20150905T010127Z
UID:10002405-1440594000-1440599400@crosstownarts.org
SUMMARY:Spark: The Child Romantic
DESCRIPTION:Ballet Memphis is hosting a free community conversation about arts education. Spark: The Child Romantic will focus on utilizing the arts to encourage healthy relationships among Memphis youth. Hear about arts programs that are impacting the lives of Memphis’s young people\, from dance and music to literature and visual art. Then join in an open dialogue on improving and growing arts education\, learn creative-thinking and problem-solving techniques for your student at home\, and hear from education and government policymakers on how to advocate for arts-centered learning. \nDon’t have a babysitter? Ballet Memphis will have an arts specialist directing an art-making activity of epic proportion for kids ages 4-14. Refreshments provided. \nThis event is part of Ballet Memphis’ ongoing spark! programming.
URL:https://crosstownarts.org/calendar/spark-the-child-romantic/
LOCATION:story booth\, 438 N. Cleveland St.\, Memphis\, TN\, 38104\, United States
CATEGORIES:Programs
ATTACH;FMTTYPE=image/jpeg:https://crosstownarts.org/wp-content/uploads/2015/08/Spark-Child-Romantic.jpg
GEO:35.1505926;-90.0135933
X-APPLE-STRUCTURED-LOCATION;VALUE=URI;X-ADDRESS=story booth 438 N. Cleveland St. Memphis TN 38104 United States;X-APPLE-RADIUS=500;X-TITLE=438 N. Cleveland St.:geo:-90.0135933,35.1505926
END:VEVENT
END:VCALENDAR