BEGIN:VCALENDAR
VERSION:2.0
PRODID:-//Crosstown Arts - ECPv6.15.17.1//NONSGML v1.0//EN
CALSCALE:GREGORIAN
METHOD:PUBLISH
X-WR-CALNAME:Crosstown Arts
X-ORIGINAL-URL:https://crosstownarts.org
X-WR-CALDESC:Events for Crosstown Arts
REFRESH-INTERVAL;VALUE=DURATION:PT1H
X-Robots-Tag:noindex
X-PUBLISHED-TTL:PT1H
BEGIN:VTIMEZONE
TZID:America/Chicago
BEGIN:DAYLIGHT
TZOFFSETFROM:-0600
TZOFFSETTO:-0500
TZNAME:CDT
DTSTART:20140309T080000
END:DAYLIGHT
BEGIN:STANDARD
TZOFFSETFROM:-0500
TZOFFSETTO:-0600
TZNAME:CST
DTSTART:20141102T070000
END:STANDARD
BEGIN:DAYLIGHT
TZOFFSETFROM:-0600
TZOFFSETTO:-0500
TZNAME:CDT
DTSTART:20150308T080000
END:DAYLIGHT
BEGIN:STANDARD
TZOFFSETFROM:-0500
TZOFFSETTO:-0600
TZNAME:CST
DTSTART:20151101T070000
END:STANDARD
BEGIN:DAYLIGHT
TZOFFSETFROM:-0600
TZOFFSETTO:-0500
TZNAME:CDT
DTSTART:20160313T080000
END:DAYLIGHT
BEGIN:STANDARD
TZOFFSETFROM:-0500
TZOFFSETTO:-0600
TZNAME:CST
DTSTART:20161106T070000
END:STANDARD
END:VTIMEZONE
BEGIN:VEVENT
DTSTART;TZID=America/Chicago:20150418T143000
DTEND;TZID=America/Chicago:20150418T160000
DTSTAMP:20260424T042833
CREATED:20150709T015127Z
LAST-MODIFIED:20150709T015127Z
UID:10002488-1429367400-1429372800@crosstownarts.org
SUMMARY:Impossible Language
DESCRIPTION:This installment of Impossible Language features readings by Angie Macri\, John Reed\, and Sandy Longhorn. \nBecome better acquainted with this ongoing poetry reading series by following here: Twitter @impossiblelang\, Facebook or Tumblr.
URL:https://crosstownarts.org/calendar/impossible-language-0415/
LOCATION:story booth\, 438 N. Cleveland St.\, Memphis\, TN\, 38104\, United States
ATTACH;FMTTYPE=image/jpeg:https://crosstownarts.org/wp-content/uploads/2015/07/Impossible-Language1.jpg
GEO:35.1505926;-90.0135933
X-APPLE-STRUCTURED-LOCATION;VALUE=URI;X-ADDRESS=story booth 438 N. Cleveland St. Memphis TN 38104 United States;X-APPLE-RADIUS=500;X-TITLE=438 N. Cleveland St.:geo:-90.0135933,35.1505926
END:VEVENT
END:VCALENDAR