BEGIN:VCALENDAR
VERSION:2.0
PRODID:-//Crosstown Arts - ECPv6.15.17.1//NONSGML v1.0//EN
CALSCALE:GREGORIAN
METHOD:PUBLISH
X-ORIGINAL-URL:https://crosstownarts.org
X-WR-CALDESC:Events for Crosstown Arts
REFRESH-INTERVAL;VALUE=DURATION:PT1H
X-Robots-Tag:noindex
X-PUBLISHED-TTL:PT1H
BEGIN:VTIMEZONE
TZID:America/Chicago
BEGIN:DAYLIGHT
TZOFFSETFROM:-0600
TZOFFSETTO:-0500
TZNAME:CDT
DTSTART:20240310T080000
END:DAYLIGHT
BEGIN:STANDARD
TZOFFSETFROM:-0500
TZOFFSETTO:-0600
TZNAME:CST
DTSTART:20241103T070000
END:STANDARD
BEGIN:DAYLIGHT
TZOFFSETFROM:-0600
TZOFFSETTO:-0500
TZNAME:CDT
DTSTART:20250309T080000
END:DAYLIGHT
BEGIN:STANDARD
TZOFFSETFROM:-0500
TZOFFSETTO:-0600
TZNAME:CST
DTSTART:20251102T070000
END:STANDARD
BEGIN:DAYLIGHT
TZOFFSETFROM:-0600
TZOFFSETTO:-0500
TZNAME:CDT
DTSTART:20260308T080000
END:DAYLIGHT
BEGIN:STANDARD
TZOFFSETFROM:-0500
TZOFFSETTO:-0600
TZNAME:CST
DTSTART:20261101T070000
END:STANDARD
END:VTIMEZONE
BEGIN:VEVENT
DTSTART;TZID=America/Chicago:20250802T193000
DTEND;TZID=America/Chicago:20250802T220000
DTSTAMP:20260425T174209
CREATED:20250612T200034Z
LAST-MODIFIED:20250613T173706Z
UID:10004646-1754163000-1754172000@crosstownarts.org
SUMMARY:Marcella & Her Lovers
DESCRIPTION:Marcella & Her Lovers \nThe Green Room @ Crosstown Arts \nSaturday\, August 2nd\, 2025\nDoors open at 7pm | Show starts at 7:30pm\nGeneral Admission Tickets $25 in advance (plus fees) | $30 at the door\nVIP Tickets $50 in advance (plus fees) | $55 at the door  \nPURCHASE TICKETS HERE  \nMarcella Simien has been captivating audiences for the last 15 years. Her beloved Memphis-based band Marcella & Her Lovers is a group of electrifying\, world-class musicians who leave audiences in awe. Simien’s raw energy\, vocal prowess and ability to engage audiences on a deep level is breathtaking. Her Psychedelic Swamp Soul music fuses recognizable tones and textures inspired by culture bearers of the South- you’ll hear echoes of Soul\, Blues & Jazz greats – while bringing you something completely new and refreshing to your ears. This is the long-awaited return of Marcella Simien’s band that hasn’t played Memphis in 8 months! It will be an unforgettable night of music and storytelling that you don’t want to miss.
URL:https://crosstownarts.org/calendar/marcella-her-lovers/
LOCATION:Crosstown Arts The Green Room
ATTACH;FMTTYPE=image/jpeg:https://crosstownarts.org/wp-content/uploads/2025/06/0Z8A6219.jpg
END:VEVENT
END:VCALENDAR