BEGIN:VCALENDAR
VERSION:2.0
PRODID:-//Crosstown Arts - ECPv6.15.17.1//NONSGML v1.0//EN
CALSCALE:GREGORIAN
METHOD:PUBLISH
X-ORIGINAL-URL:https://crosstownarts.org
X-WR-CALDESC:Events for Crosstown Arts
REFRESH-INTERVAL;VALUE=DURATION:PT1H
X-Robots-Tag:noindex
X-PUBLISHED-TTL:PT1H
BEGIN:VTIMEZONE
TZID:America/Chicago
BEGIN:DAYLIGHT
TZOFFSETFROM:-0600
TZOFFSETTO:-0500
TZNAME:CDT
DTSTART:20250309T080000
END:DAYLIGHT
BEGIN:STANDARD
TZOFFSETFROM:-0500
TZOFFSETTO:-0600
TZNAME:CST
DTSTART:20251102T070000
END:STANDARD
BEGIN:DAYLIGHT
TZOFFSETFROM:-0600
TZOFFSETTO:-0500
TZNAME:CDT
DTSTART:20260308T080000
END:DAYLIGHT
BEGIN:STANDARD
TZOFFSETFROM:-0500
TZOFFSETTO:-0600
TZNAME:CST
DTSTART:20261101T070000
END:STANDARD
BEGIN:DAYLIGHT
TZOFFSETFROM:-0600
TZOFFSETTO:-0500
TZNAME:CDT
DTSTART:20270314T080000
END:DAYLIGHT
BEGIN:STANDARD
TZOFFSETFROM:-0500
TZOFFSETTO:-0600
TZNAME:CST
DTSTART:20271107T070000
END:STANDARD
END:VTIMEZONE
BEGIN:VEVENT
DTSTART;TZID=America/Chicago:20260802T180000
DTEND;TZID=America/Chicago:20260802T200000
DTSTAMP:20260423T141103
CREATED:20260402T150012Z
LAST-MODIFIED:20260318T204944Z
UID:10004894-1785693600-1785700800@crosstownarts.org
SUMMARY:Sean Murphy "Sound Meditation Journey"
DESCRIPTION:Sean Murphy: “Sound Meditation Journey”\nThe Green Room at Crosstown Arts  \nSunday\, August 2nd\, 2026 \nDoors open at 5:30 PM | Show at 6:00 PM  \n$18 in advance (plus fees) | $22 at the door \nPURCHASE TICKETS HERE \nWeaving sonic tapestries with didgeridoos\, tuba\, gongs\, flutes\, kalimbas\, drums\, bells\, bowls\, and more\, Sean Murphy’s sound meditation journeys are more than concerts\, but wellness practices for relaxation and self-care. Some listeners have described Sean’s improvisations as “sound acupuncture” and “a cell-altering shamanic journey.” \nThe concert lasts approximately 90 minutes. There will be traditional concert seating as well as an area to lie down and spread out. If you’re so inclined\, you are encouraged to bring a yoga mat\, blankets\, pillows\, or anything else you need for your comfort. The more comfortable you are\, the deeper the experience. \nSEAN MURPHY \nSean Murphy is a multidisciplinary artist with over 30 years of professional experience. He is a musician\, ethnomusicologist\, instrument maker\, sound healer\, teaching artist\, nature lover\, listener\, explorer… Sean holds a degree in music history with an emphasis in Ethnomusicology from the University of Memphis. He was trained to play western classical and jazz tuba; but his fascination with world cultures and music has led him to play and make innumerable instruments. Early in his career\, he began performing as a solo improvisation musician accompanying dance and yoga which eventually led him to the practice of sound healing. Sean and his wife\, Anne J. Froning\, have led workshops in restorative yoga\, sound healing\, & meditative movement with music throughout the United States. As a performing and recording musician\, Sean is equally at home working in classical to hip hop\, world to ambient\, jazz to hard rock\, new age to jazz. He is the leader of the Mighty Souls Brass Band as well as regularly playing as a sideman with many jazz groups while also regularly performing improvised music for dance\, healing\, and yoga. He also has many recording credits to his name as a soloist\, bandleader\, and sideman. He has also been fortunate enough to perform with many world-renowned musicians and bands including Dr. John\, Paul Winter\, Mike Tamburo\, the Meters\, Galactic\, Clyde Stubblefield\, and Rufus Thomas to name a few.
URL:https://crosstownarts.org/calendar/sean-murphy-sound-meditation-journey-2/
LOCATION:Crosstown Arts\, The Green Room\, 1350 Concourse Ave.\, Suite 280\, Memphis\, TN\, 38104\, United States
ATTACH;FMTTYPE=image/jpeg:https://crosstownarts.org/wp-content/uploads/2026/03/9P8A8088.jpg
GEO:35.1521433;-90.0155942
X-APPLE-STRUCTURED-LOCATION;VALUE=URI;X-ADDRESS=Crosstown Arts The Green Room 1350 Concourse Ave. Suite 280 Memphis TN 38104 United States;X-APPLE-RADIUS=500;X-TITLE=1350 Concourse Ave.\, Suite 280:geo:-90.0155942,35.1521433
END:VEVENT
BEGIN:VEVENT
DTSTART;TZID=America/Chicago:20260804T180000
DTEND;TZID=America/Chicago:20260804T190000
DTSTAMP:20260423T141103
CREATED:20260226T230016Z
LAST-MODIFIED:20260226T230016Z
UID:10004829-1785866400-1785870000@crosstownarts.org
SUMMARY:The Mystic
DESCRIPTION:So\, what is The Mystic? The Mystic is a catalyst; through music\, story\, silence and dialogue\, we hope to strengthen our attachment to hopes and dreams. In the mystic\, diversity is a prerequisite for all creativity\, which is why Crosstown Concourse is the perfect home. In The Mystic\, the world is far-better served by different beliefs than it could ever be if limited by rigid uniformity. \nAnd if this doesn’t rock your gypsy soul\, the goal of The Mystic is to not feel better but get better at feeling.
URL:https://crosstownarts.org/calendar/the-mystic-13/2026-08-04/
LOCATION:Crosstown Arts\, The Green Room\, 1350 Concourse Ave.\, Suite 280\, Memphis\, TN\, 38104\, United States
CATEGORIES:The Green Room
ATTACH;FMTTYPE=image/jpeg:https://crosstownarts.org/wp-content/uploads/2026/02/Screenshot-2026-02-26-at-4.07.26-PM.jpg
GEO:35.1521433;-90.0155942
X-APPLE-STRUCTURED-LOCATION;VALUE=URI;X-ADDRESS=Crosstown Arts The Green Room 1350 Concourse Ave. Suite 280 Memphis TN 38104 United States;X-APPLE-RADIUS=500;X-TITLE=1350 Concourse Ave.\, Suite 280:geo:-90.0155942,35.1521433
END:VEVENT
BEGIN:VEVENT
DTSTART;TZID=America/Chicago:20260825T193000
DTEND;TZID=America/Chicago:20260825T220000
DTSTAMP:20260423T141103
CREATED:20260211T200207Z
LAST-MODIFIED:20260325T190527Z
UID:10004811-1787686200-1787695200@crosstownarts.org
SUMMARY:Jazz Jam Session: Hosted by Kenny Reed
DESCRIPTION:Jazz Jam Session: Hosted by Kenny Reed  \nThe Green Room @ Crosstown Arts  \nTuesday\, August 25 2026 \nDoors open at 7 pm | Show begins at 7:30 pm \nTickets $7 (plus fees) | Free for participants  \nPURCHASE TICKETS HERE \nThe Green Room Jazz Jam is a monthly\, interactive music event hosted by Kenny Reed . Young up-and-coming musicians and local jazz veterans alike join together for spontaneous music making\, sharing the stage as they tackle the expansive body of repertoire found within the jazz idiom. The Green Room Jazz Jam strives to provide an inclusive and collaborative environment where jazz musicians of all ages and backgrounds may perform\, network\, and interact together in the interest of further fostering Memphis’ diverse music scene.
URL:https://crosstownarts.org/calendar/jazz-jam-session-hosted-by-kenny-reed/
LOCATION:Crosstown Arts The Green Room
ATTACH;FMTTYPE=image/jpeg:https://crosstownarts.org/wp-content/uploads/2026/02/JazzJamSession_03_10_26_TheGreenRoom_SocialMedia_v25.jpg
END:VEVENT
END:VCALENDAR