BEGIN:VCALENDAR
VERSION:2.0
PRODID:-//Crosstown Arts - ECPv6.15.17.1//NONSGML v1.0//EN
CALSCALE:GREGORIAN
METHOD:PUBLISH
X-ORIGINAL-URL:https://crosstownarts.org
X-WR-CALDESC:Events for Crosstown Arts
REFRESH-INTERVAL;VALUE=DURATION:PT1H
X-Robots-Tag:noindex
X-PUBLISHED-TTL:PT1H
BEGIN:VTIMEZONE
TZID:America/Chicago
BEGIN:DAYLIGHT
TZOFFSETFROM:-0600
TZOFFSETTO:-0500
TZNAME:CDT
DTSTART:20250309T080000
END:DAYLIGHT
BEGIN:STANDARD
TZOFFSETFROM:-0500
TZOFFSETTO:-0600
TZNAME:CST
DTSTART:20251102T070000
END:STANDARD
BEGIN:DAYLIGHT
TZOFFSETFROM:-0600
TZOFFSETTO:-0500
TZNAME:CDT
DTSTART:20260308T080000
END:DAYLIGHT
BEGIN:STANDARD
TZOFFSETFROM:-0500
TZOFFSETTO:-0600
TZNAME:CST
DTSTART:20261101T070000
END:STANDARD
BEGIN:DAYLIGHT
TZOFFSETFROM:-0600
TZOFFSETTO:-0500
TZNAME:CDT
DTSTART:20270314T080000
END:DAYLIGHT
BEGIN:STANDARD
TZOFFSETFROM:-0500
TZOFFSETTO:-0600
TZNAME:CST
DTSTART:20271107T070000
END:STANDARD
END:VTIMEZONE
BEGIN:VEVENT
DTSTART;TZID=America/Chicago:20260428T193000
DTEND;TZID=America/Chicago:20260428T213000
DTSTAMP:20260423T041813
CREATED:20260201T160019Z
LAST-MODIFIED:20260422T202811Z
UID:10004792-1777404600-1777411800@crosstownarts.org
SUMMARY:University of Memphis Southern Comfort Jazz Orchestra and Jazz Singers
DESCRIPTION:University of Memphis Southern Comfort Jazz Orchestra and Jazz Singers  \nThe Green Room at Crosstown Arts  \nTuesday\, April 28\, 2026  \nDoors open at 7:00 PM | Show starts at 7:30 PM  \n$10 tickets | Free for students and faculty with ID \nPURCHASE TICKETS HERE \nExperience an electrifying evening of jazz excellence that bridges generations and celebrates Memphis’s rich musical legacy. The highly acclaimed Southern Comfort Jazz Orchestra of the University of Memphis Scheidt School of Music takes the stage\, featuring the 2025 DownBeat Magazine Outstanding Performance–winning U of M Jazz Singers. With roots dating back to the early 1960s\, these ensembles represent decades of artistry\, innovation\, and national recognition at the highest level. \nTogether\, these celebrated ensembles deliver a powerful\, multigenerational jazz experience—honoring tradition\, showcasing world-class talent\, and affirming Memphis as a vital force in the jazz world.
URL:https://crosstownarts.org/calendar/university-of-memphis-southern-comfort-jazz-orchestra-and-jazz-singers-opener-the-central-high-school-jazz-band/
LOCATION:Crosstown Arts\, The Green Room\, 1350 Concourse Ave.\, Suite 280\, Memphis\, TN\, 38104\, United States
CATEGORIES:The Green Room
ATTACH;FMTTYPE=image/jpeg:https://crosstownarts.org/wp-content/uploads/2026/02/55ca2208-d385-4cdf-9579-bf8e8c615a45.jpg
GEO:35.1521433;-90.0155942
X-APPLE-STRUCTURED-LOCATION;VALUE=URI;X-ADDRESS=Crosstown Arts The Green Room 1350 Concourse Ave. Suite 280 Memphis TN 38104 United States;X-APPLE-RADIUS=500;X-TITLE=1350 Concourse Ave.\, Suite 280:geo:-90.0155942,35.1521433
END:VEVENT
END:VCALENDAR