BEGIN:VCALENDAR
VERSION:2.0
PRODID:-//Crosstown Arts - ECPv6.15.17.1//NONSGML v1.0//EN
CALSCALE:GREGORIAN
METHOD:PUBLISH
X-WR-CALNAME:Crosstown Arts
X-ORIGINAL-URL:https://crosstownarts.org
X-WR-CALDESC:Events for Crosstown Arts
REFRESH-INTERVAL;VALUE=DURATION:PT1H
X-Robots-Tag:noindex
X-PUBLISHED-TTL:PT1H
BEGIN:VTIMEZONE
TZID:America/Chicago
BEGIN:DAYLIGHT
TZOFFSETFROM:-0600
TZOFFSETTO:-0500
TZNAME:CDT
DTSTART:20250309T080000
END:DAYLIGHT
BEGIN:STANDARD
TZOFFSETFROM:-0500
TZOFFSETTO:-0600
TZNAME:CST
DTSTART:20251102T070000
END:STANDARD
BEGIN:DAYLIGHT
TZOFFSETFROM:-0600
TZOFFSETTO:-0500
TZNAME:CDT
DTSTART:20260308T080000
END:DAYLIGHT
BEGIN:STANDARD
TZOFFSETFROM:-0500
TZOFFSETTO:-0600
TZNAME:CST
DTSTART:20261101T070000
END:STANDARD
BEGIN:DAYLIGHT
TZOFFSETFROM:-0600
TZOFFSETTO:-0500
TZNAME:CDT
DTSTART:20270314T080000
END:DAYLIGHT
BEGIN:STANDARD
TZOFFSETFROM:-0500
TZOFFSETTO:-0600
TZNAME:CST
DTSTART:20271107T070000
END:STANDARD
END:VTIMEZONE
BEGIN:VEVENT
DTSTART;TZID=America/Chicago:20260303T180000
DTEND;TZID=America/Chicago:20260303T190000
DTSTAMP:20260423T103502
CREATED:20260226T230016Z
LAST-MODIFIED:20260226T230016Z
UID:10004824-1772560800-1772564400@crosstownarts.org
SUMMARY:The Mystic
DESCRIPTION:So\, what is The Mystic? The Mystic is a catalyst; through music\, story\, silence and dialogue\, we hope to strengthen our attachment to hopes and dreams. In the mystic\, diversity is a prerequisite for all creativity\, which is why Crosstown Concourse is the perfect home. In The Mystic\, the world is far-better served by different beliefs than it could ever be if limited by rigid uniformity. \nAnd if this doesn’t rock your gypsy soul\, the goal of The Mystic is to not feel better but get better at feeling.
URL:https://crosstownarts.org/calendar/the-mystic-13/2026-03-03/
LOCATION:Crosstown Arts\, The Green Room\, 1350 Concourse Ave.\, Suite 280\, Memphis\, TN\, 38104\, United States
CATEGORIES:The Green Room
ATTACH;FMTTYPE=image/jpeg:https://crosstownarts.org/wp-content/uploads/2026/02/Screenshot-2026-02-26-at-4.07.26-PM.jpg
GEO:35.1521433;-90.0155942
X-APPLE-STRUCTURED-LOCATION;VALUE=URI;X-ADDRESS=Crosstown Arts The Green Room 1350 Concourse Ave. Suite 280 Memphis TN 38104 United States;X-APPLE-RADIUS=500;X-TITLE=1350 Concourse Ave.\, Suite 280:geo:-90.0155942,35.1521433
END:VEVENT
BEGIN:VEVENT
DTSTART;TZID=America/Chicago:20260319T180000
DTEND;TZID=America/Chicago:20260319T200000
DTSTAMP:20260423T103502
CREATED:20260226T165819Z
LAST-MODIFIED:20260226T165819Z
UID:10004820-1773943200-1773950400@crosstownarts.org
SUMMARY:Resident Artist Talk
DESCRIPTION:Thursday\, March 19\, 2026 | 6–8 PMThe Green Room at Crosstown ArtsFree and open to the public \nJoin us for an evening of conversation and insight as Crosstown Arts’ Spring Residents share their work\, processes\, and what they’ve been developing during their time in the residency. \nThe Resident Artist Talk offers a behind-the-scenes look at the ideas\, experiments\, and evolving practices that shape each artist’s work. From visual art and sound to dance\, film\, and interdisciplinary exploration\, this cohort represents a dynamic cross-section of contemporary creative practice. \nFeaturing Spring 2026 Residents: \n\n\nYangbin Park – Visual Art / Print & Papermaking \n\n\nRobin Bruce – Performance / Sound / Healing Arts \n\n\nKenny Morningstar – Music / Production \n\n\nThe Dream Team – Dance / Movement \n\n\nRacheal Mitchell – Film \n\n\nThis free public event invites audiences to engage directly with the artists\, hear about their research and creative processes\, and ask questions in an informal\, welcoming setting. \nWhether you’ve followed their work throughout the session or are just discovering it\, this is an opportunity to connect with the artists and the ideas shaping their time at Crosstown Arts. \nFree and open to the public. Seating is first come\, first served.
URL:https://crosstownarts.org/calendar/resident-artist-talk-2/
LOCATION:Crosstown Arts The Green Room
CATEGORIES:The Green Room
ATTACH;FMTTYPE=image/jpeg:https://crosstownarts.org/wp-content/uploads/2026/02/Capture.jpg
END:VEVENT
BEGIN:VEVENT
DTSTART;TZID=America/Chicago:20260320T170000
DTEND;TZID=America/Chicago:20260320T210000
DTSTAMP:20260423T103502
CREATED:20251219T232405Z
LAST-MODIFIED:20260210T234405Z
UID:10004808-1774026000-1774040400@crosstownarts.org
SUMMARY:Folk All Y'all: Will Kimbrough in Tribute to Todd Snider
DESCRIPTION:Folk All Y’all: Will Kimbrough in Tribute to Todd Snider  \nThe Green Room at Crosstown Arts  \nFriday\, March 20th\, 2026 \nTwo Shows! \nDoors open at 7 PM | Show Starts at 7:30 PM SOLD OUT \nDoors open at 4:30 PM | Show Starts at 5PM \nTickets: $25 \nPurchase Tickets for 5PM Show \nUber-versatile\, musician’s musician Will Kimbrough (he/him) has enjoyed a long and winding career. He’s released nine albums while fronting Will and the Bushmen\, The Bis-Quits\, Willie Sugarcapps\, and Daddy. \nKimbrough’s abundant production credits include Shemekia Copeland’s last three albums\, America’s Child\, Uncivil War\, and Done Come Too Far\, which garnered two Grammy nominations and multiple wins at the Blues Music and Living Blues Awards. \nAs a much in-demand guitarist\, Will’s played on countless and wide-ranging recording sessions\, seen the world from a stage on multiple tours with  Rodney Crowell and Emmylou Harris\, and returned to his Nashville home with an Americana Music Association Instrumentalist of the Year award in hand. \nAnd Kimbrough’s songs and/or session work have appeared on every Jimmy Buffett studio album released in the last twenty years\, from License to Chill’s “Piece of Work” to the Paul McCartney-praised and the iTunes #1\, “Bubbles Up\,” on the upcoming Equal Strain on All Parts. \nBut this special tribute show will honor Will’s relationship with one artist in particular: his dear friend and bandmate Todd Snider. We’re grateful for the chance to share Todd’s music and celebrate his soul in the city that always welcomed him back.
URL:https://crosstownarts.org/calendar/folk-all-yall-will-kimbrough-in-tribute-to-todd-snider-2/
LOCATION:Crosstown Arts\, The Green Room\, 1350 Concourse Ave.\, Suite 280\, Memphis\, TN\, 38104\, United States
CATEGORIES:The Green Room
ATTACH;FMTTYPE=image/webp:https://crosstownarts.org/wp-content/uploads/2025/12/WillGuitar2.webp
GEO:35.1521433;-90.0155942
X-APPLE-STRUCTURED-LOCATION;VALUE=URI;X-ADDRESS=Crosstown Arts The Green Room 1350 Concourse Ave. Suite 280 Memphis TN 38104 United States;X-APPLE-RADIUS=500;X-TITLE=1350 Concourse Ave.\, Suite 280:geo:-90.0155942,35.1521433
END:VEVENT
BEGIN:VEVENT
DTSTART;TZID=America/Chicago:20260328T193000
DTEND;TZID=America/Chicago:20260328T213000
DTSTAMP:20260423T103502
CREATED:20251228T160047Z
LAST-MODIFIED:20260316T145301Z
UID:10004774-1774726200-1774733400@crosstownarts.org
SUMMARY:Chinese Connection Dub Embassy: "Forever Inna Vibe"
DESCRIPTION:Chinese Connection Dub Embassy: “Forever Inna Vibe” \nThe Green Room at Crosstown Arts  \nSaturday\, March 28\, 2026 \nDoors open at 7 PM | Show begins at 7:30 PM \n$20 in advance | $25 at the door  \nPURCHASE TICKETS HERE \nGet ready for a night with the Chinese Connection Dub Embassy (CCDE)\, where Reggae meets Memphis grit. For lovers of Reggae\, Dancehall\, Ska\, Afrobeats and everything in between\, this show will bring a distinct vibe you can only experience in Memphis — and on March 28th\, that energy is taking over the Green Room. \nThis will be an unforgettable night filled with dancing\, big laughs\, truth & rights\, and everything in between. Even better\, CCDE will be dropping brand-new music the same day\, so you’ll leave not only with memories\, but with fresh tunes to take home and replay!
URL:https://crosstownarts.org/calendar/chinese-connection-dub-embassy/
LOCATION:Crosstown Arts\, The Green Room\, 1350 Concourse Ave.\, Suite 280\, Memphis\, TN\, 38104\, United States
CATEGORIES:The Green Room
ATTACH;FMTTYPE=image/jpeg:https://crosstownarts.org/wp-content/uploads/2025/12/ccde.jpg
GEO:35.1521433;-90.0155942
X-APPLE-STRUCTURED-LOCATION;VALUE=URI;X-ADDRESS=Crosstown Arts The Green Room 1350 Concourse Ave. Suite 280 Memphis TN 38104 United States;X-APPLE-RADIUS=500;X-TITLE=1350 Concourse Ave.\, Suite 280:geo:-90.0155942,35.1521433
END:VEVENT
END:VCALENDAR