BEGIN:VCALENDAR
VERSION:2.0
PRODID:-//Crosstown Arts - ECPv6.15.17.1//NONSGML v1.0//EN
CALSCALE:GREGORIAN
METHOD:PUBLISH
X-WR-CALNAME:Crosstown Arts
X-ORIGINAL-URL:https://crosstownarts.org
X-WR-CALDESC:Events for Crosstown Arts
REFRESH-INTERVAL;VALUE=DURATION:PT1H
X-Robots-Tag:noindex
X-PUBLISHED-TTL:PT1H
BEGIN:VTIMEZONE
TZID:America/Chicago
BEGIN:DAYLIGHT
TZOFFSETFROM:-0600
TZOFFSETTO:-0500
TZNAME:CDT
DTSTART:20180311T080000
END:DAYLIGHT
BEGIN:STANDARD
TZOFFSETFROM:-0500
TZOFFSETTO:-0600
TZNAME:CST
DTSTART:20181104T070000
END:STANDARD
BEGIN:DAYLIGHT
TZOFFSETFROM:-0600
TZOFFSETTO:-0500
TZNAME:CDT
DTSTART:20190310T080000
END:DAYLIGHT
BEGIN:STANDARD
TZOFFSETFROM:-0500
TZOFFSETTO:-0600
TZNAME:CST
DTSTART:20191103T070000
END:STANDARD
BEGIN:DAYLIGHT
TZOFFSETFROM:-0600
TZOFFSETTO:-0500
TZNAME:CDT
DTSTART:20200308T080000
END:DAYLIGHT
BEGIN:STANDARD
TZOFFSETFROM:-0500
TZOFFSETTO:-0600
TZNAME:CST
DTSTART:20201101T070000
END:STANDARD
END:VTIMEZONE
BEGIN:VEVENT
DTSTART;VALUE=DATE:20190823
DTEND;VALUE=DATE:20191022
DTSTAMP:20260423T061702
CREATED:20190802T211659Z
LAST-MODIFIED:20191018T214231Z
UID:10003749-1566586800-1571684399@crosstownarts.org
SUMMARY:Jia Wang: Residual Imprint
DESCRIPTION:Join us for an exhibition of new work by Jia Wang. Jia’s work explores the traumatic memories that are prevalent in a family. Examining and displaying how trauma is revealed through complex family relationships and how it alters an individual and a family’s identity when visualized. Her work addresses both a personal and cultural perspectives\, through site-specific installation comprised of video\, collage\, and photographic images. \nIn Jia’s work\, she exploring domestic violence and sharing her visual inquiry into trauma through personal storytelling. These stories are both past’s future and future’s past\, physically and psychologically speaking. In traditional Chinese culture\, the family is the most basic unit and many aspects of Chinese life can be tied to honoring one’s parents or ancestors. Family practices\, such as interactions between family members and disciplinary actions\, are passed down from one generation to another. Family is the most intimate relationship but also the most confusing as love and hostility can be difficult to separate. \nAbout Jia Wang:\nJia Wang was born in Lanzhou\, Gnasu Province\, China. She holds a BFA in Photography from the Beijing Film Academy\, Beijing\, China and an MFA in Imaging Arts from the Rochester Institute of Technology\, Rochester\, NY. Jia has exhibited internationally including in the Three Shadows Photography Art Center\, Beijing\, China\, the Yeiser Art Center\, Pauducah\, KY\, and the PH21 Gallery in Budapest\, Hungary. Her art work has published in Art Maze Mag\, UK\, ArtAscent Magazine\, USA\, and the PhotoWorld magazine\, China. Residences include the Chanorth Residency Program and the Crosstown Arts Residency Program. In Fall 2019\, Jia will participate in the Bronx Museum’s AIM (Artist in the Marketplace) Program. \n\nTOMORROW at The Green Room at Crosstown Arts! Come hear the TULSA REVUE featuring John Fullbright\, Paul Benjaman\, Jacob Tovar & special guest Jesse Aycock! Experience individual sets from each artist with a supporting cast of players\, as the the evening wraps with all joining together for a family jam of epic proportion.\n\n\n\n\n\n\n\n\n\n\n\n 
URL:https://crosstownarts.org/calendar/jia-wang-residual-imprint/
LOCATION:Crosstown Arts\, East Gallery\, Crosstown Concourse\, 1350 Concourse Ave.\, Memphis\, TN\, 38104\, United States
CATEGORIES:East Gallery,Gallery
ATTACH;FMTTYPE=image/jpeg:https://crosstownarts.org/wp-content/uploads/2019/08/JiaWang_StudioImage2.jpg
GEO:35.1521433;-90.0155942
X-APPLE-STRUCTURED-LOCATION;VALUE=URI;X-ADDRESS=Crosstown Arts East Gallery Crosstown Concourse 1350 Concourse Ave. Memphis TN 38104 United States;X-APPLE-RADIUS=500;X-TITLE=1350 Concourse Ave.:geo:-90.0155942,35.1521433
END:VEVENT
BEGIN:VEVENT
DTSTART;TZID=America/Chicago:20190823T130000
DTEND;TZID=America/Chicago:20190823T150000
DTSTAMP:20260423T061702
CREATED:20190802T212003Z
LAST-MODIFIED:20190823T161527Z
UID:10003751-1566565200-1566572400@crosstownarts.org
SUMMARY:Opening Reception — Jia Wang: Residual Imprint
DESCRIPTION:Join us for an opening reception of new work by Jia Wang. On view through Oct. 20. \nJia’s work explores the traumatic memories that are prevalent in a family. Examining and displaying how trauma is revealed through complex family relationships and how it alters an individual and a family’s identity when visualized. Her work addresses both a personal and cultural perspectives\, through site-specific installation comprised of video\, collage\, and photographic images. \nIn Jia’s work\, she exploring domestic violence and sharing her visual inquiry into trauma through personal storytelling. These stories are both past’s future and future’s past\, physically and psychologically speaking. In traditional Chinese culture\, the family is the most basic unit and many aspects of Chinese life can be tied to honoring one’s parents or ancestors. Family practices\, such as interactions between family members and disciplinary actions\, are passed down from one generation to another. Family is the most intimate relationship but also the most confusing as love and hostility can be difficult to separate. \nAbout Jia Wang:\nJia Wang was born in Lanzhou\, Gansu Provence\, China. She holds a BFA in Photography from the Beijing Film Academy\, Beijing\, China and an MFA in Imaging Arts from the Rochester Institute of Technology\, Rochester\, NY. Jia has exhibited internationally including in the Three Shadows Photography Art Center\, Beijing\, China\, the Yeiser Art Center\, Pauducah\, KY\, and the PH21 Gallery in Budapest\, Hungary. Her art work has published in Art Maze Mag\, UK\, ArtAscent Magazine\, USA\, and the PhotoWorld magazine\, China. Residences include the Chanorth Residency Program and the Crosstown Arts Residency Program. In Fall 2019\, Jia will participate in the Bronx Museum’s AIM (Artist in the Marketplace) Program. \n 
URL:https://crosstownarts.org/calendar/opening-reception-jia-wang-residual-imprint/
LOCATION:Crosstown Arts\, East Gallery\, Crosstown Concourse\, 1350 Concourse Ave.\, Memphis\, TN\, 38104\, United States
CATEGORIES:East Gallery,Gallery
ATTACH;FMTTYPE=image/png:https://crosstownarts.org/wp-content/uploads/2019/08/Screen-Shot-2019-08-02-at-4.19.39-PM.png
GEO:35.1521433;-90.0155942
X-APPLE-STRUCTURED-LOCATION;VALUE=URI;X-ADDRESS=Crosstown Arts East Gallery Crosstown Concourse 1350 Concourse Ave. Memphis TN 38104 United States;X-APPLE-RADIUS=500;X-TITLE=1350 Concourse Ave.:geo:-90.0155942,35.1521433
END:VEVENT
BEGIN:VEVENT
DTSTART;TZID=America/Chicago:20190510T130000
DTEND;TZID=America/Chicago:20190510T160000
DTSTAMP:20260423T061702
CREATED:20190207T222113Z
LAST-MODIFIED:20190429T164523Z
UID:10003527-1557493200-1557504000@crosstownarts.org
SUMMARY:Opening Reception: BLUE
DESCRIPTION:On view through July 28 \nOpening reception for a regional quilt challenge in conjunction with Stitched: The Art of Quilting. The BLUE challenge features over 230 quilts in blue made by quilters and artists from the Mid-South. \nArtists were asked to design traditional\, modern or art-focused quilts. These range from appliquéd\, pieced\, collaged\, fused\, engineered\, hand- or machine-stitched\, 3-D\, painted\, sculpted\, and any variation in between. The only thing they have in common: 3 layers and stitching. \nThis event is in conjunction with Stitched: Celebrating the Art of Quilting — a festival at Crosstown Arts with art exhibitions\, public quilting workshops\, and a Gathering of the Guilds showcase. Stitched runs from May 10-July 28\, 2019.
URL:https://crosstownarts.org/calendar/opening-reception-blue/
LOCATION:Crosstown Arts\, East Gallery\, Crosstown Concourse\, 1350 Concourse Ave.\, Memphis\, TN\, 38104\, United States
CATEGORIES:East Gallery
ATTACH;FMTTYPE=image/jpeg:https://crosstownarts.org/wp-content/uploads/2019/02/BLUE_Calendar-1.jpg
GEO:35.1521433;-90.0155942
X-APPLE-STRUCTURED-LOCATION;VALUE=URI;X-ADDRESS=Crosstown Arts East Gallery Crosstown Concourse 1350 Concourse Ave. Memphis TN 38104 United States;X-APPLE-RADIUS=500;X-TITLE=1350 Concourse Ave.:geo:-90.0155942,35.1521433
END:VEVENT
BEGIN:VEVENT
DTSTART;TZID=America/Chicago:20190215T120000
DTEND;TZID=America/Chicago:20190215T140000
DTSTAMP:20260423T061702
CREATED:20190130T195356Z
LAST-MODIFIED:20190204T164949Z
UID:10003503-1550232000-1550239200@crosstownarts.org
SUMMARY:Opening Reception for Recent Acquisitions: Friends of the Brooks Museum of Art
DESCRIPTION:Opening reception for a group exhibition curated by Lester Merriweather. \nFeaturing work by:\nRadcliffe Bailey\nKevin Beasley\nSanford Biggers\nTorkwase Dyson\nLawrence Mathews lll\nLester Merriweather\nCarl Moore\nEbony Patterson\nSheila Pree Bright\nErnest Withers
URL:https://crosstownarts.org/calendar/opening-reception-for-recent-acquisitions-friends-of-the-brooks-museum-of-art/
LOCATION:Crosstown Arts\, East Gallery\, Crosstown Concourse\, 1350 Concourse Ave.\, Memphis\, TN\, 38104\, United States
CATEGORIES:East Gallery,Gallery
ATTACH;FMTTYPE=image/jpeg:https://crosstownarts.org/wp-content/uploads/2019/01/1960Now-Lester-group-show.jpg
GEO:35.1521433;-90.0155942
X-APPLE-STRUCTURED-LOCATION;VALUE=URI;X-ADDRESS=Crosstown Arts East Gallery Crosstown Concourse 1350 Concourse Ave. Memphis TN 38104 United States;X-APPLE-RADIUS=500;X-TITLE=1350 Concourse Ave.:geo:-90.0155942,35.1521433
END:VEVENT
BEGIN:VEVENT
DTSTART;VALUE=DATE:20190215
DTEND;VALUE=DATE:20190311
DTSTAMP:20260423T061702
CREATED:20190130T195216Z
LAST-MODIFIED:20190226T202702Z
UID:10003502-1550188800-1552262399@crosstownarts.org
SUMMARY:Recent Acquisitions: Friends of the Brooks Museum of Art
DESCRIPTION:Group exhibition curated by Lester Merriweather. \nFeaturing work by:\nRadcliffe Bailey\nTorkwase Dyson\nKevin Beasley\nSanford Biggers\nTorkwase Dyson\nLawrence Mathews lll\nLester Merriweather\nCarl Moore\nEbony Patterson\nSheila Pree Bright\nErnest Withers
URL:https://crosstownarts.org/calendar/recent-acquisitions-friends-of-the-brooks-museum-of-art/
LOCATION:Crosstown Arts\, East Gallery\, Crosstown Concourse\, 1350 Concourse Ave.\, Memphis\, TN\, 38104\, United States
CATEGORIES:East Gallery,Gallery
ATTACH;FMTTYPE=image/jpeg:https://crosstownarts.org/wp-content/uploads/2019/01/1960Now-Lester-group-show.jpg
GEO:35.1521433;-90.0155942
X-APPLE-STRUCTURED-LOCATION;VALUE=URI;X-ADDRESS=Crosstown Arts East Gallery Crosstown Concourse 1350 Concourse Ave. Memphis TN 38104 United States;X-APPLE-RADIUS=500;X-TITLE=1350 Concourse Ave.:geo:-90.0155942,35.1521433
END:VEVENT
BEGIN:VEVENT
DTSTART;TZID=America/Chicago:20190126T073000
DTEND;TZID=America/Chicago:20190126T083000
DTSTAMP:20260423T061702
CREATED:20190122T213437Z
LAST-MODIFIED:20190122T213437Z
UID:10002916-1548487800-1548491400@crosstownarts.org
SUMMARY:Brick Fiction Artist Talk
DESCRIPTION:Artist Carrie Rubinstein will discuss her work on view in her solo exhibition\, Brick Fiction\, which runs through January 27. \nArtist Statement:\nInfluenced by the abundant brick and plaster walls of the Crosstown Concourse building in which it was conceived\, Brick Fiction consists of two freestanding wooden structures that are covered in drawings that mimic those surfaces. The walls of Crosstown Concourse reveal layers of sandblasted paint\, plaster\, brick\, and concrete from the previous century. The beauty of this raw surface inspires my sensibilities as an artist because it sparks my curiosity about the prior occupants of this place. \nBoth structures stand at 10 x 9 x 8’ tall and contain full-size doors and two windows. The viewer is invited to experience the work from its interior and perimeter. One structure features hand-drawn individual bricks for its entire exterior. Even though each structure is nine feet tall\, the overlapping placement of each interior drawing of plaster walls produces an unexpected intimacy. Other objects made entirely from hand-drawn and folded sheet paper include a ceiling that resembles wooden planks\, an electrical outlet\, and a three-dimensional fuse box with bolts and wire housing. \nRubinstein is motivated by the dichotomy of building representational space out of non-traditional construction materials. This natural tension drives her practice and she continually seeks to give it structure. Brick Fiction celebrates the renewal of an old space and its objects complement the revitalized edifice from which they are inspired. \n\nBrick Fiction is inspired by the raw beauty found in the walls of Crosstown Concourse\nAside from the wooden framework\, the objects are all hollow constructed sheet paper.\nUsing paper to represent solid construction materials is a driving force for the artist.
URL:https://crosstownarts.org/calendar/brick-fiction-artist-talk/
LOCATION:Crosstown Arts\, East Gallery\, Crosstown Concourse\, 1350 Concourse Ave.\, Memphis\, TN\, 38104\, United States
CATEGORIES:East Gallery
ATTACH;FMTTYPE=image/jpeg:https://crosstownarts.org/wp-content/uploads/2018/12/04_BrickFiction0880.jpg
GEO:35.1521433;-90.0155942
X-APPLE-STRUCTURED-LOCATION;VALUE=URI;X-ADDRESS=Crosstown Arts East Gallery Crosstown Concourse 1350 Concourse Ave. Memphis TN 38104 United States;X-APPLE-RADIUS=500;X-TITLE=1350 Concourse Ave.:geo:-90.0155942,35.1521433
END:VEVENT
END:VCALENDAR